BEGIN:VCALENDAR
VERSION:2.0
PRODID:-//LCA  - ECPv6.15.20//NONSGML v1.0//EN
CALSCALE:GREGORIAN
METHOD:PUBLISH
X-ORIGINAL-URL:https://www.lcaviagens.com.br
X-WR-CALDESC:Eventos para LCA 
REFRESH-INTERVAL;VALUE=DURATION:PT1H
X-Robots-Tag:noindex
X-PUBLISHED-TTL:PT1H
BEGIN:VTIMEZONE
TZID:UTC
BEGIN:STANDARD
TZOFFSETFROM:+0000
TZOFFSETTO:+0000
TZNAME:UTC
DTSTART:20250101T000000
END:STANDARD
END:VTIMEZONE
BEGIN:VEVENT
DTSTART;TZID=UTC:20260423T000000
DTEND;TZID=UTC:20260426T000000
DTSTAMP:20260424T123439
CREATED:20260417T155651Z
LAST-MODIFIED:20260422T001434Z
UID:996907-1776902400-1777161600@www.lcaviagens.com.br
SUMMARY:Rodeio da Jagua - Feira Agropecuária da Agricultura Familiar e Artesanato
DESCRIPTION:Agropecuário\, Comercial e Industrial
URL:https://www.lcaviagens.com.br/eventos/rodeio-da-jagua-feira-agropecuaria-da-agricultura-familiar-e-artesanato/
LOCATION:CTG Estância do Retiro\, Jaguaruna\, SC
CATEGORIES:Agropecuário,Comercial e Industrial
END:VEVENT
BEGIN:VEVENT
DTSTART;TZID=UTC:20260423T000000
DTEND;TZID=UTC:20260426T000000
DTSTAMP:20260424T123439
CREATED:20260417T155651Z
LAST-MODIFIED:20260422T001434Z
UID:996908-1776902400-1777161600@www.lcaviagens.com.br
SUMMARY:COPA 2026 - Congresso Paulista de Anestesiologia
DESCRIPTION:Saúde: Tecnologia\, Equipamentos e Pesquisa
URL:https://www.lcaviagens.com.br/eventos/copa-2026-congresso-paulista-de-anestesiologia/
LOCATION:Transamérica Expo Center\, São Paulo\, SP
CATEGORIES:Equipamentos e Pesquisa,Saúde: Tecnologia
END:VEVENT
BEGIN:VEVENT
DTSTART;TZID=UTC:20260423T000000
DTEND;TZID=UTC:20260426T000000
DTSTAMP:20260424T123439
CREATED:20260417T155652Z
LAST-MODIFIED:20260422T001434Z
UID:996909-1776902400-1777161600@www.lcaviagens.com.br
SUMMARY:JASB - Jornada de Anestesiologia do Sudeste Brasileiro
DESCRIPTION:Saúde: Tecnologia\, Equipamentos e Pesquisa
URL:https://www.lcaviagens.com.br/eventos/jasb-jornada-de-anestesiologia-do-sudeste-brasileiro/
LOCATION:Transamérica Expo Center\, São Paulo\, SP
CATEGORIES:Equipamentos e Pesquisa,Saúde: Tecnologia
END:VEVENT
BEGIN:VEVENT
DTSTART;TZID=UTC:20260423T000000
DTEND;TZID=UTC:20260426T000000
DTSTAMP:20260424T123439
CREATED:20260417T155652Z
LAST-MODIFIED:20260422T001434Z
UID:996910-1776902400-1777161600@www.lcaviagens.com.br
SUMMARY:EXPO ITAJUBÁ - Exposição Agropecuária de Itajubá
DESCRIPTION:Agropecuário\, Comercial e Industrial
URL:https://www.lcaviagens.com.br/eventos/expo-itajuba-exposicao-agropecuaria-de-itajuba/
LOCATION:Parque de Exposições Aureliano Chaves\, Itajubá\, MG
CATEGORIES:Agropecuário,Comercial e Industrial
END:VEVENT
BEGIN:VEVENT
DTSTART;TZID=UTC:20260423T000000
DTEND;TZID=UTC:20260426T000000
DTSTAMP:20260424T123439
CREATED:20260417T155706Z
LAST-MODIFIED:20260422T001449Z
UID:996911-1776902400-1777161600@www.lcaviagens.com.br
SUMMARY:Congresso de Fisioterapia Neonatal e Pediátrica
DESCRIPTION:Saúde: Tecnologia\, Equipamentos e Pesquisa
URL:https://www.lcaviagens.com.br/eventos/congresso-de-fisioterapia-neonatal-e-pediatrica/
LOCATION:Mar Hotel Conventions\, Recife\, PE
CATEGORIES:Equipamentos e Pesquisa,Saúde: Tecnologia
END:VEVENT
BEGIN:VEVENT
DTSTART;TZID=UTC:20260423T000000
DTEND;TZID=UTC:20260426T000000
DTSTAMP:20260424T123440
CREATED:20260417T161209Z
LAST-MODIFIED:20260422T003004Z
UID:997212-1776902400-1777161600@www.lcaviagens.com.br
SUMMARY:MARA CAKES FAIR 2026 - Feira Internacional de Confeitaria (São Paulo)
DESCRIPTION:Alimentos e Bebidas
URL:https://www.lcaviagens.com.br/eventos/mara-cakes-fair-2026-feira-internacional-de-confeitaria-sao-paulo/
LOCATION:São Paulo Expo Exhibition & Convention Center\, São Paulo\, SP
CATEGORIES:Alimentos e Bebidas
END:VEVENT
BEGIN:VEVENT
DTSTART;TZID=UTC:20260424T000000
DTEND;TZID=UTC:20260425T000000
DTSTAMP:20260424T123440
CREATED:20260417T155736Z
LAST-MODIFIED:20260422T001520Z
UID:996924-1776988800-1777075200@www.lcaviagens.com.br
SUMMARY:RD Breast Cancer Symposium
DESCRIPTION:Saúde: Tecnologia\, Equipamentos e Pesquisa
URL:https://www.lcaviagens.com.br/eventos/rd-breast-cancer-symposium/
LOCATION:Hotel Intercontinental\, São Paulo\, SP
CATEGORIES:Equipamentos e Pesquisa,Saúde: Tecnologia
END:VEVENT
BEGIN:VEVENT
DTSTART;TZID=UTC:20260424T000000
DTEND;TZID=UTC:20260425T000000
DTSTAMP:20260424T123440
CREATED:20260417T155737Z
LAST-MODIFIED:20260422T001520Z
UID:996925-1776988800-1777075200@www.lcaviagens.com.br
SUMMARY:DEB26 - Digital Experience Brasil 2026
DESCRIPTION:Empreendedorismo\, Negócios e Franquias
URL:https://www.lcaviagens.com.br/eventos/deb26-digital-experience-brasil-2026/
LOCATION:Centro de Eventos Pro Magno\, São Paulo\, SP
CATEGORIES:Empreendedorismo,Negócios e Franquias
END:VEVENT
BEGIN:VEVENT
DTSTART;TZID=UTC:20260424T000000
DTEND;TZID=UTC:20260426T000000
DTSTAMP:20260424T123440
CREATED:20260417T155721Z
LAST-MODIFIED:20260422T001504Z
UID:996916-1776988800-1777161600@www.lcaviagens.com.br
SUMMARY:ASFSA 2026 - Arnold Sports Festival South America (Arnold South America)
DESCRIPTION:Lazer\, Hobby e Esportes
URL:https://www.lcaviagens.com.br/eventos/asfsa-2026-arnold-sports-festival-south-america-arnold-south-america/
LOCATION:Expo Center Norte\, São Paulo\, SP
CATEGORIES:Hobby e Esportes,Lazer
END:VEVENT
BEGIN:VEVENT
DTSTART;TZID=UTC:20260424T000000
DTEND;TZID=UTC:20260426T000000
DTSTAMP:20260424T123440
CREATED:20260417T155722Z
LAST-MODIFIED:20260422T001504Z
UID:996917-1776988800-1777161600@www.lcaviagens.com.br
SUMMARY:Expo Verde & Flor - Feira de Flores de Holambra (Buritis)
DESCRIPTION:Agropecuário\, Comercial e Industrial
URL:https://www.lcaviagens.com.br/eventos/expo-verde-flor-feira-de-flores-de-holambra-buritis/
LOCATION:Praça Jonas Ferre\, Buritis\, RO
CATEGORIES:Agropecuário,Comercial e Industrial
END:VEVENT
BEGIN:VEVENT
DTSTART;TZID=UTC:20260424T000000
DTEND;TZID=UTC:20260426T000000
DTSTAMP:20260424T123440
CREATED:20260417T155722Z
LAST-MODIFIED:20260422T001504Z
UID:996918-1776988800-1777161600@www.lcaviagens.com.br
SUMMARY:Feira da Franquia (Porto Alegre)
DESCRIPTION:Empreendedorismo\, Negócios e Franquias
URL:https://www.lcaviagens.com.br/eventos/feira-da-franquia-porto-alegre/
LOCATION:Centro de Eventos BarraShoppingSul (Barra Shopping Sul)\, Porto Alegre\, RS
CATEGORIES:Empreendedorismo,Negócios e Franquias
END:VEVENT
BEGIN:VEVENT
DTSTART;TZID=UTC:20260424T000000
DTEND;TZID=UTC:20260426T000000
DTSTAMP:20260424T123440
CREATED:20260417T155722Z
LAST-MODIFIED:20260422T001504Z
UID:996919-1776988800-1777161600@www.lcaviagens.com.br
SUMMARY:MBM InovaHack Salvador x
DESCRIPTION:Empreendedorismo\, Negócios e Franquias
URL:https://www.lcaviagens.com.br/eventos/mbm-inovahack-salvador-x/
LOCATION:Hub Salvador\, Salvador\, BA
CATEGORIES:Empreendedorismo,Negócios e Franquias
END:VEVENT
BEGIN:VEVENT
DTSTART;TZID=UTC:20260424T000000
DTEND;TZID=UTC:20260426T000000
DTSTAMP:20260424T123440
CREATED:20260417T155722Z
LAST-MODIFIED:20260422T001504Z
UID:996920-1776988800-1777161600@www.lcaviagens.com.br
SUMMARY:NPC Worldwide Musclecontest (Arnold Amateur South America)
DESCRIPTION:Lazer\, Hobby e Esportes
URL:https://www.lcaviagens.com.br/eventos/npc-worldwide-musclecontest-arnold-amateur-south-america/
LOCATION:Expo Center Norte\, São Paulo\, SP
CATEGORIES:Hobby e Esportes,Lazer
END:VEVENT
BEGIN:VEVENT
DTSTART;TZID=UTC:20260424T000000
DTEND;TZID=UTC:20260503T000000
DTSTAMP:20260424T123440
CREATED:20260417T155736Z
LAST-MODIFIED:20260422T001520Z
UID:996922-1776988800-1777766400@www.lcaviagens.com.br
SUMMARY:FACILPA 2026 - Feira Agropecuária Comercial e Industrial de Lençóis Paulista
DESCRIPTION:Agropecuário\, Comercial e Industrial
URL:https://www.lcaviagens.com.br/eventos/facilpa-2026-feira-agropecuaria-comercial-e-industrial-de-lencois-paulista/
LOCATION:Recinto de Exposições José Oliveira Prado\, Lençóis Paulista\, SP
CATEGORIES:Agropecuário,Comercial e Industrial
END:VEVENT
BEGIN:VEVENT
DTSTART;TZID=UTC:20260424T000000
DTEND;TZID=UTC:20260627T000000
DTSTAMP:20260424T123440
CREATED:20260417T155736Z
LAST-MODIFIED:20260422T001520Z
UID:996923-1776988800-1782518400@www.lcaviagens.com.br
SUMMARY:São João de Caruaru 2026
DESCRIPTION:Feiras Multisetoriais
URL:https://www.lcaviagens.com.br/eventos/sao-joao-de-caruaru-2026/
LOCATION:Pátio de Eventos Luiz Gonzaga\, Caruaru\, PE
CATEGORIES:Feiras Multisetoriais
END:VEVENT
BEGIN:VEVENT
DTSTART;TZID=UTC:20260425T000000
DTEND;TZID=UTC:20260425T000000
DTSTAMP:20260424T123440
CREATED:20260417T155751Z
LAST-MODIFIED:20260422T001534Z
UID:996928-1777075200-1777075200@www.lcaviagens.com.br
SUMMARY:Meeting Corporativo & Lazer (Meetings Corporativos) (Recife)
DESCRIPTION:Turismo\, Hotéis\, Bares e Restaurantes
URL:https://www.lcaviagens.com.br/eventos/meeting-corporativo-lazer-meetings-corporativos-recife/
LOCATION:Recife\, Recife\, PE
CATEGORIES:Bares e Restaurantes,Hotéis,Turismo
END:VEVENT
BEGIN:VEVENT
DTSTART;TZID=UTC:20260425T000000
DTEND;TZID=UTC:20260425T000000
DTSTAMP:20260424T123440
CREATED:20260417T155751Z
LAST-MODIFIED:20260422T001534Z
UID:996929-1777075200-1777075200@www.lcaviagens.com.br
SUMMARY:Churrasco On Fire (Cianorte)
DESCRIPTION:Alimentos e Bebidas
URL:https://www.lcaviagens.com.br/eventos/churrasco-on-fire-cianorte/
LOCATION:Arena Brasil Eventos\, Cianorte\, PR
CATEGORIES:Alimentos e Bebidas
END:VEVENT
BEGIN:VEVENT
DTSTART;TZID=UTC:20260425T000000
DTEND;TZID=UTC:20260425T000000
DTSTAMP:20260424T123440
CREATED:20260417T155751Z
LAST-MODIFIED:20260422T001534Z
UID:996930-1777075200-1777075200@www.lcaviagens.com.br
SUMMARY:Paleta Atlântida 2026 (Porto Alegre)
DESCRIPTION:Alimentos e Bebidas
URL:https://www.lcaviagens.com.br/eventos/paleta-atlantida-2026-porto-alegre/
LOCATION:Cais Mauá\, Porto Alegre\, RS
CATEGORIES:Alimentos e Bebidas
END:VEVENT
BEGIN:VEVENT
DTSTART;TZID=UTC:20260425T000000
DTEND;TZID=UTC:20260425T000000
DTSTAMP:20260424T123440
CREATED:20260418T024348Z
LAST-MODIFIED:20260422T001604Z
UID:1000678-1777075200-1777075200@www.lcaviagens.com.br
SUMMARY:Somos Rock Festival 2026 (São Paulo)
DESCRIPTION:Radio\,TV\, Música\, Cine\, Foto\, Imagem e Som
URL:https://www.lcaviagens.com.br/eventos/somos-rock-festival-2026-sao-paulo/
LOCATION:Sambódromo do Anhembi\, São Paulo\, SP
CATEGORIES:Cine,Foto,Imagem e Som,Música,Radio,TV
END:VEVENT
BEGIN:VEVENT
DTSTART;TZID=UTC:20260425T000000
DTEND;TZID=UTC:20260426T000000
DTSTAMP:20260424T123440
CREATED:20260417T155806Z
LAST-MODIFIED:20260422T001550Z
UID:996934-1777075200-1777161600@www.lcaviagens.com.br
SUMMARY:BANGERS OPEN AIR (Antigo: Summer Breeze Brasil)
DESCRIPTION:Radio\,TV\, Música\, Cine\, Foto\, Imagem e Som
URL:https://www.lcaviagens.com.br/eventos/bangers-open-air-antigo-summer-breeze-brasil/
LOCATION:Memorial da América Latina\, São Paulo\, SP
CATEGORIES:Cine,Foto,Imagem e Som,Música,Radio,TV
END:VEVENT
BEGIN:VEVENT
DTSTART;TZID=UTC:20260425T000000
DTEND;TZID=UTC:20260426T000000
DTSTAMP:20260424T123440
CREATED:20260417T155807Z
LAST-MODIFIED:20260422T001550Z
UID:996935-1777075200-1777161600@www.lcaviagens.com.br
SUMMARY:Gran Bazar (Casa da Frontaria Azulejada) (Abril)
DESCRIPTION:Feiras Multisetoriais
URL:https://www.lcaviagens.com.br/eventos/gran-bazar-casa-da-frontaria-azulejada-abril/
LOCATION:Casa da Frontaria Azulejada\, Santos\, SP
CATEGORIES:Feiras Multisetoriais
END:VEVENT
BEGIN:VEVENT
DTSTART;TZID=UTC:20260425T000000
DTEND;TZID=UTC:20260427T000000
DTSTAMP:20260424T123440
CREATED:20260417T155751Z
LAST-MODIFIED:20260422T001533Z
UID:996926-1777075200-1777248000@www.lcaviagens.com.br
SUMMARY:Feira Ópera (Abril)
DESCRIPTION:Moda Gestante\, Bebê e Criança
URL:https://www.lcaviagens.com.br/eventos/feira-opera-abril/
LOCATION:Pro Magno Centro de Eventos\, São Paulo\, SP
CATEGORIES:Bebê e Criança,Moda Gestante
END:VEVENT
BEGIN:VEVENT
DTSTART;TZID=UTC:20260425T000000
DTEND;TZID=UTC:20260428T000000
DTSTAMP:20260424T123440
CREATED:20260417T155751Z
LAST-MODIFIED:20260422T001534Z
UID:996927-1777075200-1777334400@www.lcaviagens.com.br
SUMMARY:Contemporâneo Showroom (Contemporaneo Showroom) (Contemporâneo FW)
DESCRIPTION:Setores Têxtil e Têxtil Confeccionista
URL:https://www.lcaviagens.com.br/eventos/contemporaneo-showroom-contemporaneo-showroom-contemporaneo-fw/
LOCATION:Pavilhão da Bienal – Pavilhão Ciccillo Matarazzo\, São Paulo\, SP
CATEGORIES:Setores Têxtil e Têxtil Confeccionista
END:VEVENT
BEGIN:VEVENT
DTSTART;TZID=UTC:20260425T000000
DTEND;TZID=UTC:20260503T000000
DTSTAMP:20260424T123440
CREATED:20260417T155806Z
LAST-MODIFIED:20260422T001550Z
UID:996933-1777075200-1777766400@www.lcaviagens.com.br
SUMMARY:Rio Boat Show 2026
DESCRIPTION:Setores Automotivo e Nautico
URL:https://www.lcaviagens.com.br/eventos/rio-boat-show-2026/
LOCATION:Marina da Glória\, Rio de Janeiro\, RJ
CATEGORIES:Setores Automotivo e Nautico
END:VEVENT
BEGIN:VEVENT
DTSTART;TZID=UTC:20260425T000000
DTEND;TZID=UTC:20260503T000000
DTSTAMP:20260424T123440
CREATED:20260417T155806Z
LAST-MODIFIED:20260422T001549Z
UID:996931-1777075200-1777766400@www.lcaviagens.com.br
SUMMARY:ExpoZebu 2026 (Expo Zebu)
DESCRIPTION:Agropecuário\, Comercial e Industrial
URL:https://www.lcaviagens.com.br/eventos/expozebu-2026-expo-zebu/
LOCATION:Parque Fernando Costa\, Uberaba\, MG
CATEGORIES:Agropecuário,Comercial e Industrial
END:VEVENT
BEGIN:VEVENT
DTSTART;TZID=UTC:20260425T000000
DTEND;TZID=UTC:20260503T000000
DTSTAMP:20260424T123440
CREATED:20260417T155806Z
LAST-MODIFIED:20260422T001550Z
UID:996932-1777075200-1777766400@www.lcaviagens.com.br
SUMMARY:FNLPC & FLIPOÇOS - Feira Nacional do Livro de Poços de Caldas e Festival Literário de Poços de Caldas
DESCRIPTION:Cultura e Educação
URL:https://www.lcaviagens.com.br/eventos/fnlpc-flipocos-feira-nacional-do-livro-de-pocos-de-caldas-e-festival-literario-de-pocos-de-caldas/
LOCATION:Parque José Affonso Junqueira\, Poços de Caldas\, MG
CATEGORIES:Cultura e Educação
END:VEVENT
BEGIN:VEVENT
DTSTART;TZID=UTC:20260426T000000
DTEND;TZID=UTC:20260426T000000
DTSTAMP:20260424T123440
CREATED:20260417T155821Z
LAST-MODIFIED:20260422T001604Z
UID:996939-1777161600-1777161600@www.lcaviagens.com.br
SUMMARY:Live! Run XP (Gramado)
DESCRIPTION:Lazer\, Hobby e Esportes
URL:https://www.lcaviagens.com.br/eventos/live-run-xp-gramado/
LOCATION:Gramado\, Gramado\, RS
CATEGORIES:Hobby e Esportes,Lazer
END:VEVENT
BEGIN:VEVENT
DTSTART;TZID=UTC:20260426T000000
DTEND;TZID=UTC:20260426T000000
DTSTAMP:20260424T123440
CREATED:20260417T155821Z
LAST-MODIFIED:20260422T001604Z
UID:996940-1777161600-1777161600@www.lcaviagens.com.br
SUMMARY:Somos Rock Festival 2026 (Curitiba)
DESCRIPTION:Radio\,TV\, Música\, Cine\, Foto\, Imagem e Som
URL:https://www.lcaviagens.com.br/eventos/somos-rock-festival-2026-curitiba/
LOCATION:ExpoTrade Convention Center\, Pinhais\, PR
CATEGORIES:Cine,Foto,Imagem e Som,Música,Radio,TV
END:VEVENT
BEGIN:VEVENT
DTSTART;TZID=UTC:20260426T000000
DTEND;TZID=UTC:20260426T000000
DTSTAMP:20260424T123440
CREATED:20260417T155835Z
LAST-MODIFIED:20260422T001619Z
UID:996941-1777161600-1777161600@www.lcaviagens.com.br
SUMMARY:Live! Run XP (Palmas)
DESCRIPTION:Lazer\, Hobby e Esportes
URL:https://www.lcaviagens.com.br/eventos/live-run-xp-palmas/
LOCATION:Palmas\, Palmas\, TO
CATEGORIES:Hobby e Esportes,Lazer
END:VEVENT
BEGIN:VEVENT
DTSTART;TZID=UTC:20260426T000000
DTEND;TZID=UTC:20260426T000000
DTSTAMP:20260424T123440
CREATED:20260417T155835Z
LAST-MODIFIED:20260422T001619Z
UID:996942-1777161600-1777161600@www.lcaviagens.com.br
SUMMARY:Live! Run XP (Campo Grande)
DESCRIPTION:Lazer\, Hobby e Esportes
URL:https://www.lcaviagens.com.br/eventos/live-run-xp-campo-grande/
LOCATION:Campo Grande\, Campo Grande\, MS
CATEGORIES:Hobby e Esportes,Lazer
END:VEVENT
END:VCALENDAR