BEGIN:VCALENDAR
VERSION:2.0
PRODID:-//LCA  - ECPv6.15.20//NONSGML v1.0//EN
CALSCALE:GREGORIAN
METHOD:PUBLISH
X-WR-CALNAME:LCA 
X-ORIGINAL-URL:https://www.lcaviagens.com.br
X-WR-CALDESC:Eventos para LCA 
REFRESH-INTERVAL;VALUE=DURATION:PT1H
X-Robots-Tag:noindex
X-PUBLISHED-TTL:PT1H
BEGIN:VTIMEZONE
TZID:UTC
BEGIN:STANDARD
TZOFFSETFROM:+0000
TZOFFSETTO:+0000
TZNAME:UTC
DTSTART:20250101T000000
END:STANDARD
END:VTIMEZONE
BEGIN:VEVENT
DTSTART;TZID=UTC:20260414T000000
DTEND;TZID=UTC:20260414T000000
DTSTAMP:20260424T212427
CREATED:20260417T155252Z
LAST-MODIFIED:20260422T001034Z
UID:996828-1776124800-1776124800@www.lcaviagens.com.br
SUMMARY:4CIO MG (Belo Horizonte)
DESCRIPTION:Informática\, Telecomunicações e TI
URL:https://www.lcaviagens.com.br/eventos/4cio-mg-belo-horizonte/
LOCATION:Belo Horizonte\, Belo Horizonte\, GO
CATEGORIES:Informática,Telecomunicações e TI
END:VEVENT
BEGIN:VEVENT
DTSTART;TZID=UTC:20260414T000000
DTEND;TZID=UTC:20260414T000000
DTSTAMP:20260424T212427
CREATED:20260417T155252Z
LAST-MODIFIED:20260422T001034Z
UID:996829-1776124800-1776124800@www.lcaviagens.com.br
SUMMARY:Brazil Promotion Day SP
DESCRIPTION:Utilidades do Lar\, Presentes\, Brindes e Brinquedos
URL:https://www.lcaviagens.com.br/eventos/brazil-promotion-day-sp/
LOCATION:Centro de Convenções Rebouças\, São Paulo\, SP
CATEGORIES:Brindes e Brinquedos,Presentes,Utilidades do Lar
END:VEVENT
BEGIN:VEVENT
DTSTART;TZID=UTC:20260414T000000
DTEND;TZID=UTC:20260414T000000
DTSTAMP:20260424T212427
CREATED:20260417T155252Z
LAST-MODIFIED:20260422T001034Z
UID:996830-1776124800-1776124800@www.lcaviagens.com.br
SUMMARY:WOW Summit 2026
DESCRIPTION:Gestão Empresarial e Recursos Humanos
URL:https://www.lcaviagens.com.br/eventos/wow-summit-2026/
LOCATION:Espaço Adalpha\, Barueri\, SP
CATEGORIES:Gestão Empresarial e Recursos Humanos
END:VEVENT
BEGIN:VEVENT
DTSTART;TZID=UTC:20260414T000000
DTEND;TZID=UTC:20260414T000000
DTSTAMP:20260424T212427
CREATED:20260417T155251Z
LAST-MODIFIED:20260422T001034Z
UID:996827-1776124800-1776124800@www.lcaviagens.com.br
SUMMARY:BFD 2026 - Brasil Fashion Designers (Pernambuco)
DESCRIPTION:Setores Têxtil e Têxtil Confeccionista
URL:https://www.lcaviagens.com.br/eventos/bfd-2026-brasil-fashion-designers-pernambuco/
LOCATION:Pólo Comercial de Caruaru\, Caruaru\, PE
CATEGORIES:Setores Têxtil e Têxtil Confeccionista
END:VEVENT
BEGIN:VEVENT
DTSTART;TZID=UTC:20260413T000000
DTEND;TZID=UTC:20260416T000000
DTSTAMP:20260424T212427
CREATED:20260417T155151Z
LAST-MODIFIED:20260422T000934Z
UID:996806-1776038400-1776297600@www.lcaviagens.com.br
SUMMARY:FENICAFÉ - Feira Nacional de Irrigação em Cafeicultura (Fenicafé Araguari)
DESCRIPTION:Agropecuário\, Comercial e Industrial
URL:https://www.lcaviagens.com.br/eventos/fenicafe-feira-nacional-de-irrigacao-em-cafeicultura-fenicafe-araguari/
LOCATION:Parque de Exposições Ministro Rondon Pacheco\, Araguari\, MG
CATEGORIES:Agropecuário,Comercial e Industrial
END:VEVENT
BEGIN:VEVENT
DTSTART;TZID=UTC:20260413T000000
DTEND;TZID=UTC:20260414T000000
DTSTAMP:20260424T212427
CREATED:20260417T155152Z
LAST-MODIFIED:20260422T000934Z
UID:996808-1776038400-1776124800@www.lcaviagens.com.br
SUMMARY:HBR Summit Brasil 2026: Healthcare Management
DESCRIPTION:Saúde: Tecnologia\, Equipamentos e Pesquisa
URL:https://www.lcaviagens.com.br/eventos/hbr-summit-brasil-2026-healthcare-management/
LOCATION:Theatro Municipal\, São Paulo\, SP
CATEGORIES:Equipamentos e Pesquisa,Saúde: Tecnologia
END:VEVENT
BEGIN:VEVENT
DTSTART;TZID=UTC:20260413T000000
DTEND;TZID=UTC:20260413T000000
DTSTAMP:20260424T212427
CREATED:20260417T155152Z
LAST-MODIFIED:20260422T000934Z
UID:996807-1776038400-1776038400@www.lcaviagens.com.br
SUMMARY:Moatrigo 2026
DESCRIPTION:Alimentos e Bebidas
URL:https://www.lcaviagens.com.br/eventos/moatrigo-2026/
LOCATION:Centro de Eventos da FIEP\, Curitiba\, PR
CATEGORIES:Alimentos e Bebidas
END:VEVENT
BEGIN:VEVENT
DTSTART;TZID=UTC:20260412T000000
DTEND;TZID=UTC:20260417T000000
DTSTAMP:20260424T212427
CREATED:20260418T023649Z
LAST-MODIFIED:20260422T000920Z
UID:1000547-1775952000-1776384000@www.lcaviagens.com.br
SUMMARY:Semana de Capacitação Online (Junho)
DESCRIPTION:Informática\, Telecomunicações e TI
URL:https://www.lcaviagens.com.br/eventos/semana-de-capacitacao-online-junho/
LOCATION:Online\, São Paulo\, SP
CATEGORIES:Informática,Telecomunicações e TI
END:VEVENT
BEGIN:VEVENT
DTSTART;TZID=UTC:20260412T000000
DTEND;TZID=UTC:20260414T000000
DTSTAMP:20260424T212427
CREATED:20260417T155136Z
LAST-MODIFIED:20260422T000919Z
UID:996803-1775952000-1776124800@www.lcaviagens.com.br
SUMMARY:Hair Summit by Beauty Fair
DESCRIPTION:Produtos de Uso Pessoal\, Beleza e Estética
URL:https://www.lcaviagens.com.br/eventos/hair-summit-by-beauty-fair/
LOCATION:Expo Center Norte\, São Paulo\, SP
CATEGORIES:Beleza e Estética,Produtos de Uso Pessoal
END:VEVENT
BEGIN:VEVENT
DTSTART;TZID=UTC:20260412T000000
DTEND;TZID=UTC:20260412T000000
DTSTAMP:20260424T212427
CREATED:20260417T155136Z
LAST-MODIFIED:20260422T000920Z
UID:996804-1775952000-1775952000@www.lcaviagens.com.br
SUMMARY:Live! Run XP (Rio Branco)
DESCRIPTION:Lazer\, Hobby e Esportes
URL:https://www.lcaviagens.com.br/eventos/live-run-xp-rio-branco/
LOCATION:Rio Branco\, Rio Branco\, AC
CATEGORIES:Hobby e Esportes,Lazer
END:VEVENT
BEGIN:VEVENT
DTSTART;TZID=UTC:20260411T000000
DTEND;TZID=UTC:20260413T000000
DTSTAMP:20260424T212427
CREATED:20260417T155106Z
LAST-MODIFIED:20260422T000849Z
UID:996794-1775865600-1776038400@www.lcaviagens.com.br
SUMMARY:Feira Estética in São Paulo
DESCRIPTION:Produtos de Uso Pessoal\, Beleza e Estética
URL:https://www.lcaviagens.com.br/eventos/feira-estetica-in-sao-paulo/
LOCATION:Distrito Anhembi\, São Paulo\, SP
CATEGORIES:Beleza e Estética,Produtos de Uso Pessoal
END:VEVENT
BEGIN:VEVENT
DTSTART;TZID=UTC:20260411T000000
DTEND;TZID=UTC:20260412T000000
DTSTAMP:20260424T212427
CREATED:20260417T155135Z
LAST-MODIFIED:20260422T000919Z
UID:996801-1775865600-1775952000@www.lcaviagens.com.br
SUMMARY:Feira Brooklin Taste (Abril)
DESCRIPTION:Alimentos e Bebidas
URL:https://www.lcaviagens.com.br/eventos/feira-brooklin-taste-abril/
LOCATION:Praça Lions Monções\, São Paulo\, SP
CATEGORIES:Alimentos e Bebidas
END:VEVENT
BEGIN:VEVENT
DTSTART;TZID=UTC:20260411T000000
DTEND;TZID=UTC:20260412T000000
DTSTAMP:20260424T212427
CREATED:20260417T155135Z
LAST-MODIFIED:20260422T000919Z
UID:996802-1775865600-1775952000@www.lcaviagens.com.br
SUMMARY:Mercado Místico - Feira Mística (Campinas)
DESCRIPTION:Outros Segmentos
URL:https://www.lcaviagens.com.br/eventos/mercado-mistico-feira-mistica-campinas/
LOCATION:Estação Cultura\, Campinas\, SP
CATEGORIES:Outros Segmentos
END:VEVENT
BEGIN:VEVENT
DTSTART;TZID=UTC:20260411T000000
DTEND;TZID=UTC:20260412T000000
DTSTAMP:20260424T212427
CREATED:20260417T155121Z
LAST-MODIFIED:20260422T000905Z
UID:996800-1775865600-1775952000@www.lcaviagens.com.br
SUMMARY:Maratona Internacional de São Paulo
DESCRIPTION:Lazer\, Hobby e Esportes
URL:https://www.lcaviagens.com.br/eventos/maratona-internacional-de-sao-paulo/
LOCATION:São Paulo\, São Paulo\, SP
CATEGORIES:Hobby e Esportes,Lazer
END:VEVENT
BEGIN:VEVENT
DTSTART;TZID=UTC:20260411T000000
DTEND;TZID=UTC:20260411T000000
DTSTAMP:20260424T212427
CREATED:20260417T155121Z
LAST-MODIFIED:20260422T000904Z
UID:996798-1775865600-1775865600@www.lcaviagens.com.br
SUMMARY:NPC Worldwide Musclecontest Bahia
DESCRIPTION:Lazer\, Hobby e Esportes
URL:https://www.lcaviagens.com.br/eventos/npc-worldwide-musclecontest-bahia/
LOCATION:Feira de Santana\, Feira de Santana\, BA
CATEGORIES:Hobby e Esportes,Lazer
END:VEVENT
BEGIN:VEVENT
DTSTART;TZID=UTC:20260411T000000
DTEND;TZID=UTC:20260411T000000
DTSTAMP:20260424T212427
CREATED:20260417T155121Z
LAST-MODIFIED:20260422T000905Z
UID:996799-1775865600-1775865600@www.lcaviagens.com.br
SUMMARY:Churrasco On Fire (Araçatuba)
DESCRIPTION:Alimentos e Bebidas
URL:https://www.lcaviagens.com.br/eventos/churrasco-on-fire-aracatuba/
LOCATION:Speed Park – Kartódromo Internacional\, Araçatuba\, SP
CATEGORIES:Alimentos e Bebidas
END:VEVENT
BEGIN:VEVENT
DTSTART;TZID=UTC:20260411T000000
DTEND;TZID=UTC:20260411T000000
DTSTAMP:20260424T212427
CREATED:20260417T155121Z
LAST-MODIFIED:20260422T000904Z
UID:996796-1775865600-1775865600@www.lcaviagens.com.br
SUMMARY:Expo Atleta - Maratona Internacional de São Paulo
DESCRIPTION:Lazer\, Hobby e Esportes
URL:https://www.lcaviagens.com.br/eventos/expo-atleta-maratona-internacional-de-sao-paulo/
LOCATION:São Paulo\, São Paulo\, SP
CATEGORIES:Hobby e Esportes,Lazer
END:VEVENT
BEGIN:VEVENT
DTSTART;TZID=UTC:20260411T000000
DTEND;TZID=UTC:20260411T000000
DTSTAMP:20260424T212427
CREATED:20260417T155121Z
LAST-MODIFIED:20260422T000904Z
UID:996797-1775865600-1775865600@www.lcaviagens.com.br
SUMMARY:NPC Worldwide Musclecontest Excalibur (Ribeirão Preto)
DESCRIPTION:Lazer\, Hobby e Esportes
URL:https://www.lcaviagens.com.br/eventos/npc-worldwide-musclecontest-excalibur-ribeirao-preto/
LOCATION:Cenacon\, Ribeirão Preto\, SP
CATEGORIES:Hobby e Esportes,Lazer
END:VEVENT
BEGIN:VEVENT
DTSTART;TZID=UTC:20260411T000000
DTEND;TZID=UTC:20260411T000000
DTSTAMP:20260424T212427
CREATED:20260417T155106Z
LAST-MODIFIED:20260422T000849Z
UID:996795-1775865600-1775865600@www.lcaviagens.com.br
SUMMARY:Encontro Assobrafir (Dourados)
DESCRIPTION:Saúde: Tecnologia\, Equipamentos e Pesquisa
URL:https://www.lcaviagens.com.br/eventos/encontro-assobrafir-dourados/
LOCATION:Auditório Hospital Cassems Dourados\, Dourados\, MS
CATEGORIES:Equipamentos e Pesquisa,Saúde: Tecnologia
END:VEVENT
BEGIN:VEVENT
DTSTART;TZID=UTC:20260410T000000
DTEND;TZID=UTC:20260412T000000
DTSTAMP:20260424T212427
CREATED:20260417T155105Z
LAST-MODIFIED:20260422T000848Z
UID:996791-1775779200-1775952000@www.lcaviagens.com.br
SUMMARY:Deutsches Fest de Missal 2026
DESCRIPTION:Feiras Multisetoriais
URL:https://www.lcaviagens.com.br/eventos/deutsches-fest-de-missal-2026/
LOCATION:Centro de Eventos de Missal\, Missal\, PR
CATEGORIES:Feiras Multisetoriais
END:VEVENT
BEGIN:VEVENT
DTSTART;TZID=UTC:20260410T000000
DTEND;TZID=UTC:20260412T000000
DTSTAMP:20260424T212427
CREATED:20260417T155051Z
LAST-MODIFIED:20260422T000834Z
UID:996790-1775779200-1775952000@www.lcaviagens.com.br
SUMMARY:CONSTRU SÃO JOSÉ - Feira da Indústria da Construção do Vale do Paraíba
DESCRIPTION:Construção Civil
URL:https://www.lcaviagens.com.br/eventos/constru-sao-jose-feira-da-industria-da-construcao-do-vale-do-paraiba/
LOCATION:Vale Sul Shopping\, São José dos Campos\, SP
CATEGORIES:Construção Civil
END:VEVENT
BEGIN:VEVENT
DTSTART;TZID=UTC:20260410T000000
DTEND;TZID=UTC:20260412T000000
DTSTAMP:20260424T212427
CREATED:20260417T155050Z
LAST-MODIFIED:20260422T000834Z
UID:996787-1775779200-1775952000@www.lcaviagens.com.br
SUMMARY:Temperô Festival Gastronômico (Gastronomia Litorânea)
DESCRIPTION:Alimentos e Bebidas
URL:https://www.lcaviagens.com.br/eventos/tempero-festival-gastronomico-gastronomia-litoranea/
LOCATION:Praça Sequiscentenário\, Brusque\, SC
CATEGORIES:Alimentos e Bebidas
END:VEVENT
BEGIN:VEVENT
DTSTART;TZID=UTC:20260410T000000
DTEND;TZID=UTC:20260412T000000
DTSTAMP:20260424T212427
CREATED:20260417T155050Z
LAST-MODIFIED:20260422T000834Z
UID:996788-1775779200-1775952000@www.lcaviagens.com.br
SUMMARY:IMAGINELAND (Imagine Land) (Rio de Janeiro)
DESCRIPTION:Lazer\, Hobby e Esportes
URL:https://www.lcaviagens.com.br/eventos/imagineland-imagine-land-rio-de-janeiro/
LOCATION:Riocentro\, Rio de Janeiro\, RJ
CATEGORIES:Hobby e Esportes,Lazer
END:VEVENT
BEGIN:VEVENT
DTSTART;TZID=UTC:20260410T000000
DTEND;TZID=UTC:20260412T000000
DTSTAMP:20260424T212427
CREATED:20260417T155050Z
LAST-MODIFIED:20260422T000834Z
UID:996789-1775779200-1775952000@www.lcaviagens.com.br
SUMMARY:CIMTB - Copa Internacional Michelin de Mountain Bike (Congonhas)
DESCRIPTION:Lazer\, Hobby e Esportes
URL:https://www.lcaviagens.com.br/eventos/cimtb-copa-internacional-michelin-de-mountain-bike-congonhas/
LOCATION:Parque Ecológico da Cachoeira\, Congonhas\, MG
CATEGORIES:Hobby e Esportes,Lazer
END:VEVENT
BEGIN:VEVENT
DTSTART;TZID=UTC:20260410T000000
DTEND;TZID=UTC:20260412T000000
DTSTAMP:20260424T212427
CREATED:20260417T155050Z
LAST-MODIFIED:20260422T000834Z
UID:996786-1775779200-1775952000@www.lcaviagens.com.br
SUMMARY:São Miguel Tchê
DESCRIPTION:Agropecuário\, Comercial e Industrial
URL:https://www.lcaviagens.com.br/eventos/sao-miguel-tche/
LOCATION:Parque de Exposições Rineu Gransotto\, São Miguel do Oeste\, SC
CATEGORIES:Agropecuário,Comercial e Industrial
END:VEVENT
BEGIN:VEVENT
DTSTART;TZID=UTC:20260410T000000
DTEND;TZID=UTC:20260412T000000
DTSTAMP:20260424T212427
CREATED:20260417T155036Z
LAST-MODIFIED:20260422T000819Z
UID:996785-1775779200-1775952000@www.lcaviagens.com.br
SUMMARY:Up Summit 2026
DESCRIPTION:Empreendedorismo\, Negócios e Franquias
URL:https://www.lcaviagens.com.br/eventos/up-summit-2026/
LOCATION:PUC Goiás\, Goiânia\, GO
CATEGORIES:Empreendedorismo,Negócios e Franquias
END:VEVENT
BEGIN:VEVENT
DTSTART;TZID=UTC:20260410T000000
DTEND;TZID=UTC:20260412T000000
DTSTAMP:20260424T212427
CREATED:20260417T155035Z
LAST-MODIFIED:20260422T000819Z
UID:996784-1775779200-1775952000@www.lcaviagens.com.br
SUMMARY:Congresso RCA360 - Congresso de Raciocínio Clínico Avançado
DESCRIPTION:Saúde: Tecnologia\, Equipamentos e Pesquisa
URL:https://www.lcaviagens.com.br/eventos/congresso-rca360-congresso-de-raciocinio-clinico-avancado/
LOCATION:Online\, São Paulo\, SP
CATEGORIES:Equipamentos e Pesquisa,Saúde: Tecnologia
END:VEVENT
BEGIN:VEVENT
DTSTART;TZID=UTC:20260410T000000
DTEND;TZID=UTC:20260411T000000
DTSTAMP:20260424T212427
CREATED:20260417T155106Z
LAST-MODIFIED:20260422T000849Z
UID:996793-1775779200-1775865600@www.lcaviagens.com.br
SUMMARY:ENERGIAS 2026 - Curso Teórico e Prático do Uso de Energias Físicas no Trato Genital Inferior da Disciplina de Ginecologia
DESCRIPTION:Saúde: Tecnologia\, Equipamentos e Pesquisa
URL:https://www.lcaviagens.com.br/eventos/energias-2026-curso-teorico-e-pratico-do-uso-de-energias-fisicas-no-trato-genital-inferior-da-disciplina-de-ginecologia/
LOCATION:Instituto Central do Hospital das Clínicas (ICHC)\, São Paulo\, SP
CATEGORIES:Equipamentos e Pesquisa,Saúde: Tecnologia
END:VEVENT
BEGIN:VEVENT
DTSTART;TZID=UTC:20260410T000000
DTEND;TZID=UTC:20260410T000000
DTSTAMP:20260424T212427
CREATED:20260417T155106Z
LAST-MODIFIED:20260422T000849Z
UID:996792-1775779200-1775779200@www.lcaviagens.com.br
SUMMARY:Full Face Experience (Belo Horizonte)
DESCRIPTION:Saúde: Tecnologia\, Equipamentos e Pesquisa
URL:https://www.lcaviagens.com.br/eventos/full-face-experience-belo-horizonte/
LOCATION:Belo Horizonte\, Belo Horizonte\, GO
CATEGORIES:Equipamentos e Pesquisa,Saúde: Tecnologia
END:VEVENT
BEGIN:VEVENT
DTSTART;TZID=UTC:20260409T000000
DTEND;TZID=UTC:20260419T000000
DTSTAMP:20260424T212427
CREATED:20260417T155006Z
LAST-MODIFIED:20260422T000749Z
UID:996775-1775692800-1776556800@www.lcaviagens.com.br
SUMMARY:EXPOGRANDE 2026 (Expo Grande)
DESCRIPTION:Agropecuário\, Comercial e Industrial
URL:https://www.lcaviagens.com.br/eventos/expogrande-2026-expo-grande/
LOCATION:Parque de Exposições Laucídio Coelho\, Campo Grande\, MS
CATEGORIES:Agropecuário,Comercial e Industrial
END:VEVENT
END:VCALENDAR