BEGIN:VCALENDAR
VERSION:2.0
PRODID:-//LCA  - ECPv6.15.20//NONSGML v1.0//EN
CALSCALE:GREGORIAN
METHOD:PUBLISH
X-ORIGINAL-URL:https://www.lcaviagens.com.br
X-WR-CALDESC:Eventos para LCA 
REFRESH-INTERVAL;VALUE=DURATION:PT1H
X-Robots-Tag:noindex
X-PUBLISHED-TTL:PT1H
BEGIN:VTIMEZONE
TZID:UTC
BEGIN:STANDARD
TZOFFSETFROM:+0000
TZOFFSETTO:+0000
TZNAME:UTC
DTSTART:20250101T000000
END:STANDARD
END:VTIMEZONE
BEGIN:VEVENT
DTSTART;TZID=UTC:20260504T000000
DTEND;TZID=UTC:20260506T000000
DTSTAMP:20260424T185246
CREATED:20260417T160236Z
LAST-MODIFIED:20260422T002019Z
UID:997022-1777852800-1778025600@www.lcaviagens.com.br
SUMMARY:OES 2026 - Operational Excellence Summit
DESCRIPTION:Energia
URL:https://www.lcaviagens.com.br/eventos/oes-2026-operational-excellence-summit/
LOCATION:São Paulo\, São Paulo\, SP
CATEGORIES:Energia
END:VEVENT
BEGIN:VEVENT
DTSTART;TZID=UTC:20260504T000000
DTEND;TZID=UTC:20260507T000000
DTSTAMP:20260424T185246
CREATED:20260418T024804Z
LAST-MODIFIED:20260422T002019Z
UID:1000765-1777852800-1778112000@www.lcaviagens.com.br
SUMMARY:Travelweek São Paulo - ILTM Latin Americas
DESCRIPTION:Turismo\, Hotéis\, Bares e Restaurantes
URL:https://www.lcaviagens.com.br/eventos/travelweek-sao-paulo-iltm-latin-americas/
LOCATION:Pavilhão da Bienal – Pavilhão Ciccillo Matarazzo\, São Paulo\, SP
CATEGORIES:Bares e Restaurantes,Hotéis,Turismo
END:VEVENT
BEGIN:VEVENT
DTSTART;TZID=UTC:20260504T000000
DTEND;TZID=UTC:20260508T000000
DTSTAMP:20260424T185246
CREATED:20260417T160236Z
LAST-MODIFIED:20260422T002019Z
UID:997024-1777852800-1778198400@www.lcaviagens.com.br
SUMMARY:EDUCOMP 2026 - Simpósio Brasileiro de Educação em Computação
DESCRIPTION:Informática\, Telecomunicações e TI
URL:https://www.lcaviagens.com.br/eventos/educomp-2026-simposio-brasileiro-de-educacao-em-computacao/
LOCATION:Universidade Federal de Mato Grosso do Sul (UFMS)\, Campo Grande\, MS
CATEGORIES:Informática,Telecomunicações e TI
END:VEVENT
BEGIN:VEVENT
DTSTART;TZID=UTC:20260505T000000
DTEND;TZID=UTC:20260505T000000
DTSTAMP:20260424T185246
CREATED:20260417T160306Z
LAST-MODIFIED:20260422T002049Z
UID:997032-1777939200-1777939200@www.lcaviagens.com.br
SUMMARY:Live! Run XP (Porto Velho)
DESCRIPTION:Lazer\, Hobby e Esportes
URL:https://www.lcaviagens.com.br/eventos/live-run-xp-porto-velho/
LOCATION:Porto Velho\, Porto Velho\, RO
CATEGORIES:Hobby e Esportes,Lazer
END:VEVENT
BEGIN:VEVENT
DTSTART;TZID=UTC:20260505T000000
DTEND;TZID=UTC:20260505T000000
DTSTAMP:20260424T185246
CREATED:20260417T160306Z
LAST-MODIFIED:20260422T002049Z
UID:997033-1777939200-1777939200@www.lcaviagens.com.br
SUMMARY:Teletime Tec - Brasil Streaming (Streaming Brasil)
DESCRIPTION:Informática\, Telecomunicações e TI
URL:https://www.lcaviagens.com.br/eventos/teletime-tec-brasil-streaming-streaming-brasil/
LOCATION:WTC – World Trade Center São Paulo\, São Paulo\, SP
CATEGORIES:Informática,Telecomunicações e TI
END:VEVENT
BEGIN:VEVENT
DTSTART;TZID=UTC:20260505T000000
DTEND;TZID=UTC:20260505T000000
DTSTAMP:20260424T185246
CREATED:20260417T160306Z
LAST-MODIFIED:20260422T002049Z
UID:997034-1777939200-1777939200@www.lcaviagens.com.br
SUMMARY:Prêmio Patrocínio Brasil
DESCRIPTION:Comunicação Empresarial\, Feiras e Eventos
URL:https://www.lcaviagens.com.br/eventos/premio-patrocinio-brasil/
LOCATION:Bourbon Street\, São Paulo\, SP
CATEGORIES:Comunicação Empresarial,Feiras e Eventos
END:VEVENT
BEGIN:VEVENT
DTSTART;TZID=UTC:20260505T000000
DTEND;TZID=UTC:20260505T000000
DTSTAMP:20260424T185246
CREATED:20260417T160306Z
LAST-MODIFIED:20260422T002049Z
UID:997035-1777939200-1777939200@www.lcaviagens.com.br
SUMMARY:Condo360 Summit
DESCRIPTION:Habitação\, Condomínios e Imóveis em Geral
URL:https://www.lcaviagens.com.br/eventos/condo360-summit/
LOCATION:Hotel Intercontinental\, São Paulo\, SP
CATEGORIES:Condomínios e Imóveis em Geral,Habitação
END:VEVENT
BEGIN:VEVENT
DTSTART;TZID=UTC:20260505T000000
DTEND;TZID=UTC:20260505T000000
DTSTAMP:20260424T185246
CREATED:20260417T160321Z
LAST-MODIFIED:20260422T002105Z
UID:997037-1777939200-1777939200@www.lcaviagens.com.br
SUMMARY:Low-Code & No-Code Fórum 2026
DESCRIPTION:Novas Tecnologias\, Invenções e Inovações
URL:https://www.lcaviagens.com.br/eventos/low-code-no-code-forum-2026/
LOCATION:Centro de Convenções Frei Caneca\, São Paulo\, SP
CATEGORIES:Invenções e Inovações,Novas Tecnologias
END:VEVENT
BEGIN:VEVENT
DTSTART;TZID=UTC:20260505T000000
DTEND;TZID=UTC:20260505T000000
DTSTAMP:20260424T185246
CREATED:20260417T160321Z
LAST-MODIFIED:20260422T002105Z
UID:997038-1777939200-1777939200@www.lcaviagens.com.br
SUMMARY:Fórum Mulheres de TI
DESCRIPTION:Novas Tecnologias\, Invenções e Inovações
URL:https://www.lcaviagens.com.br/eventos/forum-mulheres-de-ti/
LOCATION:Centro de Convenções Frei Caneca\, São Paulo\, SP
CATEGORIES:Invenções e Inovações,Novas Tecnologias
END:VEVENT
BEGIN:VEVENT
DTSTART;TZID=UTC:20260505T000000
DTEND;TZID=UTC:20260505T000000
DTSTAMP:20260424T185246
CREATED:20260417T160321Z
LAST-MODIFIED:20260422T002105Z
UID:997039-1777939200-1777939200@www.lcaviagens.com.br
SUMMARY:BFD 2026 - Brasil Fashion Designers (São Paulo)
DESCRIPTION:Setores Têxtil e Têxtil Confeccionista
URL:https://www.lcaviagens.com.br/eventos/bfd-2026-brasil-fashion-designers-sao-paulo/
LOCATION:Expo Center Norte\, São Paulo\, SP
CATEGORIES:Setores Têxtil e Têxtil Confeccionista
END:VEVENT
BEGIN:VEVENT
DTSTART;TZID=UTC:20260505T000000
DTEND;TZID=UTC:20260505T000000
DTSTAMP:20260424T185246
CREATED:20260417T160321Z
LAST-MODIFIED:20260422T002104Z
UID:997036-1777939200-1777939200@www.lcaviagens.com.br
SUMMARY:AI Innovation Show
DESCRIPTION:Novas Tecnologias\, Invenções e Inovações
URL:https://www.lcaviagens.com.br/eventos/ai-innovation-show/
LOCATION:Centro de Convenções Frei Caneca\, São Paulo\, SP
CATEGORIES:Invenções e Inovações,Novas Tecnologias
END:VEVENT
BEGIN:VEVENT
DTSTART;TZID=UTC:20260505T000000
DTEND;TZID=UTC:20260505T000000
DTSTAMP:20260424T185246
CREATED:20260417T160322Z
LAST-MODIFIED:20260422T002105Z
UID:997040-1777939200-1777939200@www.lcaviagens.com.br
SUMMARY:Mktplace Day (Votuporanga) x
DESCRIPTION:Empreendedorismo\, Negócios e Franquias
URL:https://www.lcaviagens.com.br/eventos/mktplace-day-votuporanga-x/
LOCATION:Unifev\, Votuporanga\, SP
CATEGORIES:Empreendedorismo,Negócios e Franquias
END:VEVENT
BEGIN:VEVENT
DTSTART;TZID=UTC:20260505T000000
DTEND;TZID=UTC:20260506T000000
DTSTAMP:20260424T185246
CREATED:20260417T160336Z
LAST-MODIFIED:20260422T002119Z
UID:997042-1777939200-1778025600@www.lcaviagens.com.br
SUMMARY:Confinar 2026
DESCRIPTION:Agropecuário\, Comercial e Industrial
URL:https://www.lcaviagens.com.br/eventos/confinar-2026/
LOCATION:Bosque Expo\, Campo Grande\, MS
CATEGORIES:Agropecuário,Comercial e Industrial
END:VEVENT
BEGIN:VEVENT
DTSTART;TZID=UTC:20260505T000000
DTEND;TZID=UTC:20260506T000000
DTSTAMP:20260424T185246
CREATED:20260417T160336Z
LAST-MODIFIED:20260422T002119Z
UID:997043-1777939200-1778025600@www.lcaviagens.com.br
SUMMARY:CGS Brasília 2026
DESCRIPTION:Lazer\, Hobby e Esportes
URL:https://www.lcaviagens.com.br/eventos/cgs-brasilia-2026/
LOCATION:Hotel Royal Tulip Brasília Alvorada\, Brasília\, DF
CATEGORIES:Hobby e Esportes,Lazer
END:VEVENT
BEGIN:VEVENT
DTSTART;TZID=UTC:20260505T000000
DTEND;TZID=UTC:20260506T000000
DTSTAMP:20260424T185246
CREATED:20260417T160336Z
LAST-MODIFIED:20260422T002119Z
UID:997044-1777939200-1778025600@www.lcaviagens.com.br
SUMMARY:Arena Show Case
DESCRIPTION:Novas Tecnologias\, Invenções e Inovações
URL:https://www.lcaviagens.com.br/eventos/arena-show-case/
LOCATION:Centro de Convenções Frei Caneca\, São Paulo\, SP
CATEGORIES:Invenções e Inovações,Novas Tecnologias
END:VEVENT
BEGIN:VEVENT
DTSTART;TZID=UTC:20260505T000000
DTEND;TZID=UTC:20260506T000000
DTSTAMP:20260424T185246
CREATED:20260417T160336Z
LAST-MODIFIED:20260422T002118Z
UID:997041-1777939200-1778025600@www.lcaviagens.com.br
SUMMARY:RPA & AI TECH (Antigo: RPA & AI CONGRESS)
DESCRIPTION:Novas Tecnologias\, Invenções e Inovações
URL:https://www.lcaviagens.com.br/eventos/rpa-ai-tech-antigo-rpa-ai-congress/
LOCATION:Centro de Convenções Frei Caneca\, São Paulo\, SP
CATEGORIES:Invenções e Inovações,Novas Tecnologias
END:VEVENT
BEGIN:VEVENT
DTSTART;TZID=UTC:20260505T000000
DTEND;TZID=UTC:20260506T000000
DTSTAMP:20260424T185246
CREATED:20260417T222200Z
LAST-MODIFIED:20260422T003819Z
UID:998600-1777939200-1778025600@www.lcaviagens.com.br
SUMMARY:RH Summit 2026
DESCRIPTION:Gestão Empresarial e Recursos Humanos
URL:https://www.lcaviagens.com.br/eventos/rh-summit-2026/
LOCATION:Expo Center Norte\, São Paulo\, SP
CATEGORIES:Gestão Empresarial e Recursos Humanos
END:VEVENT
BEGIN:VEVENT
DTSTART;TZID=UTC:20260505T000000
DTEND;TZID=UTC:20260507T000000
DTSTAMP:20260424T185246
CREATED:20260417T160236Z
LAST-MODIFIED:20260422T002019Z
UID:997025-1777939200-1778112000@www.lcaviagens.com.br
SUMMARY:FEBRATÊXTIL - Feira Brasil Têxtil
DESCRIPTION:Setores Têxtil e Têxtil Confeccionista
URL:https://www.lcaviagens.com.br/eventos/febratextil-feira-brasil-textil/
LOCATION:Expo Center Norte\, São Paulo\, SP
CATEGORIES:Setores Têxtil e Têxtil Confeccionista
END:VEVENT
BEGIN:VEVENT
DTSTART;TZID=UTC:20260505T000000
DTEND;TZID=UTC:20260507T000000
DTSTAMP:20260424T185246
CREATED:20260417T160251Z
LAST-MODIFIED:20260422T002034Z
UID:997026-1777939200-1778112000@www.lcaviagens.com.br
SUMMARY:ENT Brasil - Exposição de Nãotecidos e Tecidos Técnicos
DESCRIPTION:Setores Têxtil e Têxtil Confeccionista
URL:https://www.lcaviagens.com.br/eventos/ent-brasil-exposicao-de-naotecidos-e-tecidos-tecnicos/
LOCATION:Expo Center Norte\, São Paulo\, SP
CATEGORIES:Setores Têxtil e Têxtil Confeccionista
END:VEVENT
BEGIN:VEVENT
DTSTART;TZID=UTC:20260505T000000
DTEND;TZID=UTC:20260507T000000
DTSTAMP:20260424T185246
CREATED:20260417T160252Z
LAST-MODIFIED:20260422T002034Z
UID:997027-1777939200-1778112000@www.lcaviagens.com.br
SUMMARY:Congresso Internacional de Compliance
DESCRIPTION:Gestão Empresarial e Recursos Humanos
URL:https://www.lcaviagens.com.br/eventos/congresso-internacional-de-compliance/
LOCATION:Centro de Eventos Pro Magno\, São Paulo\, SP
CATEGORIES:Gestão Empresarial e Recursos Humanos
END:VEVENT
BEGIN:VEVENT
DTSTART;TZID=UTC:20260505T000000
DTEND;TZID=UTC:20260508T000000
DTSTAMP:20260424T185246
CREATED:20260417T160252Z
LAST-MODIFIED:20260422T002035Z
UID:997028-1777939200-1778198400@www.lcaviagens.com.br
SUMMARY:BETT BRASIL - Feira Internacional de Educação
DESCRIPTION:Cultura e Educação
URL:https://www.lcaviagens.com.br/eventos/bett-brasil-feira-internacional-de-educacao/
LOCATION:Expo Center Norte\, São Paulo\, SP
CATEGORIES:Cultura e Educação
END:VEVENT
BEGIN:VEVENT
DTSTART;TZID=UTC:20260505T000000
DTEND;TZID=UTC:20260508T000000
DTSTAMP:20260424T185246
CREATED:20260417T160252Z
LAST-MODIFIED:20260422T002035Z
UID:997029-1777939200-1778198400@www.lcaviagens.com.br
SUMMARY:Congresso Ahead by Bett
DESCRIPTION:Cultura e Educação
URL:https://www.lcaviagens.com.br/eventos/congresso-ahead-by-bett/
LOCATION:Expo Center Norte\, São Paulo\, SP
CATEGORIES:Cultura e Educação
END:VEVENT
BEGIN:VEVENT
DTSTART;TZID=UTC:20260505T000000
DTEND;TZID=UTC:20260508T000000
DTSTAMP:20260424T185246
CREATED:20260417T160252Z
LAST-MODIFIED:20260422T002035Z
UID:997030-1777939200-1778198400@www.lcaviagens.com.br
SUMMARY:Agrotecnoleite Complem 2026
DESCRIPTION:Agropecuário\, Comercial e Industrial
URL:https://www.lcaviagens.com.br/eventos/agrotecnoleite-complem-2026/
LOCATION:Fazenda Complem\, Morrinhos\, GO
CATEGORIES:Agropecuário,Comercial e Industrial
END:VEVENT
BEGIN:VEVENT
DTSTART;TZID=UTC:20260505T000000
DTEND;TZID=UTC:20260508T000000
DTSTAMP:20260424T185246
CREATED:20260417T160306Z
LAST-MODIFIED:20260422T002049Z
UID:997031-1777939200-1778198400@www.lcaviagens.com.br
SUMMARY:ExpoSoja 2026 (Exposoja Piauí) (Exposoja PI)
DESCRIPTION:Agropecuário\, Comercial e Industrial
URL:https://www.lcaviagens.com.br/eventos/exposoja-2026-exposoja-piaui-exposoja-pi/
LOCATION:Parque de Exposição de Nova Santa Rosa\, Uruçuí\, PI
CATEGORIES:Agropecuário,Comercial e Industrial
END:VEVENT
BEGIN:VEVENT
DTSTART;TZID=UTC:20260506T000000
DTEND;TZID=UTC:20260506T000000
DTSTAMP:20260424T185246
CREATED:20260417T160406Z
LAST-MODIFIED:20260422T002149Z
UID:997053-1778025600-1778025600@www.lcaviagens.com.br
SUMMARY:Cyber Security Conference 2026
DESCRIPTION:Novas Tecnologias\, Invenções e Inovações
URL:https://www.lcaviagens.com.br/eventos/cyber-security-conference-2026/
LOCATION:Centro de Convenções Frei Caneca\, São Paulo\, SP
CATEGORIES:Invenções e Inovações,Novas Tecnologias
END:VEVENT
BEGIN:VEVENT
DTSTART;TZID=UTC:20260506T000000
DTEND;TZID=UTC:20260506T000000
DTSTAMP:20260424T185246
CREATED:20260417T160406Z
LAST-MODIFIED:20260422T002149Z
UID:997051-1778025600-1778025600@www.lcaviagens.com.br
SUMMARY:SYMPOSIUM SAE BRASIL OF RENEWABLE FUELS (Presencial e Online)
DESCRIPTION:Tecnologia Industrial
URL:https://www.lcaviagens.com.br/eventos/symposium-sae-brasil-of-renewable-fuels-presencial-e-online/
LOCATION:FIT – Flextronic Instituto de Tecnologia\, Sorocaba\, SP
CATEGORIES:Tecnologia Industrial
END:VEVENT
BEGIN:VEVENT
DTSTART;TZID=UTC:20260506T000000
DTEND;TZID=UTC:20260506T000000
DTSTAMP:20260424T185246
CREATED:20260417T160406Z
LAST-MODIFIED:20260422T002149Z
UID:997052-1778025600-1778025600@www.lcaviagens.com.br
SUMMARY:AI + IM Fórum
DESCRIPTION:Novas Tecnologias\, Invenções e Inovações
URL:https://www.lcaviagens.com.br/eventos/ai-im-forum/
LOCATION:Centro de Convenções Frei Caneca\, São Paulo\, SP
CATEGORIES:Invenções e Inovações,Novas Tecnologias
END:VEVENT
BEGIN:VEVENT
DTSTART;TZID=UTC:20260506T000000
DTEND;TZID=UTC:20260507T000000
DTSTAMP:20260424T185246
CREATED:20260417T160406Z
LAST-MODIFIED:20260422T002149Z
UID:997054-1778025600-1778112000@www.lcaviagens.com.br
SUMMARY:FORÁGUA - Feira dos Fornecedores da Indústria de Água Mineral e Bebidas não Alcoólicas
DESCRIPTION:Alimentos e Bebidas
URL:https://www.lcaviagens.com.br/eventos/foragua-feira-dos-fornecedores-da-industria-de-agua-mineral-e-bebidas-nao-alcoolicas/
LOCATION:Centro de Convenções Circuito das Águas\, Serra Negra\, SP
CATEGORIES:Alimentos e Bebidas
END:VEVENT
BEGIN:VEVENT
DTSTART;TZID=UTC:20260506T000000
DTEND;TZID=UTC:20260507T000000
DTSTAMP:20260424T185246
CREATED:20260417T160406Z
LAST-MODIFIED:20260422T002149Z
UID:997055-1778025600-1778112000@www.lcaviagens.com.br
SUMMARY:BioSummit Brasil 2026
DESCRIPTION:Agropecuário\, Comercial e Industrial
URL:https://www.lcaviagens.com.br/eventos/biosummit-brasil-2026/
LOCATION:Expo Dom Pedro\, Campinas\, SP
CATEGORIES:Agropecuário,Comercial e Industrial
END:VEVENT
BEGIN:VEVENT
DTSTART;TZID=UTC:20260506T000000
DTEND;TZID=UTC:20260507T000000
DTSTAMP:20260424T185246
CREATED:20260417T160421Z
LAST-MODIFIED:20260422T002204Z
UID:997056-1778025600-1778112000@www.lcaviagens.com.br
SUMMARY:BFB 2026 - BIM Fórum Conference
DESCRIPTION:Construção Civil
URL:https://www.lcaviagens.com.br/eventos/bfb-2026-bim-forum-conference/
LOCATION:Distrito Anhembi\, São Paulo\, SP
CATEGORIES:Construção Civil
END:VEVENT
END:VCALENDAR