BEGIN:VCALENDAR
VERSION:2.0
PRODID:-//LCA  - ECPv6.15.20//NONSGML v1.0//EN
CALSCALE:GREGORIAN
METHOD:PUBLISH
X-ORIGINAL-URL:https://www.lcaviagens.com.br
X-WR-CALDESC:Eventos para LCA 
REFRESH-INTERVAL;VALUE=DURATION:PT1H
X-Robots-Tag:noindex
X-PUBLISHED-TTL:PT1H
BEGIN:VTIMEZONE
TZID:UTC
BEGIN:STANDARD
TZOFFSETFROM:+0000
TZOFFSETTO:+0000
TZNAME:UTC
DTSTART:20250101T000000
END:STANDARD
END:VTIMEZONE
BEGIN:VEVENT
DTSTART;TZID=UTC:20260416T000000
DTEND;TZID=UTC:20260416T000000
DTSTAMP:20260424T174723
CREATED:20260417T155421Z
LAST-MODIFIED:20260422T001204Z
UID:996857-1776297600-1776297600@www.lcaviagens.com.br
SUMMARY:Conferência Internacional UNEM Datagro sobre Etanol de Milho
DESCRIPTION:Agropecuário\, Comercial e Industrial
URL:https://www.lcaviagens.com.br/eventos/conferencia-internacional-unem-datagro-sobre-etanol-de-milho/
LOCATION:Famato – Cenarium Rural\, Cuiabá\, MT
CATEGORIES:Agropecuário,Comercial e Industrial
END:VEVENT
BEGIN:VEVENT
DTSTART;TZID=UTC:20260416T000000
DTEND;TZID=UTC:20260416T000000
DTSTAMP:20260424T174723
CREATED:20260417T155406Z
LAST-MODIFIED:20260422T001149Z
UID:996855-1776297600-1776297600@www.lcaviagens.com.br
SUMMARY:Franchise4U Salvador
DESCRIPTION:Empreendedorismo\, Negócios e Franquias
URL:https://www.lcaviagens.com.br/eventos/franchise4u-salvador/
LOCATION:Hotel Mercure Salvador Pituba\, Salvador\, BA
CATEGORIES:Empreendedorismo,Negócios e Franquias
END:VEVENT
BEGIN:VEVENT
DTSTART;TZID=UTC:20260415T000000
DTEND;TZID=UTC:20260421T000000
DTSTAMP:20260424T174723
CREATED:20260417T155321Z
LAST-MODIFIED:20260422T001104Z
UID:996840-1776211200-1776729600@www.lcaviagens.com.br
SUMMARY:Bienal do Livro Bahia 2026
DESCRIPTION:Cultura e Educação
URL:https://www.lcaviagens.com.br/eventos/bienal-do-livro-bahia-2026/
LOCATION:Centro de Convenções de Salvador\, Salvador\, PR
CATEGORIES:Cultura e Educação
END:VEVENT
BEGIN:VEVENT
DTSTART;TZID=UTC:20260415T000000
DTEND;TZID=UTC:20260419T000000
DTSTAMP:20260424T174723
CREATED:20260417T155321Z
LAST-MODIFIED:20260422T001104Z
UID:996839-1776211200-1776556800@www.lcaviagens.com.br
SUMMARY:Feira da Gestante (Salvador)
DESCRIPTION:Moda Gestante\, Bebê e Criança
URL:https://www.lcaviagens.com.br/eventos/feira-da-gestante-salvador/
LOCATION:Shopping Bela Vista\, Salvador\, BA
CATEGORIES:Bebê e Criança,Moda Gestante
END:VEVENT
BEGIN:VEVENT
DTSTART;TZID=UTC:20260415T000000
DTEND;TZID=UTC:20260418T000000
DTSTAMP:20260424T174723
CREATED:20260417T155321Z
LAST-MODIFIED:20260422T001104Z
UID:996838-1776211200-1776470400@www.lcaviagens.com.br
SUMMARY:Congresso Internacional de Uro-Oncologia
DESCRIPTION:Saúde: Tecnologia\, Equipamentos e Pesquisa
URL:https://www.lcaviagens.com.br/eventos/congresso-internacional-de-uro-oncologia/
LOCATION:Sheraton São Paulo WTC Hotel\, São Paulo\, SP
CATEGORIES:Equipamentos e Pesquisa,Saúde: Tecnologia
END:VEVENT
BEGIN:VEVENT
DTSTART;TZID=UTC:20260415T000000
DTEND;TZID=UTC:20260417T000000
DTSTAMP:20260424T174723
CREATED:20260417T155321Z
LAST-MODIFIED:20260422T001104Z
UID:996837-1776211200-1776384000@www.lcaviagens.com.br
SUMMARY:CBEMM - Congresso Brasileiro de Estruturas Metálicas e Mistas
DESCRIPTION:Tecnologia Industrial
URL:https://www.lcaviagens.com.br/eventos/cbemm-congresso-brasileiro-de-estruturas-metalicas-e-mistas/
LOCATION:Hotel Deville\, Maringá\, PR
CATEGORIES:Tecnologia Industrial
END:VEVENT
BEGIN:VEVENT
DTSTART;TZID=UTC:20260415T000000
DTEND;TZID=UTC:20260416T000000
DTSTAMP:20260424T174723
CREATED:20260417T155336Z
LAST-MODIFIED:20260422T001119Z
UID:996843-1776211200-1776297600@www.lcaviagens.com.br
SUMMARY:ExpôCalçadista (ExpoCalçadista) (Expo Calçadista)
DESCRIPTION:Couro: Tecnologia\, Calçados e Artefatos
URL:https://www.lcaviagens.com.br/eventos/expocalcadista-expocalcadista-expo-calcadista/
LOCATION:Centro de Convenções\, Birigui\, SP
CATEGORIES:Calçados e Artefatos,Couro: Tecnologia
END:VEVENT
BEGIN:VEVENT
DTSTART;TZID=UTC:20260415T000000
DTEND;TZID=UTC:20260416T000000
DTSTAMP:20260424T174723
CREATED:20260417T155336Z
LAST-MODIFIED:20260422T001119Z
UID:996844-1776211200-1776297600@www.lcaviagens.com.br
SUMMARY:T&D Subestações (Antigo: T&D Energy - Congresso & Exposição)
DESCRIPTION:Energia
URL:https://www.lcaviagens.com.br/eventos/td-subestacoes-antigo-td-energy-congresso-exposicao/
LOCATION:Novotel Center Norte\, São Paulo\, SP
CATEGORIES:Energia
END:VEVENT
BEGIN:VEVENT
DTSTART;TZID=UTC:20260415T000000
DTEND;TZID=UTC:20260416T000000
DTSTAMP:20260424T174723
CREATED:20260417T155336Z
LAST-MODIFIED:20260422T001119Z
UID:996845-1776211200-1776297600@www.lcaviagens.com.br
SUMMARY:ENTRAC - Encontro Técnico de Refrigeração e Ar-Condicionado (Belém)
DESCRIPTION:Tecnologia Industrial
URL:https://www.lcaviagens.com.br/eventos/entrac-encontro-tecnico-de-refrigeracao-e-ar-condicionado-belem/
LOCATION:Belém\, Belém\, PA
CATEGORIES:Tecnologia Industrial
END:VEVENT
BEGIN:VEVENT
DTSTART;TZID=UTC:20260415T000000
DTEND;TZID=UTC:20260415T000000
DTSTAMP:20260424T174723
CREATED:20260417T155336Z
LAST-MODIFIED:20260422T001119Z
UID:996841-1776211200-1776211200@www.lcaviagens.com.br
SUMMARY:Finance Executive Summit
DESCRIPTION:Informática\, Telecomunicações e TI
URL:https://www.lcaviagens.com.br/eventos/finance-executive-summit/
LOCATION:WTC – World Trade Center São Paulo\, São Paulo\, SP
CATEGORIES:Informática,Telecomunicações e TI
END:VEVENT
BEGIN:VEVENT
DTSTART;TZID=UTC:20260415T000000
DTEND;TZID=UTC:20260415T000000
DTSTAMP:20260424T174723
CREATED:20260417T155336Z
LAST-MODIFIED:20260422T001119Z
UID:996842-1776211200-1776211200@www.lcaviagens.com.br
SUMMARY:Board Day 2026 (São Paulo)
DESCRIPTION:Empreendedorismo\, Negócios e Franquias
URL:https://www.lcaviagens.com.br/eventos/board-day-2026-sao-paulo/
LOCATION:Hotel Intercontinental\, São Paulo\, SP
CATEGORIES:Empreendedorismo,Negócios e Franquias
END:VEVENT
BEGIN:VEVENT
DTSTART;TZID=UTC:20260414T000000
DTEND;TZID=UTC:20260417T000000
DTSTAMP:20260424T174723
CREATED:20260417T155251Z
LAST-MODIFIED:20260422T001034Z
UID:996826-1776124800-1776384000@www.lcaviagens.com.br
SUMMARY:AGRESTE TEX - Feira de Máquinas\, Serviços e Tecnologia para a Indústria Têxtil
DESCRIPTION:Setores Têxtil e Têxtil Confeccionista
URL:https://www.lcaviagens.com.br/eventos/agreste-tex-feira-de-maquinas-servicos-e-tecnologia-para-a-industria-textil/
LOCATION:Pólo Comercial de Caruaru\, Caruaru\, PE
CATEGORIES:Setores Têxtil e Têxtil Confeccionista
END:VEVENT
BEGIN:VEVENT
DTSTART;TZID=UTC:20260414T000000
DTEND;TZID=UTC:20260417T000000
DTSTAMP:20260424T174723
CREATED:20260417T155237Z
LAST-MODIFIED:20260422T001019Z
UID:996825-1776124800-1776384000@www.lcaviagens.com.br
SUMMARY:Agile Trends GOV 2026
DESCRIPTION:Novas Tecnologias\, Invenções e Inovações
URL:https://www.lcaviagens.com.br/eventos/agile-trends-gov-2026/
LOCATION:Centro de Convenções Ulysses Guimarães\, Brasília\, DF
CATEGORIES:Invenções e Inovações,Novas Tecnologias
END:VEVENT
BEGIN:VEVENT
DTSTART;TZID=UTC:20260414T000000
DTEND;TZID=UTC:20260417T000000
DTSTAMP:20260424T174723
CREATED:20260417T155237Z
LAST-MODIFIED:20260422T001019Z
UID:996823-1776124800-1776384000@www.lcaviagens.com.br
SUMMARY:Parecis SuperAgro
DESCRIPTION:Agropecuário\, Comercial e Industrial
URL:https://www.lcaviagens.com.br/eventos/parecis-superagro/
LOCATION:Parque de Exposições Campo Novo dos Parecis\, Campo Novo dos Parecis\, MT
CATEGORIES:Agropecuário,Comercial e Industrial
END:VEVENT
BEGIN:VEVENT
DTSTART;TZID=UTC:20260414T000000
DTEND;TZID=UTC:20260417T000000
DTSTAMP:20260424T174723
CREATED:20260417T155237Z
LAST-MODIFIED:20260422T001019Z
UID:996824-1776124800-1776384000@www.lcaviagens.com.br
SUMMARY:FIFE 2026 - Fórum Interamericano de Filantropia Estratégica
DESCRIPTION:Gestão Empresarial e Recursos Humanos
URL:https://www.lcaviagens.com.br/eventos/fife-2026-forum-interamericano-de-filantropia-estrategica/
LOCATION:Centro de Convenções de Pernambuco\, Olinda\, PE
CATEGORIES:Gestão Empresarial e Recursos Humanos
END:VEVENT
BEGIN:VEVENT
DTSTART;TZID=UTC:20260414T000000
DTEND;TZID=UTC:20260416T000000
DTSTAMP:20260424T174723
CREATED:20260417T155236Z
LAST-MODIFIED:20260422T001019Z
UID:996821-1776124800-1776297600@www.lcaviagens.com.br
SUMMARY:Congresso VET em Foco
DESCRIPTION:Animais Domésticos e de Pequeno Porte
URL:https://www.lcaviagens.com.br/eventos/congresso-vet-em-foco/
LOCATION:Expo Dom Pedro\, Campinas\, SP
CATEGORIES:Animais Domésticos e de Pequeno Porte
END:VEVENT
BEGIN:VEVENT
DTSTART;TZID=UTC:20260414T000000
DTEND;TZID=UTC:20260416T000000
DTSTAMP:20260424T174723
CREATED:20260417T155236Z
LAST-MODIFIED:20260422T001019Z
UID:996822-1776124800-1776297600@www.lcaviagens.com.br
SUMMARY:Feira SuperPet
DESCRIPTION:Animais Domésticos e de Pequeno Porte
URL:https://www.lcaviagens.com.br/eventos/feira-superpet/
LOCATION:Expo Dom Pedro\, Campinas\, SP
CATEGORIES:Animais Domésticos e de Pequeno Porte
END:VEVENT
BEGIN:VEVENT
DTSTART;TZID=UTC:20260414T000000
DTEND;TZID=UTC:20260416T000000
DTSTAMP:20260424T174723
CREATED:20260417T155221Z
LAST-MODIFIED:20260422T001005Z
UID:996820-1776124800-1776297600@www.lcaviagens.com.br
SUMMARY:Minas Trend (Primavera/Verão)
DESCRIPTION:Setores Têxtil e Têxtil Confeccionista
URL:https://www.lcaviagens.com.br/eventos/minas-trend-primavera-verao/
LOCATION:BH Shopping\, Belo Horizonte\, MG
CATEGORIES:Setores Têxtil e Têxtil Confeccionista
END:VEVENT
BEGIN:VEVENT
DTSTART;TZID=UTC:20260414T000000
DTEND;TZID=UTC:20260416T000000
DTSTAMP:20260424T174723
CREATED:20260417T155221Z
LAST-MODIFIED:20260422T001004Z
UID:996816-1776124800-1776297600@www.lcaviagens.com.br
SUMMARY:Vitória PetroShow 2026 (Vitória Petro Show)
DESCRIPTION:Petróleo e Petroquímica
URL:https://www.lcaviagens.com.br/eventos/vitoria-petroshow-2026-vitoria-petro-show/
LOCATION:Centro de Convenções de Vitória\, Vitória\, ES
CATEGORIES:Petróleo e Petroquímica
END:VEVENT
BEGIN:VEVENT
DTSTART;TZID=UTC:20260414T000000
DTEND;TZID=UTC:20260416T000000
DTSTAMP:20260424T174723
CREATED:20260417T155221Z
LAST-MODIFIED:20260422T001005Z
UID:996817-1776124800-1776297600@www.lcaviagens.com.br
SUMMARY:WTM LATIN AMERICA - World Travel Market Latin America
DESCRIPTION:Turismo\, Hotéis\, Bares e Restaurantes
URL:https://www.lcaviagens.com.br/eventos/wtm-latin-america-world-travel-market-latin-america/
LOCATION:Expo Center Norte\, São Paulo\, SP
CATEGORIES:Bares e Restaurantes,Hotéis,Turismo
END:VEVENT
BEGIN:VEVENT
DTSTART;TZID=UTC:20260414T000000
DTEND;TZID=UTC:20260416T000000
DTSTAMP:20260424T174723
CREATED:20260417T155221Z
LAST-MODIFIED:20260422T001005Z
UID:996818-1776124800-1776297600@www.lcaviagens.com.br
SUMMARY:FENAVID - Feira Brasil de Vidros & Acessórios
DESCRIPTION:Construção Civil
URL:https://www.lcaviagens.com.br/eventos/fenavid-feira-brasil-de-vidros-acessorios/
LOCATION:Expominas – Belo Horizonte\, Belo Horizonte\, MG
CATEGORIES:Construção Civil
END:VEVENT
BEGIN:VEVENT
DTSTART;TZID=UTC:20260414T000000
DTEND;TZID=UTC:20260416T000000
DTSTAMP:20260424T174723
CREATED:20260417T155221Z
LAST-MODIFIED:20260422T001005Z
UID:996819-1776124800-1776297600@www.lcaviagens.com.br
SUMMARY:Fórum Sul Brasileiro de Biogás e Biometano
DESCRIPTION:Energia
URL:https://www.lcaviagens.com.br/eventos/forum-sul-brasileiro-de-biogas-e-biometano/
LOCATION:Foz do Iguaçu\, Foz do Iguaçu\, PR
CATEGORIES:Energia
END:VEVENT
BEGIN:VEVENT
DTSTART;TZID=UTC:20260414T000000
DTEND;TZID=UTC:20260416T000000
DTSTAMP:20260424T174723
CREATED:20260417T155206Z
LAST-MODIFIED:20260422T000949Z
UID:996815-1776124800-1776297600@www.lcaviagens.com.br
SUMMARY:LAAD Security Milipol Brazil 2026
DESCRIPTION:Segurança: Militar\, Nacional e Patrimonial
URL:https://www.lcaviagens.com.br/eventos/laad-security-milipol-brazil-2026/
LOCATION:Transamérica Expo Center\, São Paulo\, SP
CATEGORIES:Nacional e Patrimonial,Segurança: Militar
END:VEVENT
BEGIN:VEVENT
DTSTART;TZID=UTC:20260414T000000
DTEND;TZID=UTC:20260416T000000
DTSTAMP:20260424T174723
CREATED:20260417T155206Z
LAST-MODIFIED:20260422T000949Z
UID:996812-1776124800-1776297600@www.lcaviagens.com.br
SUMMARY:INTERMODAL SOUTH AMERICA - Feira de Transporte de Carga\, Logística e Comércio Exterior
DESCRIPTION:Logística\, Transporte e Armazenagem
URL:https://www.lcaviagens.com.br/eventos/intermodal-south-america-feira-de-transporte-de-carga-logistica-e-comercio-exterior/
LOCATION:Distrito Anhembi\, São Paulo\, SP
CATEGORIES:Logística,Transporte e Armazenagem
END:VEVENT
BEGIN:VEVENT
DTSTART;TZID=UTC:20260414T000000
DTEND;TZID=UTC:20260416T000000
DTSTAMP:20260424T174723
CREATED:20260417T155206Z
LAST-MODIFIED:20260422T000949Z
UID:996813-1776124800-1776297600@www.lcaviagens.com.br
SUMMARY:INTERLOG SUMMIT - Congresso Intermodal South America
DESCRIPTION:Logística\, Transporte e Armazenagem
URL:https://www.lcaviagens.com.br/eventos/interlog-summit-congresso-intermodal-south-america/
LOCATION:Distrito Anhembi\, São Paulo\, SP
CATEGORIES:Logística,Transporte e Armazenagem
END:VEVENT
BEGIN:VEVENT
DTSTART;TZID=UTC:20260414T000000
DTEND;TZID=UTC:20260416T000000
DTSTAMP:20260424T174723
CREATED:20260417T155206Z
LAST-MODIFIED:20260422T000949Z
UID:996814-1776124800-1776297600@www.lcaviagens.com.br
SUMMARY:EXPOAPRAS - Feira e Convenção Paranaense de Supermercados (Antiga MERCOSUPER - Feira e Convenção Paranaense de Supermercados)
DESCRIPTION:Atacadista e Varejista
URL:https://www.lcaviagens.com.br/eventos/expoapras-feira-e-convencao-paranaense-de-supermercados-antiga-mercosuper-feira-e-convencao-paranaense-de-supermercados/
LOCATION:ExpoTrade Convention Center\, Pinhais\, PR
CATEGORIES:Atacadista e Varejista
END:VEVENT
BEGIN:VEVENT
DTSTART;TZID=UTC:20260414T000000
DTEND;TZID=UTC:20260416T000000
DTSTAMP:20260424T174723
CREATED:20260417T155205Z
LAST-MODIFIED:20260422T000949Z
UID:996811-1776124800-1776297600@www.lcaviagens.com.br
SUMMARY:Yes Móvel Show Goiás
DESCRIPTION:Madeira\, Móveis e Decorações
URL:https://www.lcaviagens.com.br/eventos/yes-movel-show-goias/
LOCATION:Centro de Convenções de Goiânia\, Goiânia\, GO
CATEGORIES:Madeira,Móveis e Decorações
END:VEVENT
BEGIN:VEVENT
DTSTART;TZID=UTC:20260414T000000
DTEND;TZID=UTC:20260416T000000
DTSTAMP:20260424T174723
CREATED:20260417T155152Z
LAST-MODIFIED:20260422T000934Z
UID:996809-1776124800-1776297600@www.lcaviagens.com.br
SUMMARY:PROTEMINAS - Feira Mineira de Segurança
DESCRIPTION:Saúde e Segurança do Trabalho
URL:https://www.lcaviagens.com.br/eventos/proteminas-feira-mineira-de-seguranca/
LOCATION:Expominas – Belo Horizonte\, Belo Horizonte\, MG
CATEGORIES:Saúde e Segurança do Trabalho
END:VEVENT
BEGIN:VEVENT
DTSTART;TZID=UTC:20260414T000000
DTEND;TZID=UTC:20260416T000000
DTSTAMP:20260424T174723
CREATED:20260417T155152Z
LAST-MODIFIED:20260422T000934Z
UID:996810-1776124800-1776297600@www.lcaviagens.com.br
SUMMARY:ENVASE BRASIL - Tecnologia para a Indústria de Bebidas x
DESCRIPTION:Alimentos e Bebidas
URL:https://www.lcaviagens.com.br/eventos/envase-brasil-tecnologia-para-a-industria-de-bebidas-x/
LOCATION:Parque de Eventos de Bento Gonçalves (Fundaparque)\, Bento Gonçalves\, RS
CATEGORIES:Alimentos e Bebidas
END:VEVENT
BEGIN:VEVENT
DTSTART;TZID=UTC:20260414T000000
DTEND;TZID=UTC:20260415T000000
DTSTAMP:20260424T174723
CREATED:20260417T155321Z
LAST-MODIFIED:20260422T001104Z
UID:996836-1776124800-1776211200@www.lcaviagens.com.br
SUMMARY:Seminário UNIDAS - Autogestões e suas contribuições para a saúde suplementar
DESCRIPTION:Saúde: Tecnologia\, Equipamentos e Pesquisa
URL:https://www.lcaviagens.com.br/eventos/seminario-unidas-autogestoes-e-suas-contribuicoes-para-a-saude-suplementar/
LOCATION:Brasília\, Brasília\, DF
CATEGORIES:Equipamentos e Pesquisa,Saúde: Tecnologia
END:VEVENT
END:VCALENDAR