BEGIN:VCALENDAR
VERSION:2.0
PRODID:-//LCA  - ECPv6.15.20//NONSGML v1.0//EN
CALSCALE:GREGORIAN
METHOD:PUBLISH
X-WR-CALNAME:LCA 
X-ORIGINAL-URL:https://www.lcaviagens.com.br
X-WR-CALDESC:Eventos para LCA 
REFRESH-INTERVAL;VALUE=DURATION:PT1H
X-Robots-Tag:noindex
X-PUBLISHED-TTL:PT1H
BEGIN:VTIMEZONE
TZID:UTC
BEGIN:STANDARD
TZOFFSETFROM:+0000
TZOFFSETTO:+0000
TZNAME:UTC
DTSTART:20250101T000000
END:STANDARD
END:VTIMEZONE
BEGIN:VEVENT
DTSTART;TZID=UTC:20260418T000000
DTEND;TZID=UTC:20260419T000000
DTSTAMP:20260424T152717
CREATED:20260417T155451Z
LAST-MODIFIED:20260422T001234Z
UID:996870-1776470400-1776556800@www.lcaviagens.com.br
SUMMARY:Gran Bazar (Praça do Aquário) (Abril)
DESCRIPTION:Feiras Multisetoriais
URL:https://www.lcaviagens.com.br/eventos/gran-bazar-praca-do-aquario-abril/
LOCATION:Praça do Aquário\, Santos\, SP
CATEGORIES:Feiras Multisetoriais
END:VEVENT
BEGIN:VEVENT
DTSTART;TZID=UTC:20260418T000000
DTEND;TZID=UTC:20260418T000000
DTSTAMP:20260424T152717
CREATED:20260417T155451Z
LAST-MODIFIED:20260422T001234Z
UID:996869-1776470400-1776470400@www.lcaviagens.com.br
SUMMARY:NPC Worldwide Musclecontest Brazil Nordeste
DESCRIPTION:Lazer\, Hobby e Esportes
URL:https://www.lcaviagens.com.br/eventos/npc-worldwide-musclecontest-brazil-nordeste/
LOCATION:Shopping RioMar\, Recife\, PE
CATEGORIES:Hobby e Esportes,Lazer
END:VEVENT
BEGIN:VEVENT
DTSTART;TZID=UTC:20260418T000000
DTEND;TZID=UTC:20260418T000000
DTSTAMP:20260424T152717
CREATED:20260417T155451Z
LAST-MODIFIED:20260422T001234Z
UID:996866-1776470400-1776470400@www.lcaviagens.com.br
SUMMARY:NPC Worldwide Musclecontest (Guarulhos)
DESCRIPTION:Lazer\, Hobby e Esportes
URL:https://www.lcaviagens.com.br/eventos/npc-worldwide-musclecontest-guarulhos/
LOCATION:Arouca São Paulo Clube\, Guarulhos\, SP
CATEGORIES:Hobby e Esportes,Lazer
END:VEVENT
BEGIN:VEVENT
DTSTART;TZID=UTC:20260418T000000
DTEND;TZID=UTC:20260418T000000
DTSTAMP:20260424T152717
CREATED:20260417T155451Z
LAST-MODIFIED:20260422T001234Z
UID:996867-1776470400-1776470400@www.lcaviagens.com.br
SUMMARY:NPC Worldwide Musclecontest (Rio de Janeiro)
DESCRIPTION:Lazer\, Hobby e Esportes
URL:https://www.lcaviagens.com.br/eventos/npc-worldwide-musclecontest-rio-de-janeiro/
LOCATION:Ribalta Hospitalidade\, Rio de Janeiro\, RJ
CATEGORIES:Hobby e Esportes,Lazer
END:VEVENT
BEGIN:VEVENT
DTSTART;TZID=UTC:20260418T000000
DTEND;TZID=UTC:20260418T000000
DTSTAMP:20260424T152717
CREATED:20260417T155451Z
LAST-MODIFIED:20260422T001234Z
UID:996868-1776470400-1776470400@www.lcaviagens.com.br
SUMMARY:NPC Worldwide Musclecontest Naturals (Rio de Janeiro)
DESCRIPTION:Lazer\, Hobby e Esportes
URL:https://www.lcaviagens.com.br/eventos/npc-worldwide-musclecontest-naturals-rio-de-janeiro/
LOCATION:Ribalta Hospitalidade\, Rio de Janeiro\, RJ
CATEGORIES:Hobby e Esportes,Lazer
END:VEVENT
BEGIN:VEVENT
DTSTART;TZID=UTC:20260417T000000
DTEND;TZID=UTC:20260421T000000
DTSTAMP:20260424T152717
CREATED:20260417T155436Z
LAST-MODIFIED:20260422T001219Z
UID:996863-1776384000-1776729600@www.lcaviagens.com.br
SUMMARY:Floripa Tap 2026
DESCRIPTION:Cultura e Educação
URL:https://www.lcaviagens.com.br/eventos/floripa-tap-2026/
LOCATION:Florianópolis\, Florianópolis\, SC
CATEGORIES:Cultura e Educação
END:VEVENT
BEGIN:VEVENT
DTSTART;TZID=UTC:20260417T000000
DTEND;TZID=UTC:20260420T000000
DTSTAMP:20260424T152717
CREATED:20260417T155436Z
LAST-MODIFIED:20260422T001219Z
UID:996862-1776384000-1776643200@www.lcaviagens.com.br
SUMMARY:RETINA 2026 - Congresso da Sociedade Brasileira de Retina e Vítreo
DESCRIPTION:Saúde: Tecnologia\, Equipamentos e Pesquisa
URL:https://www.lcaviagens.com.br/eventos/retina-2026-congresso-da-sociedade-brasileira-de-retina-e-vitreo/
LOCATION:Transamérica Expo Center\, São Paulo\, SP
CATEGORIES:Equipamentos e Pesquisa,Saúde: Tecnologia
END:VEVENT
BEGIN:VEVENT
DTSTART;TZID=UTC:20260417T000000
DTEND;TZID=UTC:20260419T000000
DTSTAMP:20260424T152717
CREATED:20260417T222803Z
LAST-MODIFIED:20260422T005249Z
UID:998949-1776384000-1776556800@www.lcaviagens.com.br
SUMMARY:BCX - Blumenau Comics Experience - Festival de Cultura Pop e Geek de Blumenau
DESCRIPTION:Lazer\, Hobby e Esportes
URL:https://www.lcaviagens.com.br/eventos/bcx-blumenau-comics-experience-festival-de-cultura-pop-e-geek-de-blumenau/
LOCATION:Parque de Exposições Vila Germânica\, Blumenau\, SC
CATEGORIES:Hobby e Esportes,Lazer
END:VEVENT
BEGIN:VEVENT
DTSTART;TZID=UTC:20260417T000000
DTEND;TZID=UTC:20260417T000000
DTSTAMP:20260424T152717
CREATED:20260417T155436Z
LAST-MODIFIED:20260422T001219Z
UID:996864-1776384000-1776384000@www.lcaviagens.com.br
SUMMARY:Feira de Avicultura de Boituva 2026
DESCRIPTION:Agropecuário\, Comercial e Industrial
URL:https://www.lcaviagens.com.br/eventos/feira-de-avicultura-de-boituva-2026/
LOCATION:Centro Municipal de Eventos\, Boituva\, SP
CATEGORIES:Agropecuário,Comercial e Industrial
END:VEVENT
BEGIN:VEVENT
DTSTART;TZID=UTC:20260416T000000
DTEND;TZID=UTC:20260421T000000
DTSTAMP:20260424T152717
CREATED:20260417T155406Z
LAST-MODIFIED:20260422T001148Z
UID:996853-1776297600-1776729600@www.lcaviagens.com.br
SUMMARY:IT Forum Trancoso 2026
DESCRIPTION:Informática\, Telecomunicações e TI
URL:https://www.lcaviagens.com.br/eventos/it-forum-trancoso-2026/
LOCATION:Club Med Trancoso\, Porto Seguro\, BA
CATEGORIES:Informática,Telecomunicações e TI
END:VEVENT
BEGIN:VEVENT
DTSTART;TZID=UTC:20260416T000000
DTEND;TZID=UTC:20260420T000000
DTSTAMP:20260424T152717
CREATED:20260417T155405Z
LAST-MODIFIED:20260422T001148Z
UID:996852-1776297600-1776643200@www.lcaviagens.com.br
SUMMARY:ARS 2026 - Araxá Rodeio Show
DESCRIPTION:Agropecuário\, Comercial e Industrial
URL:https://www.lcaviagens.com.br/eventos/ars-2026-araxa-rodeio-show/
LOCATION:Parque de Exposições Agenor Lemos\, Araxá\, MG
CATEGORIES:Agropecuário,Comercial e Industrial
END:VEVENT
BEGIN:VEVENT
DTSTART;TZID=UTC:20260416T000000
DTEND;TZID=UTC:20260419T000000
DTSTAMP:20260424T152717
CREATED:20260417T155405Z
LAST-MODIFIED:20260422T001148Z
UID:996851-1776297600-1776556800@www.lcaviagens.com.br
SUMMARY:Rodeio Crioulo Nacional CTG Porteira Catarinense
DESCRIPTION:Agropecuário\, Comercial e Industrial
URL:https://www.lcaviagens.com.br/eventos/rodeio-crioulo-nacional-ctg-porteira-catarinense/
LOCATION:CTG Porteira Catarinense\, São João do Sul\, SC
CATEGORIES:Agropecuário,Comercial e Industrial
END:VEVENT
BEGIN:VEVENT
DTSTART;TZID=UTC:20260416T000000
DTEND;TZID=UTC:20260419T000000
DTSTAMP:20260424T152717
CREATED:20260417T155353Z
LAST-MODIFIED:20260422T001135Z
UID:996848-1776297600-1776556800@www.lcaviagens.com.br
SUMMARY:EXPOARAGUARI 2026 (Expo Araguari)
DESCRIPTION:Agropecuário\, Comercial e Industrial
URL:https://www.lcaviagens.com.br/eventos/expoaraguari-2026-expo-araguari/
LOCATION:Parque de Exposições Ministro Rondon Pacheco\, Araguari\, MG
CATEGORIES:Agropecuário,Comercial e Industrial
END:VEVENT
BEGIN:VEVENT
DTSTART;TZID=UTC:20260416T000000
DTEND;TZID=UTC:20260419T000000
DTSTAMP:20260424T152717
CREATED:20260417T155353Z
LAST-MODIFIED:20260422T001135Z
UID:996849-1776297600-1776556800@www.lcaviagens.com.br
SUMMARY:Café Agro - Araguari
DESCRIPTION:Agropecuário\, Comercial e Industrial
URL:https://www.lcaviagens.com.br/eventos/cafe-agro-araguari/
LOCATION:Parque de Exposições Ministro Rondon Pacheco\, Araguari\, MG
CATEGORIES:Agropecuário,Comercial e Industrial
END:VEVENT
BEGIN:VEVENT
DTSTART;TZID=UTC:20260416T000000
DTEND;TZID=UTC:20260419T000000
DTSTAMP:20260424T152717
CREATED:20260417T155353Z
LAST-MODIFIED:20260422T001135Z
UID:996850-1776297600-1776556800@www.lcaviagens.com.br
SUMMARY:MOSTRA NOIVAS (Porto Alegre)
DESCRIPTION:Casamentos\, Formaturas e Festas
URL:https://www.lcaviagens.com.br/eventos/mostra-noivas-porto-alegre/
LOCATION:Centro de Eventos BarraShoppingSul (Barra Shopping Sul)\, Porto Alegre\, RS
CATEGORIES:Casamentos,Formaturas e Festas
END:VEVENT
BEGIN:VEVENT
DTSTART;TZID=UTC:20260416T000000
DTEND;TZID=UTC:20260418T000000
DTSTAMP:20260424T152717
CREATED:20260417T222753Z
LAST-MODIFIED:20260422T005234Z
UID:998943-1776297600-1776470400@www.lcaviagens.com.br
SUMMARY:Ortovet Expert Congress 2026
DESCRIPTION:Animais Domésticos e de Pequeno Porte
URL:https://www.lcaviagens.com.br/eventos/ortovet-expert-congress-2026/
LOCATION:Hotel Intercity Porto Fino\, Florianópolis\, SC
CATEGORIES:Animais Domésticos e de Pequeno Porte
END:VEVENT
BEGIN:VEVENT
DTSTART;TZID=UTC:20260416T000000
DTEND;TZID=UTC:20260418T000000
DTSTAMP:20260424T152717
CREATED:20260417T155352Z
LAST-MODIFIED:20260422T001135Z
UID:996847-1776297600-1776470400@www.lcaviagens.com.br
SUMMARY:EIA - Encontro Internacional de Audiologia
DESCRIPTION:Saúde: Tecnologia\, Equipamentos e Pesquisa
URL:https://www.lcaviagens.com.br/eventos/eia-encontro-internacional-de-audiologia/
LOCATION:Mercado Livre Arena Pacaembu\, São Paulo\, SP
CATEGORIES:Equipamentos e Pesquisa,Saúde: Tecnologia
END:VEVENT
BEGIN:VEVENT
DTSTART;TZID=UTC:20260416T000000
DTEND;TZID=UTC:20260418T000000
DTSTAMP:20260424T152717
CREATED:20260417T155352Z
LAST-MODIFIED:20260422T001134Z
UID:996846-1776297600-1776470400@www.lcaviagens.com.br
SUMMARY:COTB 2026 - Computer on the Beach
DESCRIPTION:Novas Tecnologias\, Invenções e Inovações
URL:https://www.lcaviagens.com.br/eventos/cotb-2026-computer-on-the-beach/
LOCATION:Hotel Praia Brava\, Florianópolis\, SC
CATEGORIES:Invenções e Inovações,Novas Tecnologias
END:VEVENT
BEGIN:VEVENT
DTSTART;TZID=UTC:20260416T000000
DTEND;TZID=UTC:20260417T000000
DTSTAMP:20260424T152717
CREATED:20260418T035541Z
LAST-MODIFIED:20260422T012238Z
UID:1001975-1776297600-1776384000@www.lcaviagens.com.br
SUMMARY:Workshop Corban 360
DESCRIPTION:Empreendedorismo\, Negócios e Franquias
URL:https://www.lcaviagens.com.br/eventos/workshop-corban-360/
LOCATION:São Paulo Expo Exhibition & Convention Center\, São Paulo\, SP
CATEGORIES:Empreendedorismo,Negócios e Franquias
END:VEVENT
BEGIN:VEVENT
DTSTART;TZID=UTC:20260416T000000
DTEND;TZID=UTC:20260417T000000
DTSTAMP:20260424T152717
CREATED:20260417T155435Z
LAST-MODIFIED:20260422T001218Z
UID:996861-1776297600-1776384000@www.lcaviagens.com.br
SUMMARY:Sales Leadership: formando líderes comerciais de alta performance
DESCRIPTION:Empreendedorismo\, Negócios e Franquias
URL:https://www.lcaviagens.com.br/eventos/sales-leadership-formando-lideres-comerciais-de-alta-performance/
LOCATION:Sales Village\, São Paulo\, SP
CATEGORIES:Empreendedorismo,Negócios e Franquias
END:VEVENT
BEGIN:VEVENT
DTSTART;TZID=UTC:20260416T000000
DTEND;TZID=UTC:20260417T000000
DTSTAMP:20260424T152717
CREATED:20260417T155421Z
LAST-MODIFIED:20260422T001204Z
UID:996858-1776297600-1776384000@www.lcaviagens.com.br
SUMMARY:Internal Audit Summit 2026
DESCRIPTION:Gestão Empresarial e Recursos Humanos
URL:https://www.lcaviagens.com.br/eventos/internal-audit-summit-2026/
LOCATION:Hotel Blue Tree Morumbi\, São Paulo\, SP
CATEGORIES:Gestão Empresarial e Recursos Humanos
END:VEVENT
BEGIN:VEVENT
DTSTART;TZID=UTC:20260416T000000
DTEND;TZID=UTC:20260417T000000
DTSTAMP:20260424T152717
CREATED:20260417T155421Z
LAST-MODIFIED:20260422T001204Z
UID:996859-1776297600-1776384000@www.lcaviagens.com.br
SUMMARY:Corporate Risk Summit 2026
DESCRIPTION:Gestão Empresarial e Recursos Humanos
URL:https://www.lcaviagens.com.br/eventos/corporate-risk-summit-2026/
LOCATION:Hotel Intercontinental\, São Paulo\, SP
CATEGORIES:Gestão Empresarial e Recursos Humanos
END:VEVENT
BEGIN:VEVENT
DTSTART;TZID=UTC:20260416T000000
DTEND;TZID=UTC:20260417T000000
DTSTAMP:20260424T152717
CREATED:20260417T155421Z
LAST-MODIFIED:20260422T001204Z
UID:996860-1776297600-1776384000@www.lcaviagens.com.br
SUMMARY:VTEX DAY 2026
DESCRIPTION:Gestão Empresarial e Recursos Humanos
URL:https://www.lcaviagens.com.br/eventos/vtex-day-2026/
LOCATION:São Paulo Expo Exhibition & Convention Center\, São Paulo\, SP
CATEGORIES:Gestão Empresarial e Recursos Humanos
END:VEVENT
BEGIN:VEVENT
DTSTART;TZID=UTC:20260416T000000
DTEND;TZID=UTC:20260416T000000
DTSTAMP:20260424T152717
CREATED:20260417T155421Z
LAST-MODIFIED:20260422T001204Z
UID:996856-1776297600-1776297600@www.lcaviagens.com.br
SUMMARY:Business Leaders Club São Paulo 2026
DESCRIPTION:Informática\, Telecomunicações e TI
URL:https://www.lcaviagens.com.br/eventos/business-leaders-club-sao-paulo-2026/
LOCATION:NB Steak JK\, São Paulo\, SP
CATEGORIES:Informática,Telecomunicações e TI
END:VEVENT
BEGIN:VEVENT
DTSTART;TZID=UTC:20260416T000000
DTEND;TZID=UTC:20260416T000000
DTSTAMP:20260424T152717
CREATED:20260417T155421Z
LAST-MODIFIED:20260422T001204Z
UID:996857-1776297600-1776297600@www.lcaviagens.com.br
SUMMARY:Conferência Internacional UNEM Datagro sobre Etanol de Milho
DESCRIPTION:Agropecuário\, Comercial e Industrial
URL:https://www.lcaviagens.com.br/eventos/conferencia-internacional-unem-datagro-sobre-etanol-de-milho/
LOCATION:Famato – Cenarium Rural\, Cuiabá\, MT
CATEGORIES:Agropecuário,Comercial e Industrial
END:VEVENT
BEGIN:VEVENT
DTSTART;TZID=UTC:20260416T000000
DTEND;TZID=UTC:20260416T000000
DTSTAMP:20260424T152717
CREATED:20260417T155406Z
LAST-MODIFIED:20260422T001149Z
UID:996855-1776297600-1776297600@www.lcaviagens.com.br
SUMMARY:Franchise4U Salvador
DESCRIPTION:Empreendedorismo\, Negócios e Franquias
URL:https://www.lcaviagens.com.br/eventos/franchise4u-salvador/
LOCATION:Hotel Mercure Salvador Pituba\, Salvador\, BA
CATEGORIES:Empreendedorismo,Negócios e Franquias
END:VEVENT
BEGIN:VEVENT
DTSTART;TZID=UTC:20260415T000000
DTEND;TZID=UTC:20260421T000000
DTSTAMP:20260424T152717
CREATED:20260417T155321Z
LAST-MODIFIED:20260422T001104Z
UID:996840-1776211200-1776729600@www.lcaviagens.com.br
SUMMARY:Bienal do Livro Bahia 2026
DESCRIPTION:Cultura e Educação
URL:https://www.lcaviagens.com.br/eventos/bienal-do-livro-bahia-2026/
LOCATION:Centro de Convenções de Salvador\, Salvador\, PR
CATEGORIES:Cultura e Educação
END:VEVENT
BEGIN:VEVENT
DTSTART;TZID=UTC:20260415T000000
DTEND;TZID=UTC:20260419T000000
DTSTAMP:20260424T152717
CREATED:20260417T155321Z
LAST-MODIFIED:20260422T001104Z
UID:996839-1776211200-1776556800@www.lcaviagens.com.br
SUMMARY:Feira da Gestante (Salvador)
DESCRIPTION:Moda Gestante\, Bebê e Criança
URL:https://www.lcaviagens.com.br/eventos/feira-da-gestante-salvador/
LOCATION:Shopping Bela Vista\, Salvador\, BA
CATEGORIES:Bebê e Criança,Moda Gestante
END:VEVENT
BEGIN:VEVENT
DTSTART;TZID=UTC:20260415T000000
DTEND;TZID=UTC:20260418T000000
DTSTAMP:20260424T152717
CREATED:20260417T155321Z
LAST-MODIFIED:20260422T001104Z
UID:996838-1776211200-1776470400@www.lcaviagens.com.br
SUMMARY:Congresso Internacional de Uro-Oncologia
DESCRIPTION:Saúde: Tecnologia\, Equipamentos e Pesquisa
URL:https://www.lcaviagens.com.br/eventos/congresso-internacional-de-uro-oncologia/
LOCATION:Sheraton São Paulo WTC Hotel\, São Paulo\, SP
CATEGORIES:Equipamentos e Pesquisa,Saúde: Tecnologia
END:VEVENT
BEGIN:VEVENT
DTSTART;TZID=UTC:20260415T000000
DTEND;TZID=UTC:20260417T000000
DTSTAMP:20260424T152717
CREATED:20260417T155321Z
LAST-MODIFIED:20260422T001104Z
UID:996837-1776211200-1776384000@www.lcaviagens.com.br
SUMMARY:CBEMM - Congresso Brasileiro de Estruturas Metálicas e Mistas
DESCRIPTION:Tecnologia Industrial
URL:https://www.lcaviagens.com.br/eventos/cbemm-congresso-brasileiro-de-estruturas-metalicas-e-mistas/
LOCATION:Hotel Deville\, Maringá\, PR
CATEGORIES:Tecnologia Industrial
END:VEVENT
END:VCALENDAR