BEGIN:VCALENDAR
VERSION:2.0
PRODID:-//LCA  - ECPv6.15.20//NONSGML v1.0//EN
CALSCALE:GREGORIAN
METHOD:PUBLISH
X-ORIGINAL-URL:https://www.lcaviagens.com.br
X-WR-CALDESC:Eventos para LCA 
REFRESH-INTERVAL;VALUE=DURATION:PT1H
X-Robots-Tag:noindex
X-PUBLISHED-TTL:PT1H
BEGIN:VTIMEZONE
TZID:UTC
BEGIN:STANDARD
TZOFFSETFROM:+0000
TZOFFSETTO:+0000
TZNAME:UTC
DTSTART:20250101T000000
END:STANDARD
END:VTIMEZONE
BEGIN:VEVENT
DTSTART;TZID=UTC:20260604T000000
DTEND;TZID=UTC:20260614T000000
DTSTAMP:20260426T042804
CREATED:20260417T222152Z
LAST-MODIFIED:20260422T003805Z
UID:998596-1780531200-1781395200@www.lcaviagens.com.br
SUMMARY:EXPOTCHÊ
DESCRIPTION:Feiras Multisetoriais
URL:https://www.lcaviagens.com.br/eventos/expotche/
LOCATION:ExpoBrasília – Pavilhão de Exposições Parque da Cidade\, Brasília\, DF
CATEGORIES:Feiras Multisetoriais
END:VEVENT
BEGIN:VEVENT
DTSTART;TZID=UTC:20260604T000000
DTEND;TZID=UTC:20260614T000000
DTSTAMP:20260426T042804
CREATED:20260417T222152Z
LAST-MODIFIED:20260422T003804Z
UID:998594-1780531200-1781395200@www.lcaviagens.com.br
SUMMARY:EXPOBENTO 2026 (Expo Bento)
DESCRIPTION:Feiras Multisetoriais
URL:https://www.lcaviagens.com.br/eventos/expobento-2026-expo-bento/
LOCATION:Parque de Eventos de Bento Gonçalves (Fundaparque)\, Bento Gonçalves\, RS
CATEGORIES:Feiras Multisetoriais
END:VEVENT
BEGIN:VEVENT
DTSTART;TZID=UTC:20260605T000000
DTEND;TZID=UTC:20260606T000000
DTSTAMP:20260426T042804
CREATED:20260417T222200Z
LAST-MODIFIED:20260422T003819Z
UID:998599-1780617600-1780704000@www.lcaviagens.com.br
SUMMARY:Interdor 2026
DESCRIPTION:Saúde: Tecnologia\, Equipamentos e Pesquisa
URL:https://www.lcaviagens.com.br/eventos/interdor-2026/
LOCATION:Centro de Convenções Frei Caneca\, São Paulo\, SP
CATEGORIES:Equipamentos e Pesquisa,Saúde: Tecnologia
END:VEVENT
BEGIN:VEVENT
DTSTART;TZID=UTC:20260605T000000
DTEND;TZID=UTC:20260613T000000
DTSTAMP:20260426T042804
CREATED:20260417T222159Z
LAST-MODIFIED:20260422T003819Z
UID:998598-1780617600-1781308800@www.lcaviagens.com.br
SUMMARY:PLRS 2026 - Pedro Leopoldo Rodeio Show
DESCRIPTION:Agropecuário\, Comercial e Industrial
URL:https://www.lcaviagens.com.br/eventos/plrs-2026-pedro-leopoldo-rodeio-show/
LOCATION:Parque de Exposições\, Ponte Alta do Bom Jesus\, TO
CATEGORIES:Agropecuário,Comercial e Industrial
END:VEVENT
BEGIN:VEVENT
DTSTART;TZID=UTC:20260606T000000
DTEND;TZID=UTC:20260606T000000
DTSTAMP:20260426T042804
CREATED:20260417T222200Z
LAST-MODIFIED:20260422T003819Z
UID:998601-1780704000-1780704000@www.lcaviagens.com.br
SUMMARY:NPC Worldwide Musclecontest (Rio Grande do Sul)
DESCRIPTION:Lazer\, Hobby e Esportes
URL:https://www.lcaviagens.com.br/eventos/npc-worldwide-musclecontest-rio-grande-do-sul/
LOCATION:TBA\, Ji-Paraná\, RO
CATEGORIES:Hobby e Esportes,Lazer
END:VEVENT
BEGIN:VEVENT
DTSTART;TZID=UTC:20260606T000000
DTEND;TZID=UTC:20260606T000000
DTSTAMP:20260426T042804
CREATED:20260417T222200Z
LAST-MODIFIED:20260422T003819Z
UID:998602-1780704000-1780704000@www.lcaviagens.com.br
SUMMARY:NPC Worldwide Musclecontest (Bauru)
DESCRIPTION:Lazer\, Hobby e Esportes
URL:https://www.lcaviagens.com.br/eventos/npc-worldwide-musclecontest-bauru/
LOCATION:Alameda Hall Bauru\, Bauru\, SP
CATEGORIES:Hobby e Esportes,Lazer
END:VEVENT
BEGIN:VEVENT
DTSTART;TZID=UTC:20260606T000000
DTEND;TZID=UTC:20260607T000000
DTSTAMP:20260426T042804
CREATED:20260417T222204Z
LAST-MODIFIED:20260422T003834Z
UID:998603-1780704000-1780790400@www.lcaviagens.com.br
SUMMARY:Gran Bazar (Casa da Frontaria Azulejada) (Junho)
DESCRIPTION:Feiras Multisetoriais
URL:https://www.lcaviagens.com.br/eventos/gran-bazar-casa-da-frontaria-azulejada-junho/
LOCATION:Casa da Frontaria Azulejada\, Santos\, SP
CATEGORIES:Feiras Multisetoriais
END:VEVENT
BEGIN:VEVENT
DTSTART;TZID=UTC:20260607T000000
DTEND;TZID=UTC:20260609T000000
DTSTAMP:20260426T042804
CREATED:20260417T222204Z
LAST-MODIFIED:20260422T003834Z
UID:998604-1780790400-1780963200@www.lcaviagens.com.br
SUMMARY:FEIPET 2026 - Feira de Negócios para Animais de Estimação
DESCRIPTION:Animais Domésticos e de Pequeno Porte
URL:https://www.lcaviagens.com.br/eventos/feipet-2026-feira-de-negocios-para-animais-de-estimacao/
LOCATION:Fenac – Centro de Eventos e Negócios\, Novo Hamburgo\, RS
CATEGORIES:Animais Domésticos e de Pequeno Porte
END:VEVENT
BEGIN:VEVENT
DTSTART;TZID=UTC:20260607T000000
DTEND;TZID=UTC:20260610T000000
DTSTAMP:20260426T042804
CREATED:20260417T222204Z
LAST-MODIFIED:20260422T003834Z
UID:998605-1780790400-1781049600@www.lcaviagens.com.br
SUMMARY:CBC - Congresso Brasileiro de Cerâmica
DESCRIPTION:Construção Civil
URL:https://www.lcaviagens.com.br/eventos/cbc-congresso-brasileiro-de-ceramica/
LOCATION:Wish Foz do Iguaçu Resort\, Foz do Iguaçu\, PR
CATEGORIES:Construção Civil
END:VEVENT
BEGIN:VEVENT
DTSTART;TZID=UTC:20260608T000000
DTEND;TZID=UTC:20260609T000000
DTSTAMP:20260426T042804
CREATED:20260417T222210Z
LAST-MODIFIED:20260422T003850Z
UID:998615-1780876800-1780963200@www.lcaviagens.com.br
SUMMARY:ABAD 2026 - Feira e Convenção Anual do Comércio Atacadista Distribuidor (Convenção Anual do Canal Indireto)
DESCRIPTION:Atacadista e Varejista
URL:https://www.lcaviagens.com.br/eventos/abad-2026-feira-e-convencao-anual-do-comercio-atacadista-distribuidor-convencao-anual-do-canal-indireto/
LOCATION:Bourbon Convention Resort Atibaia\, Atibaia\, SP
CATEGORIES:Atacadista e Varejista
END:VEVENT
BEGIN:VEVENT
DTSTART;TZID=UTC:20260608T000000
DTEND;TZID=UTC:20260610T000000
DTSTAMP:20260426T042804
CREATED:20260417T222205Z
LAST-MODIFIED:20260422T003834Z
UID:998606-1780876800-1781049600@www.lcaviagens.com.br
SUMMARY:CBTD - Congresso Brasileiro de Treinamento e Desenvolvimento
DESCRIPTION:Gestão Empresarial e Recursos Humanos
URL:https://www.lcaviagens.com.br/eventos/cbtd-congresso-brasileiro-de-treinamento-e-desenvolvimento/
LOCATION:Centro de Eventos Pro Magno\, São Paulo\, SP
CATEGORIES:Gestão Empresarial e Recursos Humanos
END:VEVENT
BEGIN:VEVENT
DTSTART;TZID=UTC:20260608T000000
DTEND;TZID=UTC:20260610T000000
DTSTAMP:20260426T042804
CREATED:20260417T222205Z
LAST-MODIFIED:20260422T003834Z
UID:998607-1780876800-1781049600@www.lcaviagens.com.br
SUMMARY:EXPOCBTD - Exposição de Produtos e Serviços para RH
DESCRIPTION:Gestão Empresarial e Recursos Humanos
URL:https://www.lcaviagens.com.br/eventos/expocbtd-exposicao-de-produtos-e-servicos-para-rh/
LOCATION:Pro Magno Centro de Eventos\, São Paulo\, SP
CATEGORIES:Gestão Empresarial e Recursos Humanos
END:VEVENT
BEGIN:VEVENT
DTSTART;TZID=UTC:20260608T000000
DTEND;TZID=UTC:20260611T000000
DTSTAMP:20260426T042804
CREATED:20260417T222210Z
LAST-MODIFIED:20260422T003849Z
UID:998613-1780876800-1781136000@www.lcaviagens.com.br
SUMMARY:Web Summit Rio 2026
DESCRIPTION:Novas Tecnologias\, Invenções e Inovações
URL:https://www.lcaviagens.com.br/eventos/web-summit-rio-2026/
LOCATION:Riocentro\, Rio de Janeiro\, RJ
CATEGORIES:Invenções e Inovações,Novas Tecnologias
END:VEVENT
BEGIN:VEVENT
DTSTART;TZID=UTC:20260608T000000
DTEND;TZID=UTC:20260613T000000
DTSTAMP:20260426T042804
CREATED:20260417T222210Z
LAST-MODIFIED:20260422T003850Z
UID:998614-1780876800-1781308800@www.lcaviagens.com.br
SUMMARY:BAHIA FARM SHOW - Feira de Tecnologia Agrícola e Negócios
DESCRIPTION:Agropecuário\, Comercial e Industrial
URL:https://www.lcaviagens.com.br/eventos/bahia-farm-show-feira-de-tecnologia-agricola-e-negocios/
LOCATION:Complexo Bahia Farm Show\, Luís Eduardo Magalhães\, BA
CATEGORIES:Agropecuário,Comercial e Industrial
END:VEVENT
BEGIN:VEVENT
DTSTART;TZID=UTC:20260609T000000
DTEND;TZID=UTC:20260609T000000
DTSTAMP:20260426T042804
CREATED:20260417T222219Z
LAST-MODIFIED:20260422T003905Z
UID:998621-1780963200-1780963200@www.lcaviagens.com.br
SUMMARY:Compras Summit 2026
DESCRIPTION:Gestão Empresarial e Recursos Humanos
URL:https://www.lcaviagens.com.br/eventos/compras-summit-2026/
LOCATION:Grand Mercure São Paulo Vila Olimpia\, Sao Paulo\, SP
CATEGORIES:Gestão Empresarial e Recursos Humanos
END:VEVENT
BEGIN:VEVENT
DTSTART;TZID=UTC:20260609T000000
DTEND;TZID=UTC:20260610T000000
DTSTAMP:20260426T042804
CREATED:20260417T222219Z
LAST-MODIFIED:20260422T003905Z
UID:998622-1780963200-1781049600@www.lcaviagens.com.br
SUMMARY:Fórum de Estratégias em Compras
DESCRIPTION:Gestão Empresarial e Recursos Humanos
URL:https://www.lcaviagens.com.br/eventos/forum-de-estrategias-em-compras/
LOCATION:Hotel Blue Tree Morumbi\, São Paulo\, SP
CATEGORIES:Gestão Empresarial e Recursos Humanos
END:VEVENT
BEGIN:VEVENT
DTSTART;TZID=UTC:20260609T000000
DTEND;TZID=UTC:20260610T000000
DTSTAMP:20260426T042804
CREATED:20260417T222224Z
LAST-MODIFIED:20260422T003919Z
UID:998623-1780963200-1781049600@www.lcaviagens.com.br
SUMMARY:EDU SUMMIT - Congresso Brasileiro de Educação
DESCRIPTION:Cultura e Educação
URL:https://www.lcaviagens.com.br/eventos/edu-summit-congresso-brasileiro-de-educacao/
LOCATION:Centro de Eventos do Ceará\, Fortaleza\, CE
CATEGORIES:Cultura e Educação
END:VEVENT
BEGIN:VEVENT
DTSTART;TZID=UTC:20260609T000000
DTEND;TZID=UTC:20260611T000000
DTSTAMP:20260426T042804
CREATED:20260417T222210Z
LAST-MODIFIED:20260422T003850Z
UID:998616-1780963200-1781136000@www.lcaviagens.com.br
SUMMARY:Congresso INFRA FM América Latina
DESCRIPTION:Habitação\, Condomínios e Imóveis em Geral
URL:https://www.lcaviagens.com.br/eventos/congresso-infra-fm-america-latina/
LOCATION:Expo Center Norte\, São Paulo\, SP
CATEGORIES:Condomínios e Imóveis em Geral,Habitação
END:VEVENT
BEGIN:VEVENT
DTSTART;TZID=UTC:20260609T000000
DTEND;TZID=UTC:20260611T000000
DTSTAMP:20260426T042804
CREATED:20260417T222211Z
LAST-MODIFIED:20260422T003850Z
UID:998617-1780963200-1781136000@www.lcaviagens.com.br
SUMMARY:INFRA FM Expo 2026
DESCRIPTION:Habitação\, Condomínios e Imóveis em Geral
URL:https://www.lcaviagens.com.br/eventos/infra-fm-expo-2026/
LOCATION:Expo Center Norte\, São Paulo\, SP
CATEGORIES:Condomínios e Imóveis em Geral,Habitação
END:VEVENT
BEGIN:VEVENT
DTSTART;TZID=UTC:20260609T000000
DTEND;TZID=UTC:20260611T000000
DTSTAMP:20260426T042804
CREATED:20260417T222218Z
LAST-MODIFIED:20260422T003904Z
UID:998618-1780963200-1781136000@www.lcaviagens.com.br
SUMMARY:Cachaça Trade Fair
DESCRIPTION:Alimentos e Bebidas
URL:https://www.lcaviagens.com.br/eventos/cachaca-trade-fair/
LOCATION:Expo Center Norte\, São Paulo\, SP
CATEGORIES:Alimentos e Bebidas
END:VEVENT
BEGIN:VEVENT
DTSTART;TZID=UTC:20260609T000000
DTEND;TZID=UTC:20260611T000000
DTSTAMP:20260426T042804
CREATED:20260417T222218Z
LAST-MODIFIED:20260422T003904Z
UID:998619-1780963200-1781136000@www.lcaviagens.com.br
SUMMARY:Wine Trade Fair
DESCRIPTION:Alimentos e Bebidas
URL:https://www.lcaviagens.com.br/eventos/wine-trade-fair/
LOCATION:Expo Center Norte\, São Paulo\, SP
CATEGORIES:Alimentos e Bebidas
END:VEVENT
BEGIN:VEVENT
DTSTART;TZID=UTC:20260609T000000
DTEND;TZID=UTC:20260611T000000
DTSTAMP:20260426T042804
CREATED:20260417T222218Z
LAST-MODIFIED:20260422T003905Z
UID:998620-1780963200-1781136000@www.lcaviagens.com.br
SUMMARY:FVST26 - Fevest Inspire 2026 (FEVEST - Feira de Nova Friburgo)
DESCRIPTION:Setores Têxtil e Têxtil Confeccionista
URL:https://www.lcaviagens.com.br/eventos/fvst26-fevest-inspire-2026-fevest-feira-de-nova-friburgo/
LOCATION:Nova Friburgo Country Clube\, Nova Friburgo\, RJ
CATEGORIES:Setores Têxtil e Têxtil Confeccionista
END:VEVENT
BEGIN:VEVENT
DTSTART;TZID=UTC:20260609T000000
DTEND;TZID=UTC:20260611T000000
DTSTAMP:20260426T042804
CREATED:20260417T222713Z
LAST-MODIFIED:20260422T005105Z
UID:998911-1780963200-1781136000@www.lcaviagens.com.br
SUMMARY:EXPO MULTIMIX - Feira Multissetorial do Norte (Expo MultiMix) (Manaus)
DESCRIPTION:Feiras Multisetoriais
URL:https://www.lcaviagens.com.br/eventos/expo-multimix-feira-multissetorial-do-norte-expo-multimix-manaus/
LOCATION:Centro de Convenções do Amazonas Vasco Vasques\, Manaus\, SP
CATEGORIES:Feiras Multisetoriais
END:VEVENT
BEGIN:VEVENT
DTSTART;TZID=UTC:20260610T000000
DTEND;TZID=UTC:20260610T000000
DTSTAMP:20260426T042804
CREATED:20260417T222239Z
LAST-MODIFIED:20260422T003949Z
UID:998637-1781049600-1781049600@www.lcaviagens.com.br
SUMMARY:Circuito ExpoEcomm (Blumenau)
DESCRIPTION:Empreendedorismo\, Negócios e Franquias
URL:https://www.lcaviagens.com.br/eventos/circuito-expoecomm-blumenau/
LOCATION:Parque de Exposições Vila Germânica\, Blumenau\, SC
CATEGORIES:Empreendedorismo,Negócios e Franquias
END:VEVENT
BEGIN:VEVENT
DTSTART;TZID=UTC:20260610T000000
DTEND;TZID=UTC:20260610T000000
DTSTAMP:20260426T042804
CREATED:20260417T222239Z
LAST-MODIFIED:20260422T003949Z
UID:998636-1781049600-1781049600@www.lcaviagens.com.br
SUMMARY:Simpósio SAE BRASIL Veículos Elétricos e Híbridos
DESCRIPTION:Tecnologia Industrial
URL:https://www.lcaviagens.com.br/eventos/simposio-sae-brasil-veiculos-eletricos-e-hibridos/
LOCATION:Novotel Center Norte\, São Paulo\, SP
CATEGORIES:Tecnologia Industrial
END:VEVENT
BEGIN:VEVENT
DTSTART;TZID=UTC:20260610T000000
DTEND;TZID=UTC:20260611T000000
DTSTAMP:20260426T042804
CREATED:20260417T222244Z
LAST-MODIFIED:20260422T004004Z
UID:998638-1781049600-1781136000@www.lcaviagens.com.br
SUMMARY:FAVESU - Feira de Avicultura e Suinocultura Capixaba
DESCRIPTION:Agropecuário\, Comercial e Industrial
URL:https://www.lcaviagens.com.br/eventos/favesu-feira-de-avicultura-e-suinocultura-capixaba/
LOCATION:Centro de Eventos Padre Cleto Caliman\, Venda Nova do Imigrante\, ES
CATEGORIES:Agropecuário,Comercial e Industrial
END:VEVENT
BEGIN:VEVENT
DTSTART;TZID=UTC:20260610T000000
DTEND;TZID=UTC:20260611T000000
DTSTAMP:20260426T042804
CREATED:20260417T222244Z
LAST-MODIFIED:20260422T004004Z
UID:998639-1781049600-1781136000@www.lcaviagens.com.br
SUMMARY:SHOWBRINQ - Showroom de Brinquedos (Espírito Santo)
DESCRIPTION:Utilidades do Lar\, Presentes\, Brindes e Brinquedos
URL:https://www.lcaviagens.com.br/eventos/showbrinq-showroom-de-brinquedos-espirito-santo/
LOCATION:Centro de Celebrações – PIBJC\, Vitória\, ES
CATEGORIES:Brindes e Brinquedos,Presentes,Utilidades do Lar
END:VEVENT
BEGIN:VEVENT
DTSTART;TZID=UTC:20260610T000000
DTEND;TZID=UTC:20260611T000000
DTSTAMP:20260426T042804
CREATED:20260417T222244Z
LAST-MODIFIED:20260422T004004Z
UID:998640-1781049600-1781136000@www.lcaviagens.com.br
SUMMARY:CIDE - Congresso de Inovação na Distribuição de Energia Elétrica (Cide Brasil)
DESCRIPTION:Energia
URL:https://www.lcaviagens.com.br/eventos/cide-congresso-de-inovacao-na-distribuicao-de-energia-eletrica-cide-brasil/
LOCATION:Transamérica Expo Center\, São Paulo\, SP
CATEGORIES:Energia
END:VEVENT
BEGIN:VEVENT
DTSTART;TZID=UTC:20260610T000000
DTEND;TZID=UTC:20260612T000000
DTSTAMP:20260426T042804
CREATED:20260417T222224Z
LAST-MODIFIED:20260422T003919Z
UID:998626-1781049600-1781222400@www.lcaviagens.com.br
SUMMARY:Fórum Paulista de Pesquisa em Nutrição Clínica
DESCRIPTION:Saúde: Tecnologia\, Equipamentos e Pesquisa
URL:https://www.lcaviagens.com.br/eventos/forum-paulista-de-pesquisa-em-nutricao-clinica/
LOCATION:Centro de Convenções Frei Caneca\, São Paulo\, SP
CATEGORIES:Equipamentos e Pesquisa,Saúde: Tecnologia
END:VEVENT
BEGIN:VEVENT
DTSTART;TZID=UTC:20260610T000000
DTEND;TZID=UTC:20260612T000000
DTSTAMP:20260426T042804
CREATED:20260417T222224Z
LAST-MODIFIED:20260422T003919Z
UID:998624-1781049600-1781222400@www.lcaviagens.com.br
SUMMARY:#DOFF26 - Feira Diversão Offline 2026
DESCRIPTION:Lazer\, Hobby e Esportes
URL:https://www.lcaviagens.com.br/eventos/doff26-feira-diversao-offline-2026/
LOCATION:Expo Center Norte\, São Paulo\, SP
CATEGORIES:Hobby e Esportes,Lazer
END:VEVENT
END:VCALENDAR