BEGIN:VCALENDAR
VERSION:2.0
PRODID:-//LCA  - ECPv6.15.20//NONSGML v1.0//EN
CALSCALE:GREGORIAN
METHOD:PUBLISH
X-ORIGINAL-URL:https://www.lcaviagens.com.br
X-WR-CALDESC:Eventos para LCA 
REFRESH-INTERVAL;VALUE=DURATION:PT1H
X-Robots-Tag:noindex
X-PUBLISHED-TTL:PT1H
BEGIN:VTIMEZONE
TZID:UTC
BEGIN:STANDARD
TZOFFSETFROM:+0000
TZOFFSETTO:+0000
TZNAME:UTC
DTSTART:20250101T000000
END:STANDARD
END:VTIMEZONE
BEGIN:VEVENT
DTSTART;TZID=UTC:20260524T000000
DTEND;TZID=UTC:20260524T000000
DTSTAMP:20260425T174352
CREATED:20260417T161238Z
LAST-MODIFIED:20260422T003034Z
UID:997221-1779580800-1779580800@www.lcaviagens.com.br
SUMMARY:Live! Run XP (Recife) (Maio)
DESCRIPTION:Lazer\, Hobby e Esportes
URL:https://www.lcaviagens.com.br/eventos/live-run-xp-recife-maio/
LOCATION:Recife\, Recife\, PE
CATEGORIES:Hobby e Esportes,Lazer
END:VEVENT
BEGIN:VEVENT
DTSTART;TZID=UTC:20260524T000000
DTEND;TZID=UTC:20260526T000000
DTSTAMP:20260425T174352
CREATED:20260417T161224Z
LAST-MODIFIED:20260422T003019Z
UID:997219-1779580800-1779753600@www.lcaviagens.com.br
SUMMARY:Goiâniacal Preview (Goianiacal) (Maio)
DESCRIPTION:Couro: Tecnologia\, Calçados e Artefatos
URL:https://www.lcaviagens.com.br/eventos/goianiacal-preview-goianiacal-maio/
LOCATION:Centro de Convenções de Goiânia\, Goiânia\, GO
CATEGORIES:Calçados e Artefatos,Couro: Tecnologia
END:VEVENT
BEGIN:VEVENT
DTSTART;TZID=UTC:20260525T000000
DTEND;TZID=UTC:20260528T000000
DTSTAMP:20260425T174352
CREATED:20260417T161239Z
LAST-MODIFIED:20260422T003034Z
UID:997222-1779667200-1779926400@www.lcaviagens.com.br
SUMMARY:CON BRASIL - Congresso Nacional de Licitações e Contratos (ConBrasil)
DESCRIPTION:Construção Civil
URL:https://www.lcaviagens.com.br/eventos/con-brasil-congresso-nacional-de-licitacoes-e-contratos-conbrasil/
LOCATION:Brasília\, Brasília\, DF
CATEGORIES:Construção Civil
END:VEVENT
BEGIN:VEVENT
DTSTART;TZID=UTC:20260525T000000
DTEND;TZID=UTC:20260529T000000
DTSTAMP:20260425T174352
CREATED:20260417T161239Z
LAST-MODIFIED:20260422T003034Z
UID:997224-1779667200-1780012800@www.lcaviagens.com.br
SUMMARY:FIB 2026 - Fórum da Internet no Brasil
DESCRIPTION:Informática\, Telecomunicações e TI
URL:https://www.lcaviagens.com.br/eventos/fib-2026-forum-da-internet-no-brasil/
LOCATION:Belém\, Belém\, PA
CATEGORIES:Informática,Telecomunicações e TI
END:VEVENT
BEGIN:VEVENT
DTSTART;TZID=UTC:20260525T000000
DTEND;TZID=UTC:20260529T000000
DTSTAMP:20260425T174352
CREATED:20260417T161239Z
LAST-MODIFIED:20260422T003034Z
UID:997223-1779667200-1780012800@www.lcaviagens.com.br
SUMMARY:SBRC 2026 - Simpósio Brasileiro de Redes de Computadores e Sistemas Distribuídos
DESCRIPTION:Informática\, Telecomunicações e TI
URL:https://www.lcaviagens.com.br/eventos/sbrc-2026-simposio-brasileiro-de-redes-de-computadores-e-sistemas-distribuidos/
LOCATION:Praia do Forte Convention Center\, Salvador\, BA
CATEGORIES:Informática,Telecomunicações e TI
END:VEVENT
BEGIN:VEVENT
DTSTART;TZID=UTC:20260525T000000
DTEND;TZID=UTC:20260530T000000
DTSTAMP:20260425T174352
CREATED:20260417T161239Z
LAST-MODIFIED:20260422T003035Z
UID:997225-1779667200-1780099200@www.lcaviagens.com.br
SUMMARY:Rondoleite 2026
DESCRIPTION:Agropecuário\, Comercial e Industrial
URL:https://www.lcaviagens.com.br/eventos/rondoleite-2026/
LOCATION:Centro Tecnológico Vandeci Rack\, Ji-Paraná\, RO
CATEGORIES:Agropecuário,Comercial e Industrial
END:VEVENT
BEGIN:VEVENT
DTSTART;TZID=UTC:20260525T000000
DTEND;TZID=UTC:20260530T000000
DTSTAMP:20260425T174352
CREATED:20260417T161254Z
LAST-MODIFIED:20260422T003049Z
UID:997226-1779667200-1780099200@www.lcaviagens.com.br
SUMMARY:RONDÔNIA RURAL SHOW INTERNACIONAL 2026 - Feira Tecnológica de Negócios Agropecuários do Estado de Rondônia
DESCRIPTION:Agropecuário\, Comercial e Industrial
URL:https://www.lcaviagens.com.br/eventos/rondonia-rural-show-internacional-2026-feira-tecnologica-de-negocios-agropecuarios-do-estado-de-rondonia/
LOCATION:Centro Tecnológico Vandeci Rack\, Ji-Paraná\, RO
CATEGORIES:Agropecuário,Comercial e Industrial
END:VEVENT
BEGIN:VEVENT
DTSTART;TZID=UTC:20260526T000000
DTEND;TZID=UTC:20260526T000000
DTSTAMP:20260425T174352
CREATED:20260417T161322Z
LAST-MODIFIED:20260422T003119Z
UID:997238-1779753600-1779753600@www.lcaviagens.com.br
SUMMARY:Feira de Oportunidades do Inatel
DESCRIPTION:Novas Tecnologias\, Invenções e Inovações
URL:https://www.lcaviagens.com.br/eventos/feira-de-oportunidades-do-inatel/
LOCATION:Instituto Nacional de Telecomunicações (Inatel)\, Santa Rita do Sapucaí\, MG
CATEGORIES:Invenções e Inovações,Novas Tecnologias
END:VEVENT
BEGIN:VEVENT
DTSTART;TZID=UTC:20260526T000000
DTEND;TZID=UTC:20260526T000000
DTSTAMP:20260425T174352
CREATED:20260417T161322Z
LAST-MODIFIED:20260422T003119Z
UID:997239-1779753600-1779753600@www.lcaviagens.com.br
SUMMARY:Panrotas Next (Vitória)
DESCRIPTION:Turismo\, Hotéis\, Bares e Restaurantes
URL:https://www.lcaviagens.com.br/eventos/panrotas-next-vitoria/
LOCATION:Hotel Gran Marquise\, Vitória\, ES
CATEGORIES:Bares e Restaurantes,Hotéis,Turismo
END:VEVENT
BEGIN:VEVENT
DTSTART;TZID=UTC:20260526T000000
DTEND;TZID=UTC:20260526T000000
DTSTAMP:20260425T174352
CREATED:20260417T222502Z
LAST-MODIFIED:20260422T004519Z
UID:998765-1779753600-1779753600@www.lcaviagens.com.br
SUMMARY:Prêmio Consumidor 2026 (Prêmio Consumidor Moderno)
DESCRIPTION:Empreendedorismo\, Negócios e Franquias
URL:https://www.lcaviagens.com.br/eventos/premio-consumidor-2026-premio-consumidor-moderno/
LOCATION:São Paulo\, São Paulo\, SP
CATEGORIES:Empreendedorismo,Negócios e Franquias
END:VEVENT
BEGIN:VEVENT
DTSTART;TZID=UTC:20260526T000000
DTEND;TZID=UTC:20260527T000000
DTSTAMP:20260425T174352
CREATED:20260417T161337Z
LAST-MODIFIED:20260422T003134Z
UID:997241-1779753600-1779840000@www.lcaviagens.com.br
SUMMARY:Data\, Analytics & AI Summit 2026
DESCRIPTION:Gestão Empresarial e Recursos Humanos
URL:https://www.lcaviagens.com.br/eventos/data-analytics-ai-summit-2026/
LOCATION:Hotel Meliá Paulista\, São Paulo\, SP
CATEGORIES:Gestão Empresarial e Recursos Humanos
END:VEVENT
BEGIN:VEVENT
DTSTART;TZID=UTC:20260526T000000
DTEND;TZID=UTC:20260527T000000
DTSTAMP:20260425T174352
CREATED:20260417T161337Z
LAST-MODIFIED:20260422T003134Z
UID:997242-1779753600-1779840000@www.lcaviagens.com.br
SUMMARY:Governance\, Risk & Compliance Summit 2026
DESCRIPTION:Gestão Empresarial e Recursos Humanos
URL:https://www.lcaviagens.com.br/eventos/governance-risk-compliance-summit-2026/
LOCATION:Hotel Meliá Paulista\, São Paulo\, SP
CATEGORIES:Gestão Empresarial e Recursos Humanos
END:VEVENT
BEGIN:VEVENT
DTSTART;TZID=UTC:20260526T000000
DTEND;TZID=UTC:20260527T000000
DTSTAMP:20260425T174352
CREATED:20260417T161337Z
LAST-MODIFIED:20260422T003134Z
UID:997243-1779753600-1779840000@www.lcaviagens.com.br
SUMMARY:PROXXIMA 2026
DESCRIPTION:Novas Tecnologias\, Invenções e Inovações
URL:https://www.lcaviagens.com.br/eventos/proxxima-2026/
LOCATION:WTC – World Trade Center São Paulo\, São Paulo\, SP
CATEGORIES:Invenções e Inovações,Novas Tecnologias
END:VEVENT
BEGIN:VEVENT
DTSTART;TZID=UTC:20260526T000000
DTEND;TZID=UTC:20260528T000000
DTSTAMP:20260425T174352
CREATED:20260417T161254Z
LAST-MODIFIED:20260422T003049Z
UID:997229-1779753600-1779926400@www.lcaviagens.com.br
SUMMARY:SBSI 2026 - Simpósio Brasileiro de Sistemas de Informação
DESCRIPTION:Informática\, Telecomunicações e TI
URL:https://www.lcaviagens.com.br/eventos/sbsi-2026-simposio-brasileiro-de-sistemas-de-informacao/
LOCATION:Hotel Senac – Ilha do Boi\, Vitória\, ES
CATEGORIES:Informática,Telecomunicações e TI
END:VEVENT
BEGIN:VEVENT
DTSTART;TZID=UTC:20260526T000000
DTEND;TZID=UTC:20260528T000000
DTSTAMP:20260425T174352
CREATED:20260417T161254Z
LAST-MODIFIED:20260422T003049Z
UID:997227-1779753600-1779926400@www.lcaviagens.com.br
SUMMARY:EXPOCAFÉ - Exposição Nacional do Café
DESCRIPTION:Agropecuário\, Comercial e Industrial
URL:https://www.lcaviagens.com.br/eventos/expocafe-exposicao-nacional-do-cafe/
LOCATION:Aeroporto de Três Pontas\, Três Pontas\, MG
CATEGORIES:Agropecuário,Comercial e Industrial
END:VEVENT
BEGIN:VEVENT
DTSTART;TZID=UTC:20260526T000000
DTEND;TZID=UTC:20260528T000000
DTSTAMP:20260425T174352
CREATED:20260417T161254Z
LAST-MODIFIED:20260422T003049Z
UID:997228-1779753600-1779926400@www.lcaviagens.com.br
SUMMARY:Yes Móvel Show Minas Gerais
DESCRIPTION:Madeira\, Móveis e Decorações
URL:https://www.lcaviagens.com.br/eventos/yes-movel-show-minas-gerais/
LOCATION:Expominas – Belo Horizonte\, Belo Horizonte\, MG
CATEGORIES:Madeira,Móveis e Decorações
END:VEVENT
BEGIN:VEVENT
DTSTART;TZID=UTC:20260526T000000
DTEND;TZID=UTC:20260529T000000
DTSTAMP:20260425T174352
CREATED:20260417T161254Z
LAST-MODIFIED:20260422T003050Z
UID:997230-1779753600-1780012800@www.lcaviagens.com.br
SUMMARY:CONSTRUSUL - Feira Internacional da Construção (Balneário Camboriú)
DESCRIPTION:Construção Civil
URL:https://www.lcaviagens.com.br/eventos/construsul-feira-internacional-da-construcao-balneario-camboriu/
LOCATION:Expocentro Balneário Camboriú\, Balneário Camboriú\, SC
CATEGORIES:Construção Civil
END:VEVENT
BEGIN:VEVENT
DTSTART;TZID=UTC:20260526T000000
DTEND;TZID=UTC:20260529T000000
DTSTAMP:20260425T174352
CREATED:20260417T161309Z
LAST-MODIFIED:20260422T003105Z
UID:997234-1779753600-1780012800@www.lcaviagens.com.br
SUMMARY:FISPAL FOOD SERVICE - Feira Internacional de Produtos e Serviços para a Alimentação Fora do Lar
DESCRIPTION:Alimentos e Bebidas
URL:https://www.lcaviagens.com.br/eventos/fispal-food-service-feira-internacional-de-produtos-e-servicos-para-a-alimentacao-fora-do-lar/
LOCATION:Distrito Anhembi\, São Paulo\, SP
CATEGORIES:Alimentos e Bebidas
END:VEVENT
BEGIN:VEVENT
DTSTART;TZID=UTC:20260526T000000
DTEND;TZID=UTC:20260529T000000
DTSTAMP:20260425T174352
CREATED:20260417T161309Z
LAST-MODIFIED:20260422T003105Z
UID:997235-1779753600-1780012800@www.lcaviagens.com.br
SUMMARY:FISPAL SORVETES - Feira Internacional de Tecnologia para a Indústria de Sorveteria Profissional
DESCRIPTION:Alimentos e Bebidas
URL:https://www.lcaviagens.com.br/eventos/fispal-sorvetes-feira-internacional-de-tecnologia-para-a-industria-de-sorveteria-profissional/
LOCATION:Distrito Anhembi\, São Paulo\, SP
CATEGORIES:Alimentos e Bebidas
END:VEVENT
BEGIN:VEVENT
DTSTART;TZID=UTC:20260526T000000
DTEND;TZID=UTC:20260529T000000
DTSTAMP:20260425T174352
CREATED:20260417T161309Z
LAST-MODIFIED:20260422T003104Z
UID:997231-1779753600-1780012800@www.lcaviagens.com.br
SUMMARY:Expocitros 2026 (Expo Citros)
DESCRIPTION:Agropecuário\, Comercial e Industrial
URL:https://www.lcaviagens.com.br/eventos/expocitros-2026-expo-citros/
LOCATION:Centro de Citricultura Sylvio Moreira\, Cordeirópolis\, SP
CATEGORIES:Agropecuário,Comercial e Industrial
END:VEVENT
BEGIN:VEVENT
DTSTART;TZID=UTC:20260526T000000
DTEND;TZID=UTC:20260529T000000
DTSTAMP:20260425T174352
CREATED:20260417T161309Z
LAST-MODIFIED:20260422T003104Z
UID:997232-1779753600-1780012800@www.lcaviagens.com.br
SUMMARY:Semana da Citricultura
DESCRIPTION:Agropecuário\, Comercial e Industrial
URL:https://www.lcaviagens.com.br/eventos/semana-da-citricultura/
LOCATION:Centro de Citricultura Sylvio Moreira\, Cordeirópolis\, SP
CATEGORIES:Agropecuário,Comercial e Industrial
END:VEVENT
BEGIN:VEVENT
DTSTART;TZID=UTC:20260526T000000
DTEND;TZID=UTC:20260529T000000
DTSTAMP:20260425T174352
CREATED:20260417T161309Z
LAST-MODIFIED:20260422T003105Z
UID:997233-1779753600-1780012800@www.lcaviagens.com.br
SUMMARY:FISPAL CAFÉ - Feira de Negócios para o Setor Cafeeiro
DESCRIPTION:Alimentos e Bebidas
URL:https://www.lcaviagens.com.br/eventos/fispal-cafe-feira-de-negocios-para-o-setor-cafeeiro/
LOCATION:Distrito Anhembi\, São Paulo\, SP
CATEGORIES:Alimentos e Bebidas
END:VEVENT
BEGIN:VEVENT
DTSTART;TZID=UTC:20260526T000000
DTEND;TZID=UTC:20260531T000000
DTSTAMP:20260425T174352
CREATED:20260417T161321Z
LAST-MODIFIED:20260422T003118Z
UID:997236-1779753600-1780185600@www.lcaviagens.com.br
SUMMARY:EXPOGURUPI - Feira Agropecuária de Gurupi (Expo Gurupi)
DESCRIPTION:Agropecuário\, Comercial e Industrial
URL:https://www.lcaviagens.com.br/eventos/expogurupi-feira-agropecuaria-de-gurupi-expo-gurupi/
LOCATION:Centro de Exposições\, Gurupi\, TO
CATEGORIES:Agropecuário,Comercial e Industrial
END:VEVENT
BEGIN:VEVENT
DTSTART;TZID=UTC:20260526T000000
DTEND;TZID=UTC:20260531T000000
DTSTAMP:20260425T174352
CREATED:20260417T161322Z
LAST-MODIFIED:20260422T003118Z
UID:997237-1779753600-1780185600@www.lcaviagens.com.br
SUMMARY:Rio2C - Rio Creative Conference
DESCRIPTION:Novas Tecnologias\, Invenções e Inovações
URL:https://www.lcaviagens.com.br/eventos/rio2c-rio-creative-conference/
LOCATION:Cidade das Artes\, Rio de Janeiro\, RJ
CATEGORIES:Invenções e Inovações,Novas Tecnologias
END:VEVENT
BEGIN:VEVENT
DTSTART;TZID=UTC:20260526T000000
DTEND;TZID=UTC:20260712T000000
DTSTAMP:20260425T174352
CREATED:20260417T161322Z
LAST-MODIFIED:20260422T003119Z
UID:997240-1779753600-1783814400@www.lcaviagens.com.br
SUMMARY:CASACOR 2026 (Tocantins)
DESCRIPTION:Habitação\, Condomínios e Imóveis em Geral
URL:https://www.lcaviagens.com.br/eventos/casacor-2026-tocantins/
LOCATION:Palmas\, Palmas\, TO
CATEGORIES:Condomínios e Imóveis em Geral,Habitação
END:VEVENT
BEGIN:VEVENT
DTSTART;TZID=UTC:20260527T000000
DTEND;TZID=UTC:20260528T000000
DTSTAMP:20260425T174352
CREATED:20260417T161353Z
LAST-MODIFIED:20260422T003149Z
UID:997250-1779840000-1779926400@www.lcaviagens.com.br
SUMMARY:Feira EBS - Evento Business Show
DESCRIPTION:Comunicação Empresarial\, Feiras e Eventos
URL:https://www.lcaviagens.com.br/eventos/feira-ebs-evento-business-show/
LOCATION:Centro de Convenções Rebouças\, São Paulo\, SP
CATEGORIES:Comunicação Empresarial,Feiras e Eventos
END:VEVENT
BEGIN:VEVENT
DTSTART;TZID=UTC:20260527T000000
DTEND;TZID=UTC:20260528T000000
DTSTAMP:20260425T174352
CREATED:20260417T161353Z
LAST-MODIFIED:20260422T003149Z
UID:997249-1779840000-1779926400@www.lcaviagens.com.br
SUMMARY:Congresso MICE Brasil
DESCRIPTION:Turismo\, Hotéis\, Bares e Restaurantes
URL:https://www.lcaviagens.com.br/eventos/congresso-mice-brasil/
LOCATION:Centro de Convenções Rebouças\, São Paulo\, SP
CATEGORIES:Bares e Restaurantes,Hotéis,Turismo
END:VEVENT
BEGIN:VEVENT
DTSTART;TZID=UTC:20260527T000000
DTEND;TZID=UTC:20260528T000000
DTSTAMP:20260425T174352
CREATED:20260417T161407Z
LAST-MODIFIED:20260422T003204Z
UID:997251-1779840000-1779926400@www.lcaviagens.com.br
SUMMARY:FoodTech Expo 2026 - International FoodTech
DESCRIPTION:Alimentos e Bebidas
URL:https://www.lcaviagens.com.br/eventos/foodtech-expo-2026-international-foodtech/
LOCATION:PUC Campinas\, Campinas\, SP
CATEGORIES:Alimentos e Bebidas
END:VEVENT
BEGIN:VEVENT
DTSTART;TZID=UTC:20260527T000000
DTEND;TZID=UTC:20260528T000000
DTSTAMP:20260425T174352
CREATED:20260417T161407Z
LAST-MODIFIED:20260422T003204Z
UID:997252-1779840000-1779926400@www.lcaviagens.com.br
SUMMARY:WSSO - Workshop de Saúde\, Segurança Ocupacional e de Processos
DESCRIPTION:Saúde e Segurança do Trabalho
URL:https://www.lcaviagens.com.br/eventos/wsso-workshop-de-saude-seguranca-ocupacional-e-de-processos/
LOCATION:Centro Cultural Usiminas\, Ipatinga\, MG
CATEGORIES:Saúde e Segurança do Trabalho
END:VEVENT
BEGIN:VEVENT
DTSTART;TZID=UTC:20260527T000000
DTEND;TZID=UTC:20260528T000000
DTSTAMP:20260425T174352
CREATED:20260417T161407Z
LAST-MODIFIED:20260422T003204Z
UID:997253-1779840000-1779926400@www.lcaviagens.com.br
SUMMARY:Simpósio SAE BRASIL de Powertrain - Seção São Paulo Interior
DESCRIPTION:Logística\, Transporte e Armazenagem
URL:https://www.lcaviagens.com.br/eventos/simposio-sae-brasil-de-powertrain-secao-sao-paulo-interior/
LOCATION:FLEX e FIT Sorocaba\, Sorocaba\, SP
CATEGORIES:Logística,Transporte e Armazenagem
END:VEVENT
END:VCALENDAR