BEGIN:VCALENDAR
VERSION:2.0
PRODID:-//LCA  - ECPv6.15.20//NONSGML v1.0//EN
CALSCALE:GREGORIAN
METHOD:PUBLISH
X-ORIGINAL-URL:https://www.lcaviagens.com.br
X-WR-CALDESC:Eventos para LCA 
REFRESH-INTERVAL;VALUE=DURATION:PT1H
X-Robots-Tag:noindex
X-PUBLISHED-TTL:PT1H
BEGIN:VTIMEZONE
TZID:UTC
BEGIN:STANDARD
TZOFFSETFROM:+0000
TZOFFSETTO:+0000
TZNAME:UTC
DTSTART:20250101T000000
END:STANDARD
END:VTIMEZONE
BEGIN:VEVENT
DTSTART;TZID=UTC:20260521T000000
DTEND;TZID=UTC:20260524T000000
DTSTAMP:20260425T145532
CREATED:20260417T161109Z
LAST-MODIFIED:20260422T002909Z
UID:997191-1779321600-1779580800@www.lcaviagens.com.br
SUMMARY:Feira Super Casa (Super Casa Chapecó 2026)
DESCRIPTION:Madeira\, Móveis e Decorações
URL:https://www.lcaviagens.com.br/eventos/feira-super-casa-super-casa-chapeco-2026/
LOCATION:Parque de Exposições Tancredo de Almeida Neves (Parque da Efapi)\, Chapecó\, SC
CATEGORIES:Madeira,Móveis e Decorações
END:VEVENT
BEGIN:VEVENT
DTSTART;TZID=UTC:20260521T000000
DTEND;TZID=UTC:20260524T000000
DTSTAMP:20260425T145532
CREATED:20260417T161109Z
LAST-MODIFIED:20260422T002909Z
UID:997192-1779321600-1779580800@www.lcaviagens.com.br
SUMMARY:C6 Fest (São Paulo)
DESCRIPTION:Radio\,TV\, Música\, Cine\, Foto\, Imagem e Som
URL:https://www.lcaviagens.com.br/eventos/c6-fest-sao-paulo/
LOCATION:Parque Ibirapuera\, São Paulo\, SP
CATEGORIES:Cine,Foto,Imagem e Som,Música,Radio,TV
END:VEVENT
BEGIN:VEVENT
DTSTART;TZID=UTC:20260521T000000
DTEND;TZID=UTC:20260524T000000
DTSTAMP:20260425T145532
CREATED:20260417T161110Z
LAST-MODIFIED:20260422T002909Z
UID:997193-1779321600-1779580800@www.lcaviagens.com.br
SUMMARY:FENAHABIT - Feira Nacional das Tecnologias da Habitação e Imobiliário (Feira Fenahabit ) (Maio)
DESCRIPTION:Construção Civil
URL:https://www.lcaviagens.com.br/eventos/fenahabit-feira-nacional-das-tecnologias-da-habitacao-e-imobiliario-feira-fenahabit-maio/
LOCATION:Parque de Exposições Vila Germânica\, Blumenau\, SC
CATEGORIES:Construção Civil
END:VEVENT
BEGIN:VEVENT
DTSTART;TZID=UTC:20260521T000000
DTEND;TZID=UTC:20260524T000000
DTSTAMP:20260425T145532
CREATED:20260417T161110Z
LAST-MODIFIED:20260422T002909Z
UID:997194-1779321600-1779580800@www.lcaviagens.com.br
SUMMARY:AGROPOLO - Feira Agropecuária de Paulo Lopes
DESCRIPTION:Agropecuário\, Comercial e Industrial
URL:https://www.lcaviagens.com.br/eventos/agropolo-feira-agropecuaria-de-paulo-lopes/
LOCATION:Parque de Eventos Municipal\, Paulo Lopes\, SC
CATEGORIES:Agropecuário,Comercial e Industrial
END:VEVENT
BEGIN:VEVENT
DTSTART;TZID=UTC:20260521T000000
DTEND;TZID=UTC:20260531T000000
DTSTAMP:20260425T145532
CREATED:20260417T161110Z
LAST-MODIFIED:20260422T002909Z
UID:997195-1779321600-1780185600@www.lcaviagens.com.br
SUMMARY:Feira do Livro de Joinville 2026
DESCRIPTION:Cultura e Educação
URL:https://www.lcaviagens.com.br/eventos/feira-do-livro-de-joinville-2026/
LOCATION:Centreventos Cau Hansen\, Joinville\, SC
CATEGORIES:Cultura e Educação
END:VEVENT
BEGIN:VEVENT
DTSTART;TZID=UTC:20260521T000000
DTEND;TZID=UTC:20260602T000000
DTSTAMP:20260425T145532
CREATED:20260417T161124Z
LAST-MODIFIED:20260422T002920Z
UID:997200-1779321600-1780358400@www.lcaviagens.com.br
SUMMARY:Festa de São Sebastião (Ibiúna)
DESCRIPTION:Feiras Multisetoriais
URL:https://www.lcaviagens.com.br/eventos/festa-de-sao-sebastiao-ibiuna/
LOCATION:Praça da Matriz\, São Roque\, SP
CATEGORIES:Feiras Multisetoriais
END:VEVENT
BEGIN:VEVENT
DTSTART;TZID=UTC:20260521T000000
DTEND;TZID=UTC:20260621T000000
DTSTAMP:20260425T145532
CREATED:20260417T161139Z
LAST-MODIFIED:20260422T002934Z
UID:997201-1779321600-1782000000@www.lcaviagens.com.br
SUMMARY:Festa Junina de Votorantim 2026
DESCRIPTION:Feiras Multisetoriais
URL:https://www.lcaviagens.com.br/eventos/festa-junina-de-votorantim-2026/
LOCATION:Praça Lecy de Campos\, Votorantim\, SP
CATEGORIES:Feiras Multisetoriais
END:VEVENT
BEGIN:VEVENT
DTSTART;TZID=UTC:20260522T000000
DTEND;TZID=UTC:20260522T000000
DTSTAMP:20260425T145532
CREATED:20260417T161140Z
LAST-MODIFIED:20260422T002934Z
UID:997204-1779408000-1779408000@www.lcaviagens.com.br
SUMMARY:Feira de Aves Seara Paraná
DESCRIPTION:Agropecuário\, Comercial e Industrial
URL:https://www.lcaviagens.com.br/eventos/feira-de-aves-seara-parana/
LOCATION:Arapongas\, Arapongas\, PR
CATEGORIES:Agropecuário,Comercial e Industrial
END:VEVENT
BEGIN:VEVENT
DTSTART;TZID=UTC:20260522T000000
DTEND;TZID=UTC:20260523T000000
DTSTAMP:20260425T145532
CREATED:20260417T161140Z
LAST-MODIFIED:20260422T002934Z
UID:997203-1779408000-1779494400@www.lcaviagens.com.br
SUMMARY:Andro Summit 2026
DESCRIPTION:Saúde: Tecnologia\, Equipamentos e Pesquisa
URL:https://www.lcaviagens.com.br/eventos/andro-summit-2026/
LOCATION:Centro de Treinamento Inrad – HCFMUSP\, São Paulo\, SP
CATEGORIES:Equipamentos e Pesquisa,Saúde: Tecnologia
END:VEVENT
BEGIN:VEVENT
DTSTART;TZID=UTC:20260522T000000
DTEND;TZID=UTC:20260523T000000
DTSTAMP:20260425T145532
CREATED:20260417T161154Z
LAST-MODIFIED:20260422T002949Z
UID:997207-1779408000-1779494400@www.lcaviagens.com.br
SUMMARY:EBC 2026 - Empreende Brazil Conference
DESCRIPTION:Empreendedorismo\, Negócios e Franquias
URL:https://www.lcaviagens.com.br/eventos/ebc-2026-empreende-brazil-conference/
LOCATION:Arena Opus\, São José\, SC
CATEGORIES:Empreendedorismo,Negócios e Franquias
END:VEVENT
BEGIN:VEVENT
DTSTART;TZID=UTC:20260522T000000
DTEND;TZID=UTC:20260523T000000
DTSTAMP:20260425T145532
CREATED:20260417T161154Z
LAST-MODIFIED:20260422T002949Z
UID:997208-1779408000-1779494400@www.lcaviagens.com.br
SUMMARY:Imersão Anpop 2026
DESCRIPTION:Empreendedorismo\, Negócios e Franquias
URL:https://www.lcaviagens.com.br/eventos/imersao-anpop-2026/
LOCATION:Novotel Center Norte\, São Paulo\, SP
CATEGORIES:Empreendedorismo,Negócios e Franquias
END:VEVENT
BEGIN:VEVENT
DTSTART;TZID=UTC:20260522T000000
DTEND;TZID=UTC:20260523T000000
DTSTAMP:20260425T145532
CREATED:20260417T161154Z
LAST-MODIFIED:20260422T002949Z
UID:997209-1779408000-1779494400@www.lcaviagens.com.br
SUMMARY:Marketplace Experience 2026
DESCRIPTION:Empreendedorismo\, Negócios e Franquias
URL:https://www.lcaviagens.com.br/eventos/marketplace-experience-2026/
LOCATION:Nova Friburgo\, Nova Friburgo\, RJ
CATEGORIES:Empreendedorismo,Negócios e Franquias
END:VEVENT
BEGIN:VEVENT
DTSTART;TZID=UTC:20260522T000000
DTEND;TZID=UTC:20260523T000000
DTSTAMP:20260425T145532
CREATED:20260417T161154Z
LAST-MODIFIED:20260422T002949Z
UID:997206-1779408000-1779494400@www.lcaviagens.com.br
SUMMARY:Congresso Sul Brasileiro de Nutrição Funcional (Congresso Sul da VP Nutrição Funcional)
DESCRIPTION:Alimentos e Bebidas
URL:https://www.lcaviagens.com.br/eventos/congresso-sul-brasileiro-de-nutricao-funcional-congresso-sul-da-vp-nutricao-funcional/
LOCATION:Centrosul – Centro de Convenções de Florianópolis\, Ribeirão Preto\, SP
CATEGORIES:Alimentos e Bebidas
END:VEVENT
BEGIN:VEVENT
DTSTART;TZID=UTC:20260522T000000
DTEND;TZID=UTC:20260523T000000
DTSTAMP:20260425T145532
CREATED:20260417T161155Z
LAST-MODIFIED:20260422T002950Z
UID:997210-1779408000-1779494400@www.lcaviagens.com.br
SUMMARY:Contox Belo Horizonte 2026
DESCRIPTION:Saúde: Tecnologia\, Equipamentos e Pesquisa
URL:https://www.lcaviagens.com.br/eventos/contox-belo-horizonte-2026/
LOCATION:Mercure BH Lourdes Hotel\, Belo Horizonte\, MG
CATEGORIES:Equipamentos e Pesquisa,Saúde: Tecnologia
END:VEVENT
BEGIN:VEVENT
DTSTART;TZID=UTC:20260522T000000
DTEND;TZID=UTC:20260601T000000
DTSTAMP:20260425T145532
CREATED:20260417T152021Z
LAST-MODIFIED:20260421T233804Z
UID:996183-1779408000-1780272000@www.lcaviagens.com.br
SUMMARY:DIVINAEXPO - Exposição Agropecuária de Divinópolis (Divina Expo)
DESCRIPTION:Agropecuário\, Comercial e Industrial
URL:https://www.lcaviagens.com.br/eventos/divinaexpo-exposicao-agropecuaria-de-divinopolis-divina-expo/
LOCATION:Parque de Exposições (Parque DivinaExpo)\, Divinópolis\, MG
CATEGORIES:Agropecuário,Comercial e Industrial
END:VEVENT
BEGIN:VEVENT
DTSTART;TZID=UTC:20260522T000000
DTEND;TZID=UTC:20260607T000000
DTSTAMP:20260425T145532
CREATED:20260417T161140Z
LAST-MODIFIED:20260422T002935Z
UID:997205-1779408000-1780790400@www.lcaviagens.com.br
SUMMARY:Taste of São Paulo (Taste São Paulo Festival)
DESCRIPTION:Alimentos e Bebidas
URL:https://www.lcaviagens.com.br/eventos/taste-of-sao-paulo-taste-sao-paulo-festival/
LOCATION:Parque Villa-Lobos\, São Paulo\, SP
CATEGORIES:Alimentos e Bebidas
END:VEVENT
BEGIN:VEVENT
DTSTART;TZID=UTC:20260523T000000
DTEND;TZID=UTC:20260523T000000
DTSTAMP:20260425T145532
CREATED:20260417T161209Z
LAST-MODIFIED:20260422T003004Z
UID:997214-1779494400-1779494400@www.lcaviagens.com.br
SUMMARY:Liderando Pessoas Com Foco em Resultados
DESCRIPTION:Empreendedorismo\, Negócios e Franquias
URL:https://www.lcaviagens.com.br/eventos/liderando-pessoas-com-foco-em-resultados/
LOCATION:Expo Dom Pedro\, Campinas\, SP
CATEGORIES:Empreendedorismo,Negócios e Franquias
END:VEVENT
BEGIN:VEVENT
DTSTART;TZID=UTC:20260523T000000
DTEND;TZID=UTC:20260523T000000
DTSTAMP:20260425T145532
CREATED:20260417T161210Z
LAST-MODIFIED:20260422T003004Z
UID:997215-1779494400-1779494400@www.lcaviagens.com.br
SUMMARY:Churrasco On Fire (Londrina)
DESCRIPTION:Alimentos e Bebidas
URL:https://www.lcaviagens.com.br/eventos/churrasco-on-fire-londrina/
LOCATION:Londrina\, Londrina\, PR
CATEGORIES:Alimentos e Bebidas
END:VEVENT
BEGIN:VEVENT
DTSTART;TZID=UTC:20260523T000000
DTEND;TZID=UTC:20260523T000000
DTSTAMP:20260425T145532
CREATED:20260417T161223Z
LAST-MODIFIED:20260422T003019Z
UID:997216-1779494400-1779494400@www.lcaviagens.com.br
SUMMARY:NPC Worldwide Musclecontest (Maranhão)
DESCRIPTION:Lazer\, Hobby e Esportes
URL:https://www.lcaviagens.com.br/eventos/npc-worldwide-musclecontest-maranhao/
LOCATION:Real Promoções e Treinamento\, São Luís\, MA
CATEGORIES:Hobby e Esportes,Lazer
END:VEVENT
BEGIN:VEVENT
DTSTART;TZID=UTC:20260523T000000
DTEND;TZID=UTC:20260523T000000
DTSTAMP:20260425T145532
CREATED:20260417T161224Z
LAST-MODIFIED:20260422T003019Z
UID:997218-1779494400-1779494400@www.lcaviagens.com.br
SUMMARY:NPC Worldwide Musclecontest (Ceará)
DESCRIPTION:Lazer\, Hobby e Esportes
URL:https://www.lcaviagens.com.br/eventos/npc-worldwide-musclecontest-ceara/
LOCATION:Centro de Eventos do Ceará\, Fortaleza\, CE
CATEGORIES:Hobby e Esportes,Lazer
END:VEVENT
BEGIN:VEVENT
DTSTART;TZID=UTC:20260523T000000
DTEND;TZID=UTC:20260523T000000
DTSTAMP:20260425T145532
CREATED:20260417T161224Z
LAST-MODIFIED:20260422T003019Z
UID:997217-1779494400-1779494400@www.lcaviagens.com.br
SUMMARY:NPC Worldwide Musclecontest (Vitória)
DESCRIPTION:Lazer\, Hobby e Esportes
URL:https://www.lcaviagens.com.br/eventos/npc-worldwide-musclecontest-vitoria/
LOCATION:Centro de Convenções de Vitória\, Vitória\, ES
CATEGORIES:Hobby e Esportes,Lazer
END:VEVENT
BEGIN:VEVENT
DTSTART;TZID=UTC:20260523T000000
DTEND;TZID=UTC:20260523T000000
DTSTAMP:20260425T145532
CREATED:20260417T222418Z
LAST-MODIFIED:20260422T004404Z
UID:998731-1779494400-1779494400@www.lcaviagens.com.br
SUMMARY:Curso Intensivo de Oratória Sem Sufoco na Prática
DESCRIPTION:Empreendedorismo\, Negócios e Franquias
URL:https://www.lcaviagens.com.br/eventos/curso-intensivo-de-oratoria-sem-sufoco-na-pratica/
LOCATION:Expo Dom Pedro\, Campinas\, SP
CATEGORIES:Empreendedorismo,Negócios e Franquias
END:VEVENT
BEGIN:VEVENT
DTSTART;TZID=UTC:20260523T000000
DTEND;TZID=UTC:20260526T000000
DTSTAMP:20260425T145532
CREATED:20260417T161209Z
LAST-MODIFIED:20260422T003004Z
UID:997213-1779494400-1779753600@www.lcaviagens.com.br
SUMMARY:Evento Casar.com (Evento Casar) (São Paulo)
DESCRIPTION:Casamentos\, Formaturas e Festas
URL:https://www.lcaviagens.com.br/eventos/evento-casar-com-evento-casar-sao-paulo/
LOCATION:São Paulo\, São Paulo\, SP
CATEGORIES:Casamentos,Formaturas e Festas
END:VEVENT
BEGIN:VEVENT
DTSTART;TZID=UTC:20260524T000000
DTEND;TZID=UTC:20260524T000000
DTSTAMP:20260425T145532
CREATED:20260417T161224Z
LAST-MODIFIED:20260422T003019Z
UID:997220-1779580800-1779580800@www.lcaviagens.com.br
SUMMARY:Meia Maratona Internacional de Guarulhos
DESCRIPTION:Lazer\, Hobby e Esportes
URL:https://www.lcaviagens.com.br/eventos/meia-maratona-internacional-de-guarulhos/
LOCATION:São Paulo\, São Paulo\, SP
CATEGORIES:Hobby e Esportes,Lazer
END:VEVENT
BEGIN:VEVENT
DTSTART;TZID=UTC:20260524T000000
DTEND;TZID=UTC:20260524T000000
DTSTAMP:20260425T145532
CREATED:20260417T161238Z
LAST-MODIFIED:20260422T003034Z
UID:997221-1779580800-1779580800@www.lcaviagens.com.br
SUMMARY:Live! Run XP (Recife) (Maio)
DESCRIPTION:Lazer\, Hobby e Esportes
URL:https://www.lcaviagens.com.br/eventos/live-run-xp-recife-maio/
LOCATION:Recife\, Recife\, PE
CATEGORIES:Hobby e Esportes,Lazer
END:VEVENT
BEGIN:VEVENT
DTSTART;TZID=UTC:20260524T000000
DTEND;TZID=UTC:20260526T000000
DTSTAMP:20260425T145532
CREATED:20260417T161224Z
LAST-MODIFIED:20260422T003019Z
UID:997219-1779580800-1779753600@www.lcaviagens.com.br
SUMMARY:Goiâniacal Preview (Goianiacal) (Maio)
DESCRIPTION:Couro: Tecnologia\, Calçados e Artefatos
URL:https://www.lcaviagens.com.br/eventos/goianiacal-preview-goianiacal-maio/
LOCATION:Centro de Convenções de Goiânia\, Goiânia\, GO
CATEGORIES:Calçados e Artefatos,Couro: Tecnologia
END:VEVENT
BEGIN:VEVENT
DTSTART;TZID=UTC:20260525T000000
DTEND;TZID=UTC:20260528T000000
DTSTAMP:20260425T145532
CREATED:20260417T161239Z
LAST-MODIFIED:20260422T003034Z
UID:997222-1779667200-1779926400@www.lcaviagens.com.br
SUMMARY:CON BRASIL - Congresso Nacional de Licitações e Contratos (ConBrasil)
DESCRIPTION:Construção Civil
URL:https://www.lcaviagens.com.br/eventos/con-brasil-congresso-nacional-de-licitacoes-e-contratos-conbrasil/
LOCATION:Brasília\, Brasília\, DF
CATEGORIES:Construção Civil
END:VEVENT
BEGIN:VEVENT
DTSTART;TZID=UTC:20260525T000000
DTEND;TZID=UTC:20260529T000000
DTSTAMP:20260425T145532
CREATED:20260417T161239Z
LAST-MODIFIED:20260422T003034Z
UID:997224-1779667200-1780012800@www.lcaviagens.com.br
SUMMARY:FIB 2026 - Fórum da Internet no Brasil
DESCRIPTION:Informática\, Telecomunicações e TI
URL:https://www.lcaviagens.com.br/eventos/fib-2026-forum-da-internet-no-brasil/
LOCATION:Belém\, Belém\, PA
CATEGORIES:Informática,Telecomunicações e TI
END:VEVENT
BEGIN:VEVENT
DTSTART;TZID=UTC:20260525T000000
DTEND;TZID=UTC:20260529T000000
DTSTAMP:20260425T145532
CREATED:20260417T161239Z
LAST-MODIFIED:20260422T003034Z
UID:997223-1779667200-1780012800@www.lcaviagens.com.br
SUMMARY:SBRC 2026 - Simpósio Brasileiro de Redes de Computadores e Sistemas Distribuídos
DESCRIPTION:Informática\, Telecomunicações e TI
URL:https://www.lcaviagens.com.br/eventos/sbrc-2026-simposio-brasileiro-de-redes-de-computadores-e-sistemas-distribuidos/
LOCATION:Praia do Forte Convention Center\, Salvador\, BA
CATEGORIES:Informática,Telecomunicações e TI
END:VEVENT
BEGIN:VEVENT
DTSTART;TZID=UTC:20260525T000000
DTEND;TZID=UTC:20260530T000000
DTSTAMP:20260425T145532
CREATED:20260417T161239Z
LAST-MODIFIED:20260422T003035Z
UID:997225-1779667200-1780099200@www.lcaviagens.com.br
SUMMARY:Rondoleite 2026
DESCRIPTION:Agropecuário\, Comercial e Industrial
URL:https://www.lcaviagens.com.br/eventos/rondoleite-2026/
LOCATION:Centro Tecnológico Vandeci Rack\, Ji-Paraná\, RO
CATEGORIES:Agropecuário,Comercial e Industrial
END:VEVENT
END:VCALENDAR