BEGIN:VCALENDAR
VERSION:2.0
PRODID:-//LCA  - ECPv6.15.20//NONSGML v1.0//EN
CALSCALE:GREGORIAN
METHOD:PUBLISH
X-WR-CALNAME:LCA 
X-ORIGINAL-URL:https://www.lcaviagens.com.br
X-WR-CALDESC:Eventos para LCA 
REFRESH-INTERVAL;VALUE=DURATION:PT1H
X-Robots-Tag:noindex
X-PUBLISHED-TTL:PT1H
BEGIN:VTIMEZONE
TZID:UTC
BEGIN:STANDARD
TZOFFSETFROM:+0000
TZOFFSETTO:+0000
TZNAME:UTC
DTSTART:20250101T000000
END:STANDARD
END:VTIMEZONE
BEGIN:VEVENT
DTSTART;TZID=UTC:20260326T000000
DTEND;TZID=UTC:20260327T000000
DTSTAMP:20260425T134806
CREATED:20260417T154506Z
LAST-MODIFIED:20260422T000304Z
UID:996680-1774483200-1774569600@www.lcaviagens.com.br
SUMMARY:PS 2026 - Packaging Summit Brasil 2026
DESCRIPTION:Tecnologia Industrial
URL:https://www.lcaviagens.com.br/eventos/ps-2026-packaging-summit-brasil-2026/
LOCATION:Hotel Tivoli São Paulo Mofarrej\, São Paulo\, SP
CATEGORIES:Tecnologia Industrial
END:VEVENT
BEGIN:VEVENT
DTSTART;TZID=UTC:20260326T000000
DTEND;TZID=UTC:20260327T000000
DTSTAMP:20260425T134806
CREATED:20260417T154506Z
LAST-MODIFIED:20260422T000304Z
UID:996679-1774483200-1774569600@www.lcaviagens.com.br
SUMMARY:DWX+ Data World Xperience
DESCRIPTION:Informática\, Telecomunicações e TI
URL:https://www.lcaviagens.com.br/eventos/dwx-data-world-xperience/
LOCATION:Centrosul – Centro de Convenções de Florianópolis\, Ribeirão Preto\, SP
CATEGORIES:Informática,Telecomunicações e TI
END:VEVENT
BEGIN:VEVENT
DTSTART;TZID=UTC:20260326T000000
DTEND;TZID=UTC:20260326T000000
DTSTAMP:20260425T134806
CREATED:20260417T154506Z
LAST-MODIFIED:20260422T000303Z
UID:996676-1774483200-1774483200@www.lcaviagens.com.br
SUMMARY:Koria Summit 2026
DESCRIPTION:Tecnologia Industrial
URL:https://www.lcaviagens.com.br/eventos/koria-summit-2026/
LOCATION:Casa Perlage\, Farroupilha\, RS
CATEGORIES:Tecnologia Industrial
END:VEVENT
BEGIN:VEVENT
DTSTART;TZID=UTC:20260326T000000
DTEND;TZID=UTC:20260326T000000
DTSTAMP:20260425T134806
CREATED:20260417T154451Z
LAST-MODIFIED:20260422T000249Z
UID:996674-1774483200-1774483200@www.lcaviagens.com.br
SUMMARY:Conexão Síndico 360° (Distrital Sul)
DESCRIPTION:Habitação\, Condomínios e Imóveis em Geral
URL:https://www.lcaviagens.com.br/eventos/conexao-sindico-360-distrital-sul/
LOCATION:Distrital Sul\, São Paulo\, SP
CATEGORIES:Condomínios e Imóveis em Geral,Habitação
END:VEVENT
BEGIN:VEVENT
DTSTART;TZID=UTC:20260326T000000
DTEND;TZID=UTC:20260326T000000
DTSTAMP:20260425T134806
CREATED:20260417T154451Z
LAST-MODIFIED:20260422T000249Z
UID:996675-1774483200-1774483200@www.lcaviagens.com.br
SUMMARY:Produtor Day (Março)
DESCRIPTION:Empreendedorismo\, Negócios e Franquias
URL:https://www.lcaviagens.com.br/eventos/produtor-day-marco/
LOCATION:Online\, São Paulo\, SP
CATEGORIES:Empreendedorismo,Negócios e Franquias
END:VEVENT
BEGIN:VEVENT
DTSTART;TZID=UTC:20260326T000000
DTEND;TZID=UTC:20260326T000000
DTSTAMP:20260425T134806
CREATED:20260417T154450Z
LAST-MODIFIED:20260422T000249Z
UID:996672-1774483200-1774483200@www.lcaviagens.com.br
SUMMARY:Expo Noivas e Debutantes (São Francisco do Sul)
DESCRIPTION:Casamentos\, Formaturas e Festas
URL:https://www.lcaviagens.com.br/eventos/expo-noivas-e-debutantes-sao-francisco-do-sul/
LOCATION:São Francisco do Sul\, São Francisco do Sul\, SC
CATEGORIES:Casamentos,Formaturas e Festas
END:VEVENT
BEGIN:VEVENT
DTSTART;TZID=UTC:20260326T000000
DTEND;TZID=UTC:20260326T000000
DTSTAMP:20260425T134806
CREATED:20260417T154450Z
LAST-MODIFIED:20260422T000249Z
UID:996673-1774483200-1774483200@www.lcaviagens.com.br
SUMMARY:IFM26 - IFM Summit São Paulo
DESCRIPTION:Construção Civil
URL:https://www.lcaviagens.com.br/eventos/ifm26-ifm-summit-sao-paulo/
LOCATION:Amcham Business Center\, São Paulo\, SP
CATEGORIES:Construção Civil
END:VEVENT
BEGIN:VEVENT
DTSTART;TZID=UTC:20260326T000000
DTEND;TZID=UTC:20260326T000000
DTSTAMP:20260425T134806
CREATED:20260417T154450Z
LAST-MODIFIED:20260422T000249Z
UID:996671-1774483200-1774483200@www.lcaviagens.com.br
SUMMARY:Franchise4U São Paulo (Março)
DESCRIPTION:Empreendedorismo\, Negócios e Franquias
URL:https://www.lcaviagens.com.br/eventos/franchise4u-sao-paulo-marco/
LOCATION:Hotel Meliá Paulista\, São Paulo\, SP
CATEGORIES:Empreendedorismo,Negócios e Franquias
END:VEVENT
BEGIN:VEVENT
DTSTART;TZID=UTC:20260325T000000
DTEND;TZID=UTC:20260329T000000
DTSTAMP:20260425T134806
CREATED:20260417T154352Z
LAST-MODIFIED:20260422T000149Z
UID:996652-1774396800-1774742400@www.lcaviagens.com.br
SUMMARY:Competição Baja Sae Brasil - Etapa Nacional
DESCRIPTION:Setores Automotivo e Nautico
URL:https://www.lcaviagens.com.br/eventos/competicao-baja-sae-brasil-etapa-nacional/
LOCATION:FATEC São José dos Campos\, São José dos Campos\, SP
CATEGORIES:Setores Automotivo e Nautico
END:VEVENT
BEGIN:VEVENT
DTSTART;TZID=UTC:20260325T000000
DTEND;TZID=UTC:20260329T000000
DTSTAMP:20260425T134806
CREATED:20260417T154351Z
LAST-MODIFIED:20260422T000149Z
UID:996651-1774396800-1774742400@www.lcaviagens.com.br
SUMMARY:Refrativa R.I.O.
DESCRIPTION:Saúde: Tecnologia\, Equipamentos e Pesquisa
URL:https://www.lcaviagens.com.br/eventos/refrativa-r-i-o/
LOCATION:Rio de Janeiro\, Rio de Janeiro\, RJ
CATEGORIES:Equipamentos e Pesquisa,Saúde: Tecnologia
END:VEVENT
BEGIN:VEVENT
DTSTART;TZID=UTC:20260325T000000
DTEND;TZID=UTC:20260329T000000
DTSTAMP:20260425T134806
CREATED:20260417T154336Z
LAST-MODIFIED:20260422T000134Z
UID:996650-1774396800-1774742400@www.lcaviagens.com.br
SUMMARY:Feira da Gestante (Rio de Janeiro)
DESCRIPTION:Moda Gestante\, Bebê e Criança
URL:https://www.lcaviagens.com.br/eventos/feira-da-gestante-rio-de-janeiro/
LOCATION:Aerotown Power Center\, Rio de Janeiro\, RJ
CATEGORIES:Bebê e Criança,Moda Gestante
END:VEVENT
BEGIN:VEVENT
DTSTART;TZID=UTC:20260325T000000
DTEND;TZID=UTC:20260328T000000
DTSTAMP:20260425T134806
CREATED:20260417T154336Z
LAST-MODIFIED:20260422T000134Z
UID:996649-1774396800-1774656000@www.lcaviagens.com.br
SUMMARY:Congresso Mundial de Urgências e Emergências Pediátricas
DESCRIPTION:Saúde: Tecnologia\, Equipamentos e Pesquisa
URL:https://www.lcaviagens.com.br/eventos/congresso-mundial-de-urgencias-e-emergencias-pediatricas/
LOCATION:Centro de Convenções Frei Caneca\, São Paulo\, SP
CATEGORIES:Equipamentos e Pesquisa,Saúde: Tecnologia
END:VEVENT
BEGIN:VEVENT
DTSTART;TZID=UTC:20260325T000000
DTEND;TZID=UTC:20260327T000000
DTSTAMP:20260425T134806
CREATED:20260417T154336Z
LAST-MODIFIED:20260422T000134Z
UID:996646-1774396800-1774569600@www.lcaviagens.com.br
SUMMARY:CONGRESSO IMAGINE 2026 - Congresso de Radiologia e Diagnóstico por Imagem do HCFMUSP
DESCRIPTION:Saúde: Tecnologia\, Equipamentos e Pesquisa
URL:https://www.lcaviagens.com.br/eventos/congresso-imagine-2026-congresso-de-radiologia-e-diagnostico-por-imagem-do-hcfmusp/
LOCATION:Centro de Treinamento Inrad – HCFMUSP\, São Paulo\, SP
CATEGORIES:Equipamentos e Pesquisa,Saúde: Tecnologia
END:VEVENT
BEGIN:VEVENT
DTSTART;TZID=UTC:20260325T000000
DTEND;TZID=UTC:20260327T000000
DTSTAMP:20260425T134806
CREATED:20260417T154336Z
LAST-MODIFIED:20260422T000134Z
UID:996647-1774396800-1774569600@www.lcaviagens.com.br
SUMMARY:South Summit 2026 (South Summit Brazil)
DESCRIPTION:Novas Tecnologias\, Invenções e Inovações
URL:https://www.lcaviagens.com.br/eventos/south-summit-2026-south-summit-brazil/
LOCATION:Cais Mauá\, Porto Alegre\, RS
CATEGORIES:Invenções e Inovações,Novas Tecnologias
END:VEVENT
BEGIN:VEVENT
DTSTART;TZID=UTC:20260325T000000
DTEND;TZID=UTC:20260327T000000
DTSTAMP:20260425T134806
CREATED:20260417T154336Z
LAST-MODIFIED:20260422T000134Z
UID:996648-1774396800-1774569600@www.lcaviagens.com.br
SUMMARY:Simpósio Brasileiro de Pitayas
DESCRIPTION:Aeronáutica e Tecnologia para Aeroportos
URL:https://www.lcaviagens.com.br/eventos/simposio-brasileiro-de-pitayas/
LOCATION:Instituto Agronômico de Campinas (IAC)\, Campinas\, SP
CATEGORIES:Aeronáutica e Tecnologia para Aeroportos
END:VEVENT
BEGIN:VEVENT
DTSTART;TZID=UTC:20260325T000000
DTEND;TZID=UTC:20260327T000000
DTSTAMP:20260425T134806
CREATED:20260417T154321Z
LAST-MODIFIED:20260422T000119Z
UID:996645-1774396800-1774569600@www.lcaviagens.com.br
SUMMARY:GEduc 2026
DESCRIPTION:Empreendedorismo\, Negócios e Franquias
URL:https://www.lcaviagens.com.br/eventos/geduc-2026/
LOCATION:Centro de Eventos Pro Magno\, São Paulo\, SP
CATEGORIES:Empreendedorismo,Negócios e Franquias
END:VEVENT
BEGIN:VEVENT
DTSTART;TZID=UTC:20260325T000000
DTEND;TZID=UTC:20260327T000000
DTSTAMP:20260425T134806
CREATED:20260417T154321Z
LAST-MODIFIED:20260422T000119Z
UID:996643-1774396800-1774569600@www.lcaviagens.com.br
SUMMARY:SCECWB - Smart City Expo Curitiba
DESCRIPTION:Construção Civil
URL:https://www.lcaviagens.com.br/eventos/scecwb-smart-city-expo-curitiba/
LOCATION:Arena da Baixada\, Curitiba\, PR
CATEGORIES:Construção Civil
END:VEVENT
BEGIN:VEVENT
DTSTART;TZID=UTC:20260325T000000
DTEND;TZID=UTC:20260327T000000
DTSTAMP:20260425T134806
CREATED:20260417T154321Z
LAST-MODIFIED:20260422T000119Z
UID:996644-1774396800-1774569600@www.lcaviagens.com.br
SUMMARY:EXPOCANAS - Exposição Multissetorial de Nova Alvorada do Sul
DESCRIPTION:Agropecuário\, Comercial e Industrial
URL:https://www.lcaviagens.com.br/eventos/expocanas-exposicao-multissetorial-de-nova-alvorada-do-sul/
LOCATION:Rod. BR-163\, km 371\, Nova Alvorada do Sul\, MS
CATEGORIES:Agropecuário,Comercial e Industrial
END:VEVENT
BEGIN:VEVENT
DTSTART;TZID=UTC:20260325T000000
DTEND;TZID=UTC:20260326T000000
DTSTAMP:20260425T134806
CREATED:20260417T154421Z
LAST-MODIFIED:20260422T000219Z
UID:996664-1774396800-1774483200@www.lcaviagens.com.br
SUMMARY:SIMM! Brasil 2026
DESCRIPTION:Habitação\, Condomínios e Imóveis em Geral
URL:https://www.lcaviagens.com.br/eventos/simm-brasil-2026/
LOCATION:Expo Dom Pedro\, Campinas\, SP
CATEGORIES:Condomínios e Imóveis em Geral,Habitação
END:VEVENT
BEGIN:VEVENT
DTSTART;TZID=UTC:20260325T000000
DTEND;TZID=UTC:20260326T000000
DTSTAMP:20260425T134806
CREATED:20260417T154421Z
LAST-MODIFIED:20260422T000220Z
UID:996665-1774396800-1774483200@www.lcaviagens.com.br
SUMMARY:Vittude Summit 2026
DESCRIPTION:Gestão Empresarial e Recursos Humanos
URL:https://www.lcaviagens.com.br/eventos/vittude-summit-2026/
LOCATION:Transamérica Expo Center\, São Paulo\, SP
CATEGORIES:Gestão Empresarial e Recursos Humanos
END:VEVENT
BEGIN:VEVENT
DTSTART;TZID=UTC:20260325T000000
DTEND;TZID=UTC:20260326T000000
DTSTAMP:20260425T134806
CREATED:20260417T154420Z
LAST-MODIFIED:20260422T000219Z
UID:996662-1774396800-1774483200@www.lcaviagens.com.br
SUMMARY:CONDO+ - Feira de Segurança\, Manutenção\, Serviços e Equipamentos para Condomínios
DESCRIPTION:Habitação\, Condomínios e Imóveis em Geral
URL:https://www.lcaviagens.com.br/eventos/condo-feira-de-seguranca-manutencao-servicos-e-equipamentos-para-condominios/
LOCATION:Centro de Eventos São Luís\, São Paulo\, SP
CATEGORIES:Condomínios e Imóveis em Geral,Habitação
END:VEVENT
BEGIN:VEVENT
DTSTART;TZID=UTC:20260325T000000
DTEND;TZID=UTC:20260326T000000
DTSTAMP:20260425T134806
CREATED:20260417T154420Z
LAST-MODIFIED:20260422T000219Z
UID:996663-1774396800-1774483200@www.lcaviagens.com.br
SUMMARY:FEIRA CONDO+ - Feira de Segurança\, Manutenção\, Serviços e Equipamentos para Condomínios
DESCRIPTION:Habitação\, Condomínios e Imóveis em Geral
URL:https://www.lcaviagens.com.br/eventos/feira-condo-feira-de-seguranca-manutencao-servicos-e-equipamentos-para-condominios/
LOCATION:Centro de Eventos São Luís\, São Paulo\, SP
CATEGORIES:Condomínios e Imóveis em Geral,Habitação
END:VEVENT
BEGIN:VEVENT
DTSTART;TZID=UTC:20260325T000000
DTEND;TZID=UTC:20260326T000000
DTSTAMP:20260425T134806
CREATED:20260417T154420Z
LAST-MODIFIED:20260422T000219Z
UID:996661-1774396800-1774483200@www.lcaviagens.com.br
SUMMARY:SIMPOTEL - Simpósio Paulista de Gestão Hoteleira
DESCRIPTION:Turismo\, Hotéis\, Bares e Restaurantes
URL:https://www.lcaviagens.com.br/eventos/simpotel-simposio-paulista-de-gestao-hoteleira/
LOCATION:Centro de Eventos São Luís\, São Paulo\, SP
CATEGORIES:Bares e Restaurantes,Hotéis,Turismo
END:VEVENT
BEGIN:VEVENT
DTSTART;TZID=UTC:20260325T000000
DTEND;TZID=UTC:20260326T000000
DTSTAMP:20260425T134806
CREATED:20260417T154406Z
LAST-MODIFIED:20260422T000204Z
UID:996659-1774396800-1774483200@www.lcaviagens.com.br
SUMMARY:GEduc Experience
DESCRIPTION:Empreendedorismo\, Negócios e Franquias
URL:https://www.lcaviagens.com.br/eventos/geduc-experience/
LOCATION:Centro de Eventos Pro Magno\, São Paulo\, SP
CATEGORIES:Empreendedorismo,Negócios e Franquias
END:VEVENT
BEGIN:VEVENT
DTSTART;TZID=UTC:20260325T000000
DTEND;TZID=UTC:20260326T000000
DTSTAMP:20260425T134806
CREATED:20260417T154406Z
LAST-MODIFIED:20260422T000204Z
UID:996660-1774396800-1774483200@www.lcaviagens.com.br
SUMMARY:EXPOTEL 2026 - Feira Internacional para Hotelaria
DESCRIPTION:Turismo\, Hotéis\, Bares e Restaurantes
URL:https://www.lcaviagens.com.br/eventos/expotel-2026-feira-internacional-para-hotelaria/
LOCATION:Centro de Eventos São Luís\, São Paulo\, SP
CATEGORIES:Bares e Restaurantes,Hotéis,Turismo
END:VEVENT
BEGIN:VEVENT
DTSTART;TZID=UTC:20260325T000000
DTEND;TZID=UTC:20260326T000000
DTSTAMP:20260425T134806
CREATED:20260417T154321Z
LAST-MODIFIED:20260422T000119Z
UID:996642-1774396800-1774483200@www.lcaviagens.com.br
SUMMARY:CMO Summit 2026
DESCRIPTION:Gestão Empresarial e Recursos Humanos
URL:https://www.lcaviagens.com.br/eventos/cmo-summit-2026/
LOCATION:Expo Center Norte\, São Paulo\, SP
CATEGORIES:Gestão Empresarial e Recursos Humanos
END:VEVENT
BEGIN:VEVENT
DTSTART;TZID=UTC:20260325T000000
DTEND;TZID=UTC:20260325T000000
DTSTAMP:20260425T134806
CREATED:20260417T154405Z
LAST-MODIFIED:20260422T000204Z
UID:996656-1774396800-1774396800@www.lcaviagens.com.br
SUMMARY:Speed Meeting - MICE (São Paulo) (Março)
DESCRIPTION:Gestão Empresarial e Recursos Humanos
URL:https://www.lcaviagens.com.br/eventos/speed-meeting-mice-sao-paulo-marco/
LOCATION:São Paulo\, São Paulo\, SP
CATEGORIES:Gestão Empresarial e Recursos Humanos
END:VEVENT
BEGIN:VEVENT
DTSTART;TZID=UTC:20260325T000000
DTEND;TZID=UTC:20260325T000000
DTSTAMP:20260425T134806
CREATED:20260417T154405Z
LAST-MODIFIED:20260422T000204Z
UID:996657-1774396800-1774396800@www.lcaviagens.com.br
SUMMARY:Fórum Abracom de Comunicação
DESCRIPTION:Comunicação Empresarial\, Feiras e Eventos
URL:https://www.lcaviagens.com.br/eventos/forum-abracom-de-comunicacao/
LOCATION:ESPM Tech\, São Paulo\, SP
CATEGORIES:Comunicação Empresarial,Feiras e Eventos
END:VEVENT
BEGIN:VEVENT
DTSTART;TZID=UTC:20260325T000000
DTEND;TZID=UTC:20260325T000000
DTSTAMP:20260425T134806
CREATED:20260417T154352Z
LAST-MODIFIED:20260422T000149Z
UID:996655-1774396800-1774396800@www.lcaviagens.com.br
SUMMARY:Feira EducationUSA Brasil 2026 (Goiânia)
DESCRIPTION:Cultura e Educação
URL:https://www.lcaviagens.com.br/eventos/feira-educationusa-brasil-2026-goiania/
LOCATION:Transamérica Collection Goiânia\, Goiânia\, GO
CATEGORIES:Cultura e Educação
END:VEVENT
BEGIN:VEVENT
DTSTART;TZID=UTC:20260325T000000
DTEND;TZID=UTC:20260325T000000
DTSTAMP:20260425T134806
CREATED:20260417T154352Z
LAST-MODIFIED:20260422T000149Z
UID:996653-1774396800-1774396800@www.lcaviagens.com.br
SUMMARY:Salão do Estudante - Feira de Intercâmbio e Cursos no Exterior (Rio de Janeiro) (Barra) (Março)
DESCRIPTION:Cultura e Educação
URL:https://www.lcaviagens.com.br/eventos/salao-do-estudante-feira-de-intercambio-e-cursos-no-exterior-rio-de-janeiro-barra-marco/
LOCATION:Hotel Windsor Oceânico\, Rio de Janeiro\, RJ
CATEGORIES:Cultura e Educação
END:VEVENT
END:VCALENDAR