BEGIN:VCALENDAR
VERSION:2.0
PRODID:-//LCA  - ECPv6.15.20//NONSGML v1.0//EN
CALSCALE:GREGORIAN
METHOD:PUBLISH
X-ORIGINAL-URL:https://www.lcaviagens.com.br
X-WR-CALDESC:Eventos para LCA 
REFRESH-INTERVAL;VALUE=DURATION:PT1H
X-Robots-Tag:noindex
X-PUBLISHED-TTL:PT1H
BEGIN:VTIMEZONE
TZID:UTC
BEGIN:STANDARD
TZOFFSETFROM:+0000
TZOFFSETTO:+0000
TZNAME:UTC
DTSTART:20250101T000000
END:STANDARD
END:VTIMEZONE
BEGIN:VEVENT
DTSTART;TZID=UTC:20260328T000000
DTEND;TZID=UTC:20260328T000000
DTSTAMP:20260425T111259
CREATED:20260417T154606Z
LAST-MODIFIED:20260422T000404Z
UID:996697-1774656000-1774656000@www.lcaviagens.com.br
SUMMARY:ExpoTI Roadshow 2026 (Linhares)
DESCRIPTION:Informática\, Telecomunicações e TI
URL:https://www.lcaviagens.com.br/eventos/expoti-roadshow-2026-linhares/
LOCATION:Linhares\, Linhares\, ES
CATEGORIES:Informática,Telecomunicações e TI
END:VEVENT
BEGIN:VEVENT
DTSTART;TZID=UTC:20260328T000000
DTEND;TZID=UTC:20260328T000000
DTSTAMP:20260425T111259
CREATED:20260417T154606Z
LAST-MODIFIED:20260422T000404Z
UID:996698-1774656000-1774656000@www.lcaviagens.com.br
SUMMARY:NPC Worldwide Musclecontest Brazil (Barueri)
DESCRIPTION:Lazer\, Hobby e Esportes
URL:https://www.lcaviagens.com.br/eventos/npc-worldwide-musclecontest-brazil-barueri/
LOCATION:Espaço Taal\, Barueri\, SP
CATEGORIES:Hobby e Esportes,Lazer
END:VEVENT
BEGIN:VEVENT
DTSTART;TZID=UTC:20260328T000000
DTEND;TZID=UTC:20260328T000000
DTSTAMP:20260425T111259
CREATED:20260417T154606Z
LAST-MODIFIED:20260422T000404Z
UID:996699-1774656000-1774656000@www.lcaviagens.com.br
SUMMARY:Feira EducationUSA Brasil 2026 (Porto Alegre)
DESCRIPTION:Cultura e Educação
URL:https://www.lcaviagens.com.br/eventos/feira-educationusa-brasil-2026-porto-alegre/
LOCATION:Hilton Porto Alegre\, Porto Alegre\, RS
CATEGORIES:Cultura e Educação
END:VEVENT
BEGIN:VEVENT
DTSTART;TZID=UTC:20260328T000000
DTEND;TZID=UTC:20260328T000000
DTSTAMP:20260425T111259
CREATED:20260417T154606Z
LAST-MODIFIED:20260422T000404Z
UID:996700-1774656000-1774656000@www.lcaviagens.com.br
SUMMARY:Jornada Gaúcha de Fisioterapia Respiratória\, Cardiovascular e em Terapia Intensiva
DESCRIPTION:Saúde: Tecnologia\, Equipamentos e Pesquisa
URL:https://www.lcaviagens.com.br/eventos/jornada-gaucha-de-fisioterapia-respiratoria-cardiovascular-e-em-terapia-intensiva/
LOCATION:Centro de Tecnologia da Universidade Santa Maria\, Santa Maria\, RS
CATEGORIES:Equipamentos e Pesquisa,Saúde: Tecnologia
END:VEVENT
BEGIN:VEVENT
DTSTART;TZID=UTC:20260327T000000
DTEND;TZID=UTC:20260329T000000
DTSTAMP:20260425T111259
CREATED:20260417T154536Z
LAST-MODIFIED:20260422T000334Z
UID:996687-1774569600-1774742400@www.lcaviagens.com.br
SUMMARY:Dr. Move Experience (Março) x
DESCRIPTION:Lazer\, Hobby e Esportes
URL:https://www.lcaviagens.com.br/eventos/dr-move-experience-marco-x/
LOCATION:Royal Palm Plaza Resort\, Campinas\, SP
CATEGORIES:Hobby e Esportes,Lazer
END:VEVENT
BEGIN:VEVENT
DTSTART;TZID=UTC:20260327T000000
DTEND;TZID=UTC:20260329T000000
DTSTAMP:20260425T111259
CREATED:20260417T154535Z
LAST-MODIFIED:20260422T000334Z
UID:996686-1774569600-1774742400@www.lcaviagens.com.br
SUMMARY:Expo Sumé 2026
DESCRIPTION:Agropecuário\, Comercial e Industrial
URL:https://www.lcaviagens.com.br/eventos/expo-sume-2026/
LOCATION:Parque de Exposições\, Ponte Alta do Bom Jesus\, TO
CATEGORIES:Agropecuário,Comercial e Industrial
END:VEVENT
BEGIN:VEVENT
DTSTART;TZID=UTC:20260327T000000
DTEND;TZID=UTC:20260329T000000
DTSTAMP:20260425T111259
CREATED:20260417T154521Z
LAST-MODIFIED:20260422T000319Z
UID:996685-1774569600-1774742400@www.lcaviagens.com.br
SUMMARY:Expo Verde & Flor - Feira de Flores de Holambra (Campos de Júlio)
DESCRIPTION:Agropecuário\, Comercial e Industrial
URL:https://www.lcaviagens.com.br/eventos/expo-verde-flor-feira-de-flores-de-holambra-campos-de-julio/
LOCATION:Ginásio de Esportes\, Santa Leopoldina\, ES
CATEGORIES:Agropecuário,Comercial e Industrial
END:VEVENT
BEGIN:VEVENT
DTSTART;TZID=UTC:20260327T000000
DTEND;TZID=UTC:20260329T000000
DTSTAMP:20260425T111259
CREATED:20260417T154521Z
LAST-MODIFIED:20260422T000319Z
UID:996683-1774569600-1774742400@www.lcaviagens.com.br
SUMMARY:PBXP 2026 - Paraíba Business Experience
DESCRIPTION:Empreendedorismo\, Negócios e Franquias
URL:https://www.lcaviagens.com.br/eventos/pbxp-2026-paraiba-business-experience/
LOCATION:Centro de Convenções de Campina Grande – Garden Hotel\, Campina Grande\, PB
CATEGORIES:Empreendedorismo,Negócios e Franquias
END:VEVENT
BEGIN:VEVENT
DTSTART;TZID=UTC:20260327T000000
DTEND;TZID=UTC:20260329T000000
DTSTAMP:20260425T111259
CREATED:20260417T154521Z
LAST-MODIFIED:20260422T000319Z
UID:996684-1774569600-1774742400@www.lcaviagens.com.br
SUMMARY:Expo Verde & Flor - Feira de Flores de Holambra (Sapezal)
DESCRIPTION:Agropecuário\, Comercial e Industrial
URL:https://www.lcaviagens.com.br/eventos/expo-verde-flor-feira-de-flores-de-holambra-sapezal/
LOCATION:Apae\, Salto do Lontra\, PR
CATEGORIES:Agropecuário,Comercial e Industrial
END:VEVENT
BEGIN:VEVENT
DTSTART;TZID=UTC:20260327T000000
DTEND;TZID=UTC:20260328T000000
DTSTAMP:20260425T111259
CREATED:20260417T154551Z
LAST-MODIFIED:20260422T000349Z
UID:996691-1774569600-1774656000@www.lcaviagens.com.br
SUMMARY:Jornada de Obstetrícia e Ginecologia da FMUSP
DESCRIPTION:Saúde: Tecnologia\, Equipamentos e Pesquisa
URL:https://www.lcaviagens.com.br/eventos/jornada-de-obstetricia-e-ginecologia-da-fmusp/
LOCATION:Centro de Convenções Rebouças\, São Paulo\, SP
CATEGORIES:Equipamentos e Pesquisa,Saúde: Tecnologia
END:VEVENT
BEGIN:VEVENT
DTSTART;TZID=UTC:20260327T000000
DTEND;TZID=UTC:20260328T000000
DTSTAMP:20260425T111259
CREATED:20260417T154551Z
LAST-MODIFIED:20260422T000349Z
UID:996692-1774569600-1774656000@www.lcaviagens.com.br
SUMMARY:Simpósio Internacional de Ginecologia Oncológica
DESCRIPTION:Saúde: Tecnologia\, Equipamentos e Pesquisa
URL:https://www.lcaviagens.com.br/eventos/simposio-internacional-de-ginecologia-oncologica/
LOCATION:Hotel Pullman Vila Olímpia\, São Paulo\, SP
CATEGORIES:Equipamentos e Pesquisa,Saúde: Tecnologia
END:VEVENT
BEGIN:VEVENT
DTSTART;TZID=UTC:20260327T000000
DTEND;TZID=UTC:20260328T000000
DTSTAMP:20260425T111259
CREATED:20260417T154551Z
LAST-MODIFIED:20260422T000349Z
UID:996693-1774569600-1774656000@www.lcaviagens.com.br
SUMMARY:Congresso Internacional da Oncologia DOr
DESCRIPTION:Saúde: Tecnologia\, Equipamentos e Pesquisa
URL:https://www.lcaviagens.com.br/eventos/congresso-internacional-da-oncologia-d%c2%92or/
LOCATION:Hotel Windsor Oceânico\, Rio de Janeiro\, RJ
CATEGORIES:Equipamentos e Pesquisa,Saúde: Tecnologia
END:VEVENT
BEGIN:VEVENT
DTSTART;TZID=UTC:20260327T000000
DTEND;TZID=UTC:20260328T000000
DTSTAMP:20260425T111259
CREATED:20260417T154551Z
LAST-MODIFIED:20260422T000349Z
UID:996694-1774569600-1774656000@www.lcaviagens.com.br
SUMMARY:Autoshow Rural de Campestre
DESCRIPTION:Agropecuário\, Comercial e Industrial
URL:https://www.lcaviagens.com.br/eventos/autoshow-rural-de-campestre/
LOCATION:Espaço de Eventos Paladino\, Campestre\, MG
CATEGORIES:Agropecuário,Comercial e Industrial
END:VEVENT
BEGIN:VEVENT
DTSTART;TZID=UTC:20260327T000000
DTEND;TZID=UTC:20260328T000000
DTSTAMP:20260425T111259
CREATED:20260417T154551Z
LAST-MODIFIED:20260422T000349Z
UID:996695-1774569600-1774656000@www.lcaviagens.com.br
SUMMARY:Jornada Internacional de Anestesia Obstétrica do Hospital e Maternidade Santa Joana
DESCRIPTION:Saúde: Tecnologia\, Equipamentos e Pesquisa
URL:https://www.lcaviagens.com.br/eventos/jornada-internacional-de-anestesia-obstetrica-do-hospital-e-maternidade-santa-joana/
LOCATION:Hotel Tivoli São Paulo Mofarrej\, São Paulo\, SP
CATEGORIES:Equipamentos e Pesquisa,Saúde: Tecnologia
END:VEVENT
BEGIN:VEVENT
DTSTART;TZID=UTC:20260327T000000
DTEND;TZID=UTC:20260327T000000
DTSTAMP:20260425T111259
CREATED:20260417T154536Z
LAST-MODIFIED:20260422T000334Z
UID:996690-1774569600-1774569600@www.lcaviagens.com.br
SUMMARY:Full Face Experience (Goiânia)
DESCRIPTION:Saúde: Tecnologia\, Equipamentos e Pesquisa
URL:https://www.lcaviagens.com.br/eventos/full-face-experience-goiania/
LOCATION:Goiânia\, Goiânia\, GO
CATEGORIES:Equipamentos e Pesquisa,Saúde: Tecnologia
END:VEVENT
BEGIN:VEVENT
DTSTART;TZID=UTC:20260327T000000
DTEND;TZID=UTC:20260327T000000
DTSTAMP:20260425T111259
CREATED:20260417T154536Z
LAST-MODIFIED:20260422T000334Z
UID:996688-1774569600-1774569600@www.lcaviagens.com.br
SUMMARY:SEOcamp Brasil 2026
DESCRIPTION:Informática\, Telecomunicações e TI
URL:https://www.lcaviagens.com.br/eventos/seocamp-brasil-2026/
LOCATION:Espaço Fit Eventos\, São Paulo\, SP
CATEGORIES:Informática,Telecomunicações e TI
END:VEVENT
BEGIN:VEVENT
DTSTART;TZID=UTC:20260327T000000
DTEND;TZID=UTC:20260327T000000
DTSTAMP:20260425T111259
CREATED:20260417T154536Z
LAST-MODIFIED:20260422T000334Z
UID:996689-1774569600-1774569600@www.lcaviagens.com.br
SUMMARY:Salão do Estudante - Feira de Intercâmbio e Cursos no Exterior (Brasília) (Março)
DESCRIPTION:Cultura e Educação
URL:https://www.lcaviagens.com.br/eventos/salao-do-estudante-feira-de-intercambio-e-cursos-no-exterior-brasilia-marco/
LOCATION:Centro Internacional de Convenções do Brasil (CICB)\, Brasília\, DF
CATEGORIES:Cultura e Educação
END:VEVENT
BEGIN:VEVENT
DTSTART;TZID=UTC:20260326T000000
DTEND;TZID=UTC:20260328T000000
DTSTAMP:20260425T111259
CREATED:20260417T154437Z
LAST-MODIFIED:20260422T000234Z
UID:996667-1774483200-1774656000@www.lcaviagens.com.br
SUMMARY:ECIP - Encontro de Cancerologia do Interior Paulista
DESCRIPTION:Saúde: Tecnologia\, Equipamentos e Pesquisa
URL:https://www.lcaviagens.com.br/eventos/ecip-encontro-de-cancerologia-do-interior-paulista/
LOCATION:Faculdade de Medicina de São José do Rio Preto (FAMERP)\, São José do Rio Preto\, SP
CATEGORIES:Equipamentos e Pesquisa,Saúde: Tecnologia
END:VEVENT
BEGIN:VEVENT
DTSTART;TZID=UTC:20260326T000000
DTEND;TZID=UTC:20260328T000000
DTSTAMP:20260425T111259
CREATED:20260417T154437Z
LAST-MODIFIED:20260422T000234Z
UID:996668-1774483200-1774656000@www.lcaviagens.com.br
SUMMARY:Limeira Rodeo Music 2026
DESCRIPTION:Radio\,TV\, Música\, Cine\, Foto\, Imagem e Som
URL:https://www.lcaviagens.com.br/eventos/limeira-rodeo-music-2026/
LOCATION:Espaço Rodeio Limeira\, Limeira\, SP
CATEGORIES:Cine,Foto,Imagem e Som,Música,Radio,TV
END:VEVENT
BEGIN:VEVENT
DTSTART;TZID=UTC:20260326T000000
DTEND;TZID=UTC:20260328T000000
DTSTAMP:20260425T111259
CREATED:20260417T154437Z
LAST-MODIFIED:20260422T000234Z
UID:996669-1774483200-1774656000@www.lcaviagens.com.br
SUMMARY:Expo Louças (Piraí)
DESCRIPTION:Utilidades do Lar\, Presentes\, Brindes e Brinquedos
URL:https://www.lcaviagens.com.br/eventos/expo-loucas-pirai/
LOCATION:Lions Clube\, Porangatu\, GO
CATEGORIES:Brindes e Brinquedos,Presentes,Utilidades do Lar
END:VEVENT
BEGIN:VEVENT
DTSTART;TZID=UTC:20260326T000000
DTEND;TZID=UTC:20260328T000000
DTSTAMP:20260425T111259
CREATED:20260417T154437Z
LAST-MODIFIED:20260422T000234Z
UID:996670-1774483200-1774656000@www.lcaviagens.com.br
SUMMARY:Expo Louças (Porangatu)
DESCRIPTION:Utilidades do Lar\, Presentes\, Brindes e Brinquedos
URL:https://www.lcaviagens.com.br/eventos/expo-loucas-porangatu/
LOCATION:Lions Clube\, Porangatu\, GO
CATEGORIES:Brindes e Brinquedos,Presentes,Utilidades do Lar
END:VEVENT
BEGIN:VEVENT
DTSTART;TZID=UTC:20260326T000000
DTEND;TZID=UTC:20260328T000000
DTSTAMP:20260425T111259
CREATED:20260417T154437Z
LAST-MODIFIED:20260422T000234Z
UID:996666-1774483200-1774656000@www.lcaviagens.com.br
SUMMARY:Ajorsul Business
DESCRIPTION:Gemas\, Jóias e Semi-Jóias
URL:https://www.lcaviagens.com.br/eventos/ajorsul-business/
LOCATION:Parque de Eventos de Bento Gonçalves (Fundaparque)\, Bento Gonçalves\, RS
CATEGORIES:Gemas,Jóias e Semi-Jóias
END:VEVENT
BEGIN:VEVENT
DTSTART;TZID=UTC:20260326T000000
DTEND;TZID=UTC:20260327T000000
DTSTAMP:20260425T111259
CREATED:20260417T154521Z
LAST-MODIFIED:20260422T000319Z
UID:996681-1774483200-1774569600@www.lcaviagens.com.br
SUMMARY:Change Management Brazil Summit 2026
DESCRIPTION:Gestão Empresarial e Recursos Humanos
URL:https://www.lcaviagens.com.br/eventos/change-management-brazil-summit-2026/
LOCATION:Hotel Intercontinental\, São Paulo\, SP
CATEGORIES:Gestão Empresarial e Recursos Humanos
END:VEVENT
BEGIN:VEVENT
DTSTART;TZID=UTC:20260326T000000
DTEND;TZID=UTC:20260327T000000
DTSTAMP:20260425T111259
CREATED:20260417T154521Z
LAST-MODIFIED:20260422T000319Z
UID:996682-1774483200-1774569600@www.lcaviagens.com.br
SUMMARY:RH Leadership Xperience 2026
DESCRIPTION:Novas Tecnologias\, Invenções e Inovações
URL:https://www.lcaviagens.com.br/eventos/rh-leadership-xperience-2026/
LOCATION:Distrito Anhembi\, São Paulo\, SP
CATEGORIES:Invenções e Inovações,Novas Tecnologias
END:VEVENT
BEGIN:VEVENT
DTSTART;TZID=UTC:20260326T000000
DTEND;TZID=UTC:20260327T000000
DTSTAMP:20260425T111259
CREATED:20260417T154506Z
LAST-MODIFIED:20260422T000304Z
UID:996680-1774483200-1774569600@www.lcaviagens.com.br
SUMMARY:PS 2026 - Packaging Summit Brasil 2026
DESCRIPTION:Tecnologia Industrial
URL:https://www.lcaviagens.com.br/eventos/ps-2026-packaging-summit-brasil-2026/
LOCATION:Hotel Tivoli São Paulo Mofarrej\, São Paulo\, SP
CATEGORIES:Tecnologia Industrial
END:VEVENT
BEGIN:VEVENT
DTSTART;TZID=UTC:20260326T000000
DTEND;TZID=UTC:20260327T000000
DTSTAMP:20260425T111259
CREATED:20260417T154506Z
LAST-MODIFIED:20260422T000304Z
UID:996679-1774483200-1774569600@www.lcaviagens.com.br
SUMMARY:DWX+ Data World Xperience
DESCRIPTION:Informática\, Telecomunicações e TI
URL:https://www.lcaviagens.com.br/eventos/dwx-data-world-xperience/
LOCATION:Centrosul – Centro de Convenções de Florianópolis\, Ribeirão Preto\, SP
CATEGORIES:Informática,Telecomunicações e TI
END:VEVENT
BEGIN:VEVENT
DTSTART;TZID=UTC:20260326T000000
DTEND;TZID=UTC:20260326T000000
DTSTAMP:20260425T111259
CREATED:20260417T154506Z
LAST-MODIFIED:20260422T000303Z
UID:996676-1774483200-1774483200@www.lcaviagens.com.br
SUMMARY:Koria Summit 2026
DESCRIPTION:Tecnologia Industrial
URL:https://www.lcaviagens.com.br/eventos/koria-summit-2026/
LOCATION:Casa Perlage\, Farroupilha\, RS
CATEGORIES:Tecnologia Industrial
END:VEVENT
BEGIN:VEVENT
DTSTART;TZID=UTC:20260326T000000
DTEND;TZID=UTC:20260326T000000
DTSTAMP:20260425T111259
CREATED:20260417T154451Z
LAST-MODIFIED:20260422T000249Z
UID:996674-1774483200-1774483200@www.lcaviagens.com.br
SUMMARY:Conexão Síndico 360° (Distrital Sul)
DESCRIPTION:Habitação\, Condomínios e Imóveis em Geral
URL:https://www.lcaviagens.com.br/eventos/conexao-sindico-360-distrital-sul/
LOCATION:Distrital Sul\, São Paulo\, SP
CATEGORIES:Condomínios e Imóveis em Geral,Habitação
END:VEVENT
BEGIN:VEVENT
DTSTART;TZID=UTC:20260326T000000
DTEND;TZID=UTC:20260326T000000
DTSTAMP:20260425T111259
CREATED:20260417T154451Z
LAST-MODIFIED:20260422T000249Z
UID:996675-1774483200-1774483200@www.lcaviagens.com.br
SUMMARY:Produtor Day (Março)
DESCRIPTION:Empreendedorismo\, Negócios e Franquias
URL:https://www.lcaviagens.com.br/eventos/produtor-day-marco/
LOCATION:Online\, São Paulo\, SP
CATEGORIES:Empreendedorismo,Negócios e Franquias
END:VEVENT
BEGIN:VEVENT
DTSTART;TZID=UTC:20260326T000000
DTEND;TZID=UTC:20260326T000000
DTSTAMP:20260425T111259
CREATED:20260417T154450Z
LAST-MODIFIED:20260422T000249Z
UID:996672-1774483200-1774483200@www.lcaviagens.com.br
SUMMARY:Expo Noivas e Debutantes (São Francisco do Sul)
DESCRIPTION:Casamentos\, Formaturas e Festas
URL:https://www.lcaviagens.com.br/eventos/expo-noivas-e-debutantes-sao-francisco-do-sul/
LOCATION:São Francisco do Sul\, São Francisco do Sul\, SC
CATEGORIES:Casamentos,Formaturas e Festas
END:VEVENT
END:VCALENDAR