BEGIN:VCALENDAR
VERSION:2.0
PRODID:-//LCA  - ECPv6.15.20//NONSGML v1.0//EN
CALSCALE:GREGORIAN
METHOD:PUBLISH
X-WR-CALNAME:LCA 
X-ORIGINAL-URL:https://www.lcaviagens.com.br
X-WR-CALDESC:Eventos para LCA 
REFRESH-INTERVAL;VALUE=DURATION:PT1H
X-Robots-Tag:noindex
X-PUBLISHED-TTL:PT1H
BEGIN:VTIMEZONE
TZID:UTC
BEGIN:STANDARD
TZOFFSETFROM:+0000
TZOFFSETTO:+0000
TZNAME:UTC
DTSTART:20250101T000000
END:STANDARD
END:VTIMEZONE
BEGIN:VEVENT
DTSTART;TZID=UTC:20260410T000000
DTEND;TZID=UTC:20260412T000000
DTSTAMP:20260425T014009
CREATED:20260417T155036Z
LAST-MODIFIED:20260422T000819Z
UID:996785-1775779200-1775952000@www.lcaviagens.com.br
SUMMARY:Up Summit 2026
DESCRIPTION:Empreendedorismo\, Negócios e Franquias
URL:https://www.lcaviagens.com.br/eventos/up-summit-2026/
LOCATION:PUC Goiás\, Goiânia\, GO
CATEGORIES:Empreendedorismo,Negócios e Franquias
END:VEVENT
BEGIN:VEVENT
DTSTART;TZID=UTC:20260410T000000
DTEND;TZID=UTC:20260412T000000
DTSTAMP:20260425T014009
CREATED:20260417T155035Z
LAST-MODIFIED:20260422T000819Z
UID:996784-1775779200-1775952000@www.lcaviagens.com.br
SUMMARY:Congresso RCA360 - Congresso de Raciocínio Clínico Avançado
DESCRIPTION:Saúde: Tecnologia\, Equipamentos e Pesquisa
URL:https://www.lcaviagens.com.br/eventos/congresso-rca360-congresso-de-raciocinio-clinico-avancado/
LOCATION:Online\, São Paulo\, SP
CATEGORIES:Equipamentos e Pesquisa,Saúde: Tecnologia
END:VEVENT
BEGIN:VEVENT
DTSTART;TZID=UTC:20260410T000000
DTEND;TZID=UTC:20260411T000000
DTSTAMP:20260425T014009
CREATED:20260417T155106Z
LAST-MODIFIED:20260422T000849Z
UID:996793-1775779200-1775865600@www.lcaviagens.com.br
SUMMARY:ENERGIAS 2026 - Curso Teórico e Prático do Uso de Energias Físicas no Trato Genital Inferior da Disciplina de Ginecologia
DESCRIPTION:Saúde: Tecnologia\, Equipamentos e Pesquisa
URL:https://www.lcaviagens.com.br/eventos/energias-2026-curso-teorico-e-pratico-do-uso-de-energias-fisicas-no-trato-genital-inferior-da-disciplina-de-ginecologia/
LOCATION:Instituto Central do Hospital das Clínicas (ICHC)\, São Paulo\, SP
CATEGORIES:Equipamentos e Pesquisa,Saúde: Tecnologia
END:VEVENT
BEGIN:VEVENT
DTSTART;TZID=UTC:20260410T000000
DTEND;TZID=UTC:20260410T000000
DTSTAMP:20260425T014009
CREATED:20260417T155106Z
LAST-MODIFIED:20260422T000849Z
UID:996792-1775779200-1775779200@www.lcaviagens.com.br
SUMMARY:Full Face Experience (Belo Horizonte)
DESCRIPTION:Saúde: Tecnologia\, Equipamentos e Pesquisa
URL:https://www.lcaviagens.com.br/eventos/full-face-experience-belo-horizonte/
LOCATION:Belo Horizonte\, Belo Horizonte\, GO
CATEGORIES:Equipamentos e Pesquisa,Saúde: Tecnologia
END:VEVENT
BEGIN:VEVENT
DTSTART;TZID=UTC:20260409T000000
DTEND;TZID=UTC:20260419T000000
DTSTAMP:20260425T014009
CREATED:20260417T155006Z
LAST-MODIFIED:20260422T000749Z
UID:996775-1775692800-1776556800@www.lcaviagens.com.br
SUMMARY:EXPOGRANDE 2026 (Expo Grande)
DESCRIPTION:Agropecuário\, Comercial e Industrial
URL:https://www.lcaviagens.com.br/eventos/expogrande-2026-expo-grande/
LOCATION:Parque de Exposições Laucídio Coelho\, Campo Grande\, MS
CATEGORIES:Agropecuário,Comercial e Industrial
END:VEVENT
BEGIN:VEVENT
DTSTART;TZID=UTC:20260409T000000
DTEND;TZID=UTC:20260415T000000
DTSTAMP:20260425T014009
CREATED:20260417T155035Z
LAST-MODIFIED:20260422T000819Z
UID:996783-1775692800-1776211200@www.lcaviagens.com.br
SUMMARY:Expo Mel Brasil (Paulista) (Abril)
DESCRIPTION:Alimentos e Bebidas
URL:https://www.lcaviagens.com.br/eventos/expo-mel-brasil-paulista-abril/
LOCATION:Av. Paulista x Al. Campinas\, São Paulo\, SP
CATEGORIES:Alimentos e Bebidas
END:VEVENT
BEGIN:VEVENT
DTSTART;TZID=UTC:20260409T000000
DTEND;TZID=UTC:20260412T000000
DTSTAMP:20260425T014009
CREATED:20260417T155006Z
LAST-MODIFIED:20260422T000749Z
UID:996773-1775692800-1775952000@www.lcaviagens.com.br
SUMMARY:FEIRA DE NEGÓCIOS AGROCOM - Feira de Negócios do Agro\, Comércio e Família
DESCRIPTION:Agropecuário\, Comercial e Industrial
URL:https://www.lcaviagens.com.br/eventos/feira-de-negocios-agrocom-feira-de-negocios-do-agro-comercio-e-familia/
LOCATION:Cerejeiras\, Cerejeiras\, RO
CATEGORIES:Agropecuário,Comercial e Industrial
END:VEVENT
BEGIN:VEVENT
DTSTART;TZID=UTC:20260409T000000
DTEND;TZID=UTC:20260412T000000
DTSTAMP:20260425T014009
CREATED:20260417T155006Z
LAST-MODIFIED:20260422T000749Z
UID:996774-1775692800-1775952000@www.lcaviagens.com.br
SUMMARY:Suzano Music Festival 2026
DESCRIPTION:Feiras Multisetoriais
URL:https://www.lcaviagens.com.br/eventos/suzano-music-festival-2026/
LOCATION:Parque Max Feffer\, Suzano\, SP
CATEGORIES:Feiras Multisetoriais
END:VEVENT
BEGIN:VEVENT
DTSTART;TZID=UTC:20260409T000000
DTEND;TZID=UTC:20260411T000000
DTSTAMP:20260425T014009
CREATED:20260417T155005Z
LAST-MODIFIED:20260422T000749Z
UID:996771-1775692800-1775865600@www.lcaviagens.com.br
SUMMARY:GERP 2026 - Congresso Paulista de Geriatria e Gerontologia
DESCRIPTION:Saúde: Tecnologia\, Equipamentos e Pesquisa
URL:https://www.lcaviagens.com.br/eventos/gerp-2026-congresso-paulista-de-geriatria-e-gerontologia/
LOCATION:Centro de Eventos Frei Caneca\, São Paulo\, SP
CATEGORIES:Equipamentos e Pesquisa,Saúde: Tecnologia
END:VEVENT
BEGIN:VEVENT
DTSTART;TZID=UTC:20260409T000000
DTEND;TZID=UTC:20260411T000000
DTSTAMP:20260425T014009
CREATED:20260417T155005Z
LAST-MODIFIED:20260422T000749Z
UID:996772-1775692800-1775865600@www.lcaviagens.com.br
SUMMARY:SIMPÓSIO DO SOBED DAYS 2026 (Sobed Days 2026)
DESCRIPTION:Saúde: Tecnologia\, Equipamentos e Pesquisa
URL:https://www.lcaviagens.com.br/eventos/simposio-do-sobed-days-2026-sobed-days-2026/
LOCATION:Recife Expo Center\, Recife\, PE
CATEGORIES:Equipamentos e Pesquisa,Saúde: Tecnologia
END:VEVENT
BEGIN:VEVENT
DTSTART;TZID=UTC:20260409T000000
DTEND;TZID=UTC:20260411T000000
DTSTAMP:20260425T014009
CREATED:20260417T154955Z
LAST-MODIFIED:20260422T000734Z
UID:996769-1775692800-1775865600@www.lcaviagens.com.br
SUMMARY:Full Face Global 2026
DESCRIPTION:Saúde: Tecnologia\, Equipamentos e Pesquisa
URL:https://www.lcaviagens.com.br/eventos/full-face-global-2026/
LOCATION:Hotel Unique\, São Paulo\, SP
CATEGORIES:Equipamentos e Pesquisa,Saúde: Tecnologia
END:VEVENT
BEGIN:VEVENT
DTSTART;TZID=UTC:20260409T000000
DTEND;TZID=UTC:20260411T000000
DTSTAMP:20260425T014009
CREATED:20260417T154955Z
LAST-MODIFIED:20260422T000734Z
UID:996770-1775692800-1775865600@www.lcaviagens.com.br
SUMMARY:Expo Verde & Flor - Feira de Flores de Holambra (Campo Novo do Parecis)
DESCRIPTION:Agropecuário\, Comercial e Industrial
URL:https://www.lcaviagens.com.br/eventos/expo-verde-flor-feira-de-flores-de-holambra-campo-novo-do-parecis/
LOCATION:Espaço Reviver\, Campo Novo do Parecis\, MT
CATEGORIES:Agropecuário,Comercial e Industrial
END:VEVENT
BEGIN:VEVENT
DTSTART;TZID=UTC:20260409T000000
DTEND;TZID=UTC:20260411T000000
DTSTAMP:20260425T014009
CREATED:20260417T154954Z
LAST-MODIFIED:20260422T000734Z
UID:996767-1775692800-1775865600@www.lcaviagens.com.br
SUMMARY:SUESC - Simpósio das Unimeds do Estado de Santa Catarina
DESCRIPTION:Saúde: Tecnologia\, Equipamentos e Pesquisa
URL:https://www.lcaviagens.com.br/eventos/suesc-simposio-das-unimeds-do-estado-de-santa-catarina/
LOCATION:Costão do Santinho Resort\, Florianópolis\, SC
CATEGORIES:Equipamentos e Pesquisa,Saúde: Tecnologia
END:VEVENT
BEGIN:VEVENT
DTSTART;TZID=UTC:20260409T000000
DTEND;TZID=UTC:20260411T000000
DTSTAMP:20260425T014009
CREATED:20260417T154954Z
LAST-MODIFIED:20260422T000734Z
UID:996768-1775692800-1775865600@www.lcaviagens.com.br
SUMMARY:Expo Louças (Salto do Lontra)
DESCRIPTION:Utilidades do Lar\, Presentes\, Brindes e Brinquedos
URL:https://www.lcaviagens.com.br/eventos/expo-loucas-salto-do-lontra/
LOCATION:Apae\, Salto do Lontra\, PR
CATEGORIES:Brindes e Brinquedos,Presentes,Utilidades do Lar
END:VEVENT
BEGIN:VEVENT
DTSTART;TZID=UTC:20260409T000000
DTEND;TZID=UTC:20260410T000000
DTSTAMP:20260425T014009
CREATED:20260417T155035Z
LAST-MODIFIED:20260422T000819Z
UID:996782-1775692800-1775779200@www.lcaviagens.com.br
SUMMARY:Fórum da Liberdade
DESCRIPTION:Cultura e Educação
URL:https://www.lcaviagens.com.br/eventos/forum-da-liberdade/
LOCATION:Centro de Eventos PUCRS\, Porto Alegre\, RS
CATEGORIES:Cultura e Educação
END:VEVENT
BEGIN:VEVENT
DTSTART;TZID=UTC:20260409T000000
DTEND;TZID=UTC:20260410T000000
DTSTAMP:20260425T014009
CREATED:20260417T155035Z
LAST-MODIFIED:20260422T000819Z
UID:996781-1775692800-1775779200@www.lcaviagens.com.br
SUMMARY:Feira de Negócios Turísticos (UGART)
DESCRIPTION:Turismo\, Hotéis\, Bares e Restaurantes
URL:https://www.lcaviagens.com.br/eventos/feira-de-negocios-turisticos-ugart/
LOCATION:Centro de Eventos BarraShoppingSul (Barra Shopping Sul)\, Porto Alegre\, RS
CATEGORIES:Bares e Restaurantes,Hotéis,Turismo
END:VEVENT
BEGIN:VEVENT
DTSTART;TZID=UTC:20260409T000000
DTEND;TZID=UTC:20260409T000000
DTSTAMP:20260425T014009
CREATED:20260417T155022Z
LAST-MODIFIED:20260422T000804Z
UID:996779-1775692800-1775692800@www.lcaviagens.com.br
SUMMARY:4CIO Uberlândia (4CIO Triângulo Mineiro)
DESCRIPTION:Informática\, Telecomunicações e TI
URL:https://www.lcaviagens.com.br/eventos/4cio-uberlandia-4cio-triangulo-mineiro/
LOCATION:Uberlândia\, Uberlândia\, MG
CATEGORIES:Informática,Telecomunicações e TI
END:VEVENT
BEGIN:VEVENT
DTSTART;TZID=UTC:20260409T000000
DTEND;TZID=UTC:20260409T000000
DTSTAMP:20260425T014009
CREATED:20260417T155022Z
LAST-MODIFIED:20260422T000804Z
UID:996780-1775692800-1775692800@www.lcaviagens.com.br
SUMMARY:Starbem Summit 2026 x
DESCRIPTION:Gestão Empresarial e Recursos Humanos
URL:https://www.lcaviagens.com.br/eventos/starbem-summit-2026-x/
LOCATION:Cubo Itaú\, São Paulo\, SP
CATEGORIES:Gestão Empresarial e Recursos Humanos
END:VEVENT
BEGIN:VEVENT
DTSTART;TZID=UTC:20260409T000000
DTEND;TZID=UTC:20260409T000000
DTSTAMP:20260425T014009
CREATED:20260417T155021Z
LAST-MODIFIED:20260422T000804Z
UID:996776-1775692800-1775692800@www.lcaviagens.com.br
SUMMARY:ADIT On The Road (João Pessoa)
DESCRIPTION:Habitação\, Condomínios e Imóveis em Geral
URL:https://www.lcaviagens.com.br/eventos/adit-on-the-road-joao-pessoa/
LOCATION:Hotel Manaíra\, João Pessoa\, MG
CATEGORIES:Condomínios e Imóveis em Geral,Habitação
END:VEVENT
BEGIN:VEVENT
DTSTART;TZID=UTC:20260409T000000
DTEND;TZID=UTC:20260409T000000
DTSTAMP:20260425T014009
CREATED:20260417T155021Z
LAST-MODIFIED:20260422T000804Z
UID:996777-1775692800-1775692800@www.lcaviagens.com.br
SUMMARY:Franchise4U Rio de Janeiro (Abril)
DESCRIPTION:Empreendedorismo\, Negócios e Franquias
URL:https://www.lcaviagens.com.br/eventos/franchise4u-rio-de-janeiro-abril/
LOCATION:Regency Barra Hotel\, Rio de Janeiro\, RJ
CATEGORIES:Empreendedorismo,Negócios e Franquias
END:VEVENT
BEGIN:VEVENT
DTSTART;TZID=UTC:20260409T000000
DTEND;TZID=UTC:20260409T000000
DTSTAMP:20260425T014009
CREATED:20260417T155021Z
LAST-MODIFIED:20260422T000804Z
UID:996778-1775692800-1775692800@www.lcaviagens.com.br
SUMMARY:SAE BRASIL REMAN DAY 2026
DESCRIPTION:Tecnologia Industrial
URL:https://www.lcaviagens.com.br/eventos/sae-brasil-reman-day-2026/
LOCATION:Centro de Eventos da FIEP\, Curitiba\, PR
CATEGORIES:Tecnologia Industrial
END:VEVENT
BEGIN:VEVENT
DTSTART;TZID=UTC:20260408T000000
DTEND;TZID=UTC:20260412T000000
DTSTAMP:20260425T014009
CREATED:20260417T154950Z
LAST-MODIFIED:20260422T000719Z
UID:996761-1775606400-1775952000@www.lcaviagens.com.br
SUMMARY:RIO ARTES 2026 - A Feira da Economia Criativa (RioArtes) (Rio Artes Manuais)
DESCRIPTION:Artesanato\, Artes e Coleções
URL:https://www.lcaviagens.com.br/eventos/rio-artes-2026-a-feira-da-economia-criativa-rioartes-rio-artes-manuais/
LOCATION:Expo MAG (Antigo Centro de Convenções SulAmérica)\, Rio de Janeiro\, RJ
CATEGORIES:Artes e Coleções,Artesanato
END:VEVENT
BEGIN:VEVENT
DTSTART;TZID=UTC:20260408T000000
DTEND;TZID=UTC:20260412T000000
DTSTAMP:20260425T014009
CREATED:20260417T154950Z
LAST-MODIFIED:20260422T000719Z
UID:996762-1775606400-1775952000@www.lcaviagens.com.br
SUMMARY:SP-Arte 2026 - Festival Internacional de Arte de São Paulo (SP Arte)
DESCRIPTION:Artesanato\, Artes e Coleções
URL:https://www.lcaviagens.com.br/eventos/sp-arte-2026-festival-internacional-de-arte-de-sao-paulo-sp-arte/
LOCATION:Pavilhão da Bienal – Pavilhão Ciccillo Matarazzo\, São Paulo\, SP
CATEGORIES:Artes e Coleções,Artesanato
END:VEVENT
BEGIN:VEVENT
DTSTART;TZID=UTC:20260408T000000
DTEND;TZID=UTC:20260411T000000
DTSTAMP:20260425T014009
CREATED:20260417T154907Z
LAST-MODIFIED:20260422T000704Z
UID:996760-1775606400-1775865600@www.lcaviagens.com.br
SUMMARY:BIS - Brazilian iGaming Summit 2026
DESCRIPTION:Lazer\, Hobby e Esportes
URL:https://www.lcaviagens.com.br/eventos/bis-brazilian-igaming-summit-2026/
LOCATION:Transamérica Expo Center\, São Paulo\, SP
CATEGORIES:Hobby e Esportes,Lazer
END:VEVENT
BEGIN:VEVENT
DTSTART;TZID=UTC:20260408T000000
DTEND;TZID=UTC:20260411T000000
DTSTAMP:20260425T014009
CREATED:20260417T154907Z
LAST-MODIFIED:20260422T000704Z
UID:996759-1775606400-1775865600@www.lcaviagens.com.br
SUMMARY:Expo Óptica Brasil
DESCRIPTION:Produtos de Uso Pessoal\, Beleza e Estética
URL:https://www.lcaviagens.com.br/eventos/expo-optica-brasil/
LOCATION:Expo Center Norte\, São Paulo\, SP
CATEGORIES:Beleza e Estética,Produtos de Uso Pessoal
END:VEVENT
BEGIN:VEVENT
DTSTART;TZID=UTC:20260408T000000
DTEND;TZID=UTC:20260411T000000
DTSTAMP:20260425T014009
CREATED:20260417T154906Z
LAST-MODIFIED:20260422T000704Z
UID:996758-1775606400-1775865600@www.lcaviagens.com.br
SUMMARY:Jornada de Imunologia Clínica e Alergia USP
DESCRIPTION:Saúde: Tecnologia\, Equipamentos e Pesquisa
URL:https://www.lcaviagens.com.br/eventos/jornada-de-imunologia-clinica-e-alergia-usp/
LOCATION:Centro de Convenções Rebouças\, São Paulo\, SP
CATEGORIES:Equipamentos e Pesquisa,Saúde: Tecnologia
END:VEVENT
BEGIN:VEVENT
DTSTART;TZID=UTC:20260408T000000
DTEND;TZID=UTC:20260409T000000
DTSTAMP:20260425T014009
CREATED:20260417T154954Z
LAST-MODIFIED:20260422T000734Z
UID:996766-1775606400-1775692800@www.lcaviagens.com.br
SUMMARY:EXPO EDUCARE (EXPOEDUCARE)
DESCRIPTION:Cultura e Educação
URL:https://www.lcaviagens.com.br/eventos/expo-educare-expoeducare/
LOCATION:Villa Conte\, São José do Rio Preto\, SP
CATEGORIES:Cultura e Educação
END:VEVENT
BEGIN:VEVENT
DTSTART;TZID=UTC:20260408T000000
DTEND;TZID=UTC:20260408T000000
DTSTAMP:20260425T014009
CREATED:20260417T154951Z
LAST-MODIFIED:20260422T000720Z
UID:996764-1775606400-1775606400@www.lcaviagens.com.br
SUMMARY:Rodada de Negócios | Portal do Hoteleiro  ABIH-SP (ABCD)
DESCRIPTION:Turismo\, Hotéis\, Bares e Restaurantes
URL:https://www.lcaviagens.com.br/eventos/rodada-de-negocios-portal-do-hoteleiro-%c2%96-abih-sp-abcd/
LOCATION:Espaço InovaNEX\, São Caetano do Sul\, SP
CATEGORIES:Bares e Restaurantes,Hotéis,Turismo
END:VEVENT
BEGIN:VEVENT
DTSTART;TZID=UTC:20260408T000000
DTEND;TZID=UTC:20260408T000000
DTSTAMP:20260425T014009
CREATED:20260417T154951Z
LAST-MODIFIED:20260422T000720Z
UID:996765-1775606400-1775606400@www.lcaviagens.com.br
SUMMARY:Painel Perspectiva de Mercado x
DESCRIPTION:Tecnologia Industrial
URL:https://www.lcaviagens.com.br/eventos/painel-perspectiva-de-mercado-x/
LOCATION:Online\, São Paulo\, SP
CATEGORIES:Tecnologia Industrial
END:VEVENT
BEGIN:VEVENT
DTSTART;TZID=UTC:20260408T000000
DTEND;TZID=UTC:20260408T000000
DTSTAMP:20260425T014009
CREATED:20260417T154950Z
LAST-MODIFIED:20260422T000719Z
UID:996763-1775606400-1775606400@www.lcaviagens.com.br
SUMMARY:Speed Meeting - MICE (Rio de Janeiro) (Abril)
DESCRIPTION:Gestão Empresarial e Recursos Humanos
URL:https://www.lcaviagens.com.br/eventos/speed-meeting-mice-rio-de-janeiro-abril/
LOCATION:Hotel Prodigy Santos Dumont\, Rio de Janeiro\, RJ
CATEGORIES:Gestão Empresarial e Recursos Humanos
END:VEVENT
END:VCALENDAR