BEGIN:VCALENDAR
VERSION:2.0
PRODID:-//LCA  - ECPv6.15.20//NONSGML v1.0//EN
CALSCALE:GREGORIAN
METHOD:PUBLISH
X-WR-CALNAME:LCA 
X-ORIGINAL-URL:https://www.lcaviagens.com.br
X-WR-CALDESC:Eventos para LCA 
REFRESH-INTERVAL;VALUE=DURATION:PT1H
X-Robots-Tag:noindex
X-PUBLISHED-TTL:PT1H
BEGIN:VTIMEZONE
TZID:UTC
BEGIN:STANDARD
TZOFFSETFROM:+0000
TZOFFSETTO:+0000
TZNAME:UTC
DTSTART:20250101T000000
END:STANDARD
END:VTIMEZONE
BEGIN:VEVENT
DTSTART;TZID=UTC:20260424T000000
DTEND;TZID=UTC:20260627T000000
DTSTAMP:20260425T145708
CREATED:20260417T155736Z
LAST-MODIFIED:20260422T001520Z
UID:996923-1776988800-1782518400@www.lcaviagens.com.br
SUMMARY:São João de Caruaru 2026
DESCRIPTION:Feiras Multisetoriais
URL:https://www.lcaviagens.com.br/eventos/sao-joao-de-caruaru-2026/
LOCATION:Pátio de Eventos Luiz Gonzaga\, Caruaru\, PE
CATEGORIES:Feiras Multisetoriais
END:VEVENT
BEGIN:VEVENT
DTSTART;TZID=UTC:20260429T000000
DTEND;TZID=UTC:20260621T000000
DTSTAMP:20260425T145708
CREATED:20260417T155936Z
LAST-MODIFIED:20260422T001719Z
UID:996962-1777420800-1782000000@www.lcaviagens.com.br
SUMMARY:CASACOR 2026 (Goiás)
DESCRIPTION:Madeira\, Móveis e Decorações
URL:https://www.lcaviagens.com.br/eventos/casacor-2026-goias/
LOCATION:Rua 1131 – qd .235 – lt. 23 – Setor Marista\, Goiânia\, GO
CATEGORIES:Madeira,Móveis e Decorações
END:VEVENT
BEGIN:VEVENT
DTSTART;TZID=UTC:20260507T000000
DTEND;TZID=UTC:20260621T000000
DTSTAMP:20260425T145708
CREATED:20260417T160436Z
LAST-MODIFIED:20260422T002219Z
UID:997062-1778112000-1782000000@www.lcaviagens.com.br
SUMMARY:CASACOR 2026 (Piauí)
DESCRIPTION:Madeira\, Móveis e Decorações
URL:https://www.lcaviagens.com.br/eventos/casacor-2026-piaui/
LOCATION:Piçarreira\, Teresina\, PI
CATEGORIES:Madeira,Móveis e Decorações
END:VEVENT
BEGIN:VEVENT
DTSTART;TZID=UTC:20260508T000000
DTEND;TZID=UTC:20260621T000000
DTSTAMP:20260425T145708
CREATED:20260417T160451Z
LAST-MODIFIED:20260422T002235Z
UID:997068-1778198400-1782000000@www.lcaviagens.com.br
SUMMARY:Tricofest 2026 (Nova Petrópolis)
DESCRIPTION:Setores Têxtil e Têxtil Confeccionista
URL:https://www.lcaviagens.com.br/eventos/tricofest-2026-nova-petropolis/
LOCATION:Centro de Eventos de Nova Petrópolis\, Nova Petrópolis\, RS
CATEGORIES:Setores Têxtil e Têxtil Confeccionista
END:VEVENT
BEGIN:VEVENT
DTSTART;TZID=UTC:20260508T000000
DTEND;TZID=UTC:20260712T000000
DTSTAMP:20260425T145708
CREATED:20260417T160451Z
LAST-MODIFIED:20260422T002235Z
UID:997067-1778198400-1783814400@www.lcaviagens.com.br
SUMMARY:CASACOR 2026 (Mato Grosso)
DESCRIPTION:Habitação\, Condomínios e Imóveis em Geral
URL:https://www.lcaviagens.com.br/eventos/casacor-2026-mato-grosso/
LOCATION:Cuiabá\, Cuiabá\, MT
CATEGORIES:Condomínios e Imóveis em Geral,Habitação
END:VEVENT
BEGIN:VEVENT
DTSTART;TZID=UTC:20260510T000000
DTEND;TZID=UTC:20260705T000000
DTSTAMP:20260425T145708
CREATED:20260417T160507Z
LAST-MODIFIED:20260422T002249Z
UID:997075-1778371200-1783209600@www.lcaviagens.com.br
SUMMARY:CASACOR 2026 (Paraná)
DESCRIPTION:Habitação\, Condomínios e Imóveis em Geral
URL:https://www.lcaviagens.com.br/eventos/casacor-2026-parana/
LOCATION:Bigorrilho\, Curitiba\, PR
CATEGORIES:Condomínios e Imóveis em Geral,Habitação
END:VEVENT
BEGIN:VEVENT
DTSTART;TZID=UTC:20260512T000000
DTEND;TZID=UTC:20260514T000000
DTSTAMP:20260425T145708
CREATED:20260417T160521Z
LAST-MODIFIED:20260422T002304Z
UID:997079-1778544000-1778716800@www.lcaviagens.com.br
SUMMARY:SINDEPAT SUMMIT 2026 (Sindepat Summit - Industry\, Showcase & Networking)
DESCRIPTION:Lazer\, Hobby e Esportes
URL:https://www.lcaviagens.com.br/eventos/sindepat-summit-2026-sindepat-summit-industry-showcase-networking/
LOCATION:Rio de Janeiro\, Rio de Janeiro\, RJ
CATEGORIES:Hobby e Esportes,Lazer
END:VEVENT
BEGIN:VEVENT
DTSTART;TZID=UTC:20260512T000000
DTEND;TZID=UTC:20260514T000000
DTSTAMP:20260425T145708
CREATED:20260417T160522Z
LAST-MODIFIED:20260422T002304Z
UID:997080-1778544000-1778716800@www.lcaviagens.com.br
SUMMARY:Expo Animal Feed
DESCRIPTION:Animais Domésticos e de Pequeno Porte
URL:https://www.lcaviagens.com.br/eventos/expo-animal-feed/
LOCATION:Distrito Anhembi\, São Paulo\, SP
CATEGORIES:Animais Domésticos e de Pequeno Porte
END:VEVENT
BEGIN:VEVENT
DTSTART;TZID=UTC:20260512T000000
DTEND;TZID=UTC:20260514T000000
DTSTAMP:20260425T145708
CREATED:20260417T160536Z
LAST-MODIFIED:20260422T002319Z
UID:997085-1778544000-1778716800@www.lcaviagens.com.br
SUMMARY:WINE SOUTH AMERICA 2026 - Feira Internacional do Vinho
DESCRIPTION:Alimentos e Bebidas
URL:https://www.lcaviagens.com.br/eventos/wine-south-america-2026-feira-internacional-do-vinho/
LOCATION:Parque de Eventos de Bento Gonçalves (Fundaparque)\, Bento Gonçalves\, RS
CATEGORIES:Alimentos e Bebidas
END:VEVENT
BEGIN:VEVENT
DTSTART;TZID=UTC:20260512T000000
DTEND;TZID=UTC:20260514T000000
DTSTAMP:20260425T145708
CREATED:20260417T160536Z
LAST-MODIFIED:20260422T002319Z
UID:997081-1778544000-1778716800@www.lcaviagens.com.br
SUMMARY:EXPO AQUA FEED
DESCRIPTION:Agropecuário\, Comercial e Industrial
URL:https://www.lcaviagens.com.br/eventos/expo-aqua-feed/
LOCATION:Distrito Anhembi\, São Paulo\, SP
CATEGORIES:Agropecuário,Comercial e Industrial
END:VEVENT
BEGIN:VEVENT
DTSTART;TZID=UTC:20260512T000000
DTEND;TZID=UTC:20260514T000000
DTSTAMP:20260425T145708
CREATED:20260417T160536Z
LAST-MODIFIED:20260422T002319Z
UID:997082-1778544000-1778716800@www.lcaviagens.com.br
SUMMARY:Expo Óleos & Gorduras
DESCRIPTION:Tecnologia Industrial
URL:https://www.lcaviagens.com.br/eventos/expo-oleos-gorduras/
LOCATION:Distrito Anhembi\, São Paulo\, SP
CATEGORIES:Tecnologia Industrial
END:VEVENT
BEGIN:VEVENT
DTSTART;TZID=UTC:20260512T000000
DTEND;TZID=UTC:20260514T000000
DTSTAMP:20260425T145708
CREATED:20260417T160536Z
LAST-MODIFIED:20260422T002319Z
UID:997083-1778544000-1778716800@www.lcaviagens.com.br
SUMMARY:Expo Pet Food
DESCRIPTION:Animais Domésticos e de Pequeno Porte
URL:https://www.lcaviagens.com.br/eventos/expo-pet-food/
LOCATION:Distrito Anhembi\, São Paulo\, SP
CATEGORIES:Animais Domésticos e de Pequeno Porte
END:VEVENT
BEGIN:VEVENT
DTSTART;TZID=UTC:20260512T000000
DTEND;TZID=UTC:20260514T000000
DTSTAMP:20260425T145708
CREATED:20260417T160536Z
LAST-MODIFIED:20260422T002319Z
UID:997084-1778544000-1778716800@www.lcaviagens.com.br
SUMMARY:FENAGRA - Feira Internacional da Agro Indústria
DESCRIPTION:Agropecuário\, Comercial e Industrial
URL:https://www.lcaviagens.com.br/eventos/fenagra-feira-internacional-da-agro-industria/
LOCATION:Distrito Anhembi\, São Paulo\, SP
CATEGORIES:Agropecuário,Comercial e Industrial
END:VEVENT
BEGIN:VEVENT
DTSTART;TZID=UTC:20260512T000000
DTEND;TZID=UTC:20260515T000000
DTSTAMP:20260425T145708
CREATED:20260417T160551Z
LAST-MODIFIED:20260422T002334Z
UID:997086-1778544000-1778803200@www.lcaviagens.com.br
SUMMARY:MÓVEL BRASIL - Feira de Móveis e Decorações (Móvel Brasil)
DESCRIPTION:Madeira\, Móveis e Decorações
URL:https://www.lcaviagens.com.br/eventos/movel-brasil-feira-de-moveis-e-decoracoes-movel-brasil/
LOCATION:Expocentro Balneário Camboriú\, Balneário Camboriú\, SC
CATEGORIES:Madeira,Móveis e Decorações
END:VEVENT
BEGIN:VEVENT
DTSTART;TZID=UTC:20260513T000000
DTEND;TZID=UTC:20260514T000000
DTSTAMP:20260425T145708
CREATED:20260417T160636Z
LAST-MODIFIED:20260422T002419Z
UID:997103-1778630400-1778716800@www.lcaviagens.com.br
SUMMARY:HERBISHOW - Seminário sobre Controle de Plantas Daninhas na Cana
DESCRIPTION:Agropecuário\, Comercial e Industrial
URL:https://www.lcaviagens.com.br/eventos/herbishow-seminario-sobre-controle-de-plantas-daninhas-na-cana/
LOCATION:Centro de Eventos Ribeirão Shopping\, Ribeirão Preto\, SP
CATEGORIES:Agropecuário,Comercial e Industrial
END:VEVENT
BEGIN:VEVENT
DTSTART;TZID=UTC:20260513T000000
DTEND;TZID=UTC:20260514T000000
DTSTAMP:20260425T145708
CREATED:20260417T160637Z
LAST-MODIFIED:20260422T002419Z
UID:997104-1778630400-1778716800@www.lcaviagens.com.br
SUMMARY:AB2LEX - AB2L Lawtech Experience (Congresso Internacional de Direito e Novas Tecnologias)
DESCRIPTION:Gestão Empresarial e Recursos Humanos
URL:https://www.lcaviagens.com.br/eventos/ab2lex-ab2l-lawtech-experience-congresso-internacional-de-direito-e-novas-tecnologias/
LOCATION:Pier Mauá\, Rio de Janeiro\, RJ
CATEGORIES:Gestão Empresarial e Recursos Humanos
END:VEVENT
BEGIN:VEVENT
DTSTART;TZID=UTC:20260513T000000
DTEND;TZID=UTC:20260514T000000
DTSTAMP:20260425T145708
CREATED:20260417T160637Z
LAST-MODIFIED:20260422T002419Z
UID:997105-1778630400-1778716800@www.lcaviagens.com.br
SUMMARY:ONDM GO - O Negócio da Moda (Goiânia)
DESCRIPTION:Setores Têxtil e Têxtil Confeccionista
URL:https://www.lcaviagens.com.br/eventos/ondm-go-o-negocio-da-moda-goiania/
LOCATION:Centro de Convenções de Goiânia\, Goiânia\, GO
CATEGORIES:Setores Têxtil e Têxtil Confeccionista
END:VEVENT
BEGIN:VEVENT
DTSTART;TZID=UTC:20260513T000000
DTEND;TZID=UTC:20260514T000000
DTSTAMP:20260425T145708
CREATED:20260417T160651Z
LAST-MODIFIED:20260422T002434Z
UID:997106-1778630400-1778716800@www.lcaviagens.com.br
SUMMARY:Colloquium Internacional SAE BRASIL de Freios e Mostra de Engenharia - Seção Caxias do Sul
DESCRIPTION:Logística\, Transporte e Armazenagem
URL:https://www.lcaviagens.com.br/eventos/colloquium-internacional-sae-brasil-de-freios-e-mostra-de-engenharia-secao-caxias-do-sul/
LOCATION:Casa Perlage\, Farroupilha\, RS
CATEGORIES:Logística,Transporte e Armazenagem
END:VEVENT
BEGIN:VEVENT
DTSTART;TZID=UTC:20260513T000000
DTEND;TZID=UTC:20260514T000000
DTSTAMP:20260425T145708
CREATED:20260417T160651Z
LAST-MODIFIED:20260422T002434Z
UID:997107-1778630400-1778716800@www.lcaviagens.com.br
SUMMARY:SANNAR - Salão Norte-Nordeste de Ar-Condicionado e Refrigeração
DESCRIPTION:Tecnologia Industrial
URL:https://www.lcaviagens.com.br/eventos/sannar-salao-norte-nordeste-de-ar-condicionado-e-refrigeracao/
LOCATION:Praia Centro Hotel\, Fortaleza\, CE
CATEGORIES:Tecnologia Industrial
END:VEVENT
BEGIN:VEVENT
DTSTART;TZID=UTC:20260513T000000
DTEND;TZID=UTC:20260515T000000
DTSTAMP:20260425T145708
CREATED:20260417T160606Z
LAST-MODIFIED:20260422T002349Z
UID:997091-1778630400-1778803200@www.lcaviagens.com.br
SUMMARY:Educorp 2026
DESCRIPTION:Gestão Empresarial e Recursos Humanos
URL:https://www.lcaviagens.com.br/eventos/educorp-2026/
LOCATION:Hotel Blue Tree Morumbi\, São Paulo\, SP
CATEGORIES:Gestão Empresarial e Recursos Humanos
END:VEVENT
BEGIN:VEVENT
DTSTART;TZID=UTC:20260513T000000
DTEND;TZID=UTC:20260515T000000
DTSTAMP:20260425T145708
CREATED:20260417T160606Z
LAST-MODIFIED:20260422T002349Z
UID:997092-1778630400-1778803200@www.lcaviagens.com.br
SUMMARY:ExpoCONAC - Exposição de Produtos e Serviços para as Administradoras de Consórcios
DESCRIPTION:Gestão Empresarial e Recursos Humanos
URL:https://www.lcaviagens.com.br/eventos/expoconac-exposicao-de-produtos-e-servicos-para-as-administradoras-de-consorcios/
LOCATION:Royal Palm Plaza Resort\, Campinas\, SP
CATEGORIES:Gestão Empresarial e Recursos Humanos
END:VEVENT
BEGIN:VEVENT
DTSTART;TZID=UTC:20260513T000000
DTEND;TZID=UTC:20260515T000000
DTSTAMP:20260425T145708
CREATED:20260417T160607Z
LAST-MODIFIED:20260422T002349Z
UID:997093-1778630400-1778803200@www.lcaviagens.com.br
SUMMARY:CONAC - Congresso Nacional de Administradoras de Consórcio
DESCRIPTION:Gestão Empresarial e Recursos Humanos
URL:https://www.lcaviagens.com.br/eventos/conac-congresso-nacional-de-administradoras-de-consorcio/
LOCATION:Royal Palm Plaza Resort\, Campinas\, SP
CATEGORIES:Gestão Empresarial e Recursos Humanos
END:VEVENT
BEGIN:VEVENT
DTSTART;TZID=UTC:20260513T000000
DTEND;TZID=UTC:20260516T000000
DTSTAMP:20260425T145708
CREATED:20260417T160607Z
LAST-MODIFIED:20260422T002349Z
UID:997094-1778630400-1778889600@www.lcaviagens.com.br
SUMMARY:BBCS - Brazilian Breast Cancer Symposium
DESCRIPTION:Saúde: Tecnologia\, Equipamentos e Pesquisa
URL:https://www.lcaviagens.com.br/eventos/bbcs-brazilian-breast-cancer-symposium/
LOCATION:Centro de Convenções de Goiânia\, Goiânia\, GO
CATEGORIES:Equipamentos e Pesquisa,Saúde: Tecnologia
END:VEVENT
BEGIN:VEVENT
DTSTART;TZID=UTC:20260513T000000
DTEND;TZID=UTC:20260516T000000
DTSTAMP:20260425T145708
CREATED:20260417T160607Z
LAST-MODIFIED:20260422T002349Z
UID:997095-1778630400-1778889600@www.lcaviagens.com.br
SUMMARY:EXPO NOVA (Expo Nova Mutum)
DESCRIPTION:Agropecuário\, Comercial e Industrial
URL:https://www.lcaviagens.com.br/eventos/expo-nova-expo-nova-mutum/
LOCATION:Parque de Exposições\, Ponte Alta do Bom Jesus\, TO
CATEGORIES:Agropecuário,Comercial e Industrial
END:VEVENT
BEGIN:VEVENT
DTSTART;TZID=UTC:20260513T000000
DTEND;TZID=UTC:20260516T000000
DTSTAMP:20260425T145708
CREATED:20260417T160621Z
LAST-MODIFIED:20260422T002404Z
UID:997096-1778630400-1778889600@www.lcaviagens.com.br
SUMMARY:BRASCRS 2026 - Congresso Internacional de Catarata e Cirurgia Refrativa
DESCRIPTION:Saúde: Tecnologia\, Equipamentos e Pesquisa
URL:https://www.lcaviagens.com.br/eventos/brascrs-2026-congresso-internacional-de-catarata-e-cirurgia-refrativa/
LOCATION:Transamérica Expo Center\, São Paulo\, SP
CATEGORIES:Equipamentos e Pesquisa,Saúde: Tecnologia
END:VEVENT
BEGIN:VEVENT
DTSTART;TZID=UTC:20260513T000000
DTEND;TZID=UTC:20260516T000000
DTSTAMP:20260425T145708
CREATED:20260417T160621Z
LAST-MODIFIED:20260422T002404Z
UID:997097-1778630400-1778889600@www.lcaviagens.com.br
SUMMARY:Congresso Brasileiro de Administração em Oftalmologia
DESCRIPTION:Saúde: Tecnologia\, Equipamentos e Pesquisa
URL:https://www.lcaviagens.com.br/eventos/congresso-brasileiro-de-administracao-em-oftalmologia/
LOCATION:Transamérica Expo Center\, São Paulo\, SP
CATEGORIES:Equipamentos e Pesquisa,Saúde: Tecnologia
END:VEVENT
BEGIN:VEVENT
DTSTART;TZID=UTC:20260513T000000
DTEND;TZID=UTC:20260516T000000
DTSTAMP:20260425T145708
CREATED:20260417T160621Z
LAST-MODIFIED:20260422T002405Z
UID:997098-1778630400-1778889600@www.lcaviagens.com.br
SUMMARY:Congresso Brasileiro de Enfermagem em Oftalmologia
DESCRIPTION:Saúde: Tecnologia\, Equipamentos e Pesquisa
URL:https://www.lcaviagens.com.br/eventos/congresso-brasileiro-de-enfermagem-em-oftalmologia/
LOCATION:Transamérica Expo Center\, São Paulo\, SP
CATEGORIES:Equipamentos e Pesquisa,Saúde: Tecnologia
END:VEVENT
BEGIN:VEVENT
DTSTART;TZID=UTC:20260513T000000
DTEND;TZID=UTC:20260516T000000
DTSTAMP:20260425T145708
CREATED:20260417T160622Z
LAST-MODIFIED:20260422T002405Z
UID:997099-1778630400-1778889600@www.lcaviagens.com.br
SUMMARY:CBM - Congresso Brasileiro de Mastologia
DESCRIPTION:Saúde: Tecnologia\, Equipamentos e Pesquisa
URL:https://www.lcaviagens.com.br/eventos/cbm-congresso-brasileiro-de-mastologia/
LOCATION:Centro de Convenções de Goiânia\, Goiânia\, GO
CATEGORIES:Equipamentos e Pesquisa,Saúde: Tecnologia
END:VEVENT
BEGIN:VEVENT
DTSTART;TZID=UTC:20260513T000000
DTEND;TZID=UTC:20260517T000000
DTSTAMP:20260425T145708
CREATED:20260417T160622Z
LAST-MODIFIED:20260422T002405Z
UID:997100-1778630400-1778976000@www.lcaviagens.com.br
SUMMARY:FARGO GOIÁS - Feira de Arte de Goiás
DESCRIPTION:Cultura e Educação
URL:https://www.lcaviagens.com.br/eventos/fargo-goias-feira-de-arte-de-goias/
LOCATION:Centro Cultural Oscar Niemeyer\, Goiânia\, GO
CATEGORIES:Cultura e Educação
END:VEVENT
BEGIN:VEVENT
DTSTART;TZID=UTC:20260513T000000
DTEND;TZID=UTC:20260517T000000
DTSTAMP:20260425T145708
CREATED:20260417T160636Z
LAST-MODIFIED:20260422T002419Z
UID:997101-1778630400-1778976000@www.lcaviagens.com.br
SUMMARY:Festa das Nações de Piracicaba 2026
DESCRIPTION:Feiras Multisetoriais
URL:https://www.lcaviagens.com.br/eventos/festa-das-nacoes-de-piracicaba-2026/
LOCATION:Engenho Central\, Piracicaba\, SP
CATEGORIES:Feiras Multisetoriais
END:VEVENT
END:VCALENDAR