BEGIN:VCALENDAR
VERSION:2.0
PRODID:-//LCA  - ECPv6.15.20//NONSGML v1.0//EN
CALSCALE:GREGORIAN
METHOD:PUBLISH
X-ORIGINAL-URL:https://www.lcaviagens.com.br
X-WR-CALDESC:Eventos para LCA 
REFRESH-INTERVAL;VALUE=DURATION:PT1H
X-Robots-Tag:noindex
X-PUBLISHED-TTL:PT1H
BEGIN:VTIMEZONE
TZID:UTC
BEGIN:STANDARD
TZOFFSETFROM:+0000
TZOFFSETTO:+0000
TZNAME:UTC
DTSTART:20250101T000000
END:STANDARD
END:VTIMEZONE
BEGIN:VEVENT
DTSTART;TZID=UTC:20260701T000000
DTEND;TZID=UTC:20260703T000000
DTSTAMP:20260422T235432
CREATED:20260417T222624Z
LAST-MODIFIED:20260422T004905Z
UID:998866-1782864000-1783036800@www.lcaviagens.com.br
SUMMARY:SHOWBRINQ - Showroom de Brinquedos (Maranhão)
DESCRIPTION:Utilidades do Lar\, Presentes\, Brindes e Brinquedos
URL:https://www.lcaviagens.com.br/eventos/showbrinq-showroom-de-brinquedos-maranhao/
LOCATION:Multicenter Sebrae\, São Luís\, MA
CATEGORIES:Brindes e Brinquedos,Presentes,Utilidades do Lar
END:VEVENT
END:VCALENDAR