BEGIN:VCALENDAR
VERSION:2.0
PRODID:-//LCA  - ECPv6.15.20//NONSGML v1.0//EN
CALSCALE:GREGORIAN
METHOD:PUBLISH
X-WR-CALNAME:LCA 
X-ORIGINAL-URL:https://www.lcaviagens.com.br
X-WR-CALDESC:Eventos para LCA 
REFRESH-INTERVAL;VALUE=DURATION:PT1H
X-Robots-Tag:noindex
X-PUBLISHED-TTL:PT1H
BEGIN:VTIMEZONE
TZID:UTC
BEGIN:STANDARD
TZOFFSETFROM:+0000
TZOFFSETTO:+0000
TZNAME:UTC
DTSTART:20250101T000000
END:STANDARD
END:VTIMEZONE
BEGIN:VEVENT
DTSTART;TZID=UTC:20260616T000000
DTEND;TZID=UTC:20260618T000000
DTSTAMP:20260423T023015
CREATED:20260417T222318Z
LAST-MODIFIED:20260422T004119Z
UID:998664-1781568000-1781740800@www.lcaviagens.com.br
SUMMARY:SHOWBRINQ - Showroom de Brinquedos (Rio de Janeiro)
DESCRIPTION:Utilidades do Lar\, Presentes\, Brindes e Brinquedos
URL:https://www.lcaviagens.com.br/eventos/showbrinq-showroom-de-brinquedos-rio-de-janeiro/
LOCATION:Expo MAG (Antigo Centro de Convenções SulAmérica)\, Rio de Janeiro\, RJ
CATEGORIES:Brindes e Brinquedos,Presentes,Utilidades do Lar
END:VEVENT
END:VCALENDAR