BEGIN:VCALENDAR
VERSION:2.0
PRODID:-//LCA  - ECPv6.15.20//NONSGML v1.0//EN
CALSCALE:GREGORIAN
METHOD:PUBLISH
X-ORIGINAL-URL:https://www.lcaviagens.com.br
X-WR-CALDESC:Eventos para LCA 
REFRESH-INTERVAL;VALUE=DURATION:PT1H
X-Robots-Tag:noindex
X-PUBLISHED-TTL:PT1H
BEGIN:VTIMEZONE
TZID:UTC
BEGIN:STANDARD
TZOFFSETFROM:+0000
TZOFFSETTO:+0000
TZNAME:UTC
DTSTART:20250101T000000
END:STANDARD
END:VTIMEZONE
BEGIN:VEVENT
DTSTART;TZID=UTC:20260609T000000
DTEND;TZID=UTC:20260611T000000
DTSTAMP:20260423T051705
CREATED:20260417T222218Z
LAST-MODIFIED:20260422T003905Z
UID:998620-1780963200-1781136000@www.lcaviagens.com.br
SUMMARY:FVST26 - Fevest Inspire 2026 (FEVEST - Feira de Nova Friburgo)
DESCRIPTION:Setores Têxtil e Têxtil Confeccionista
URL:https://www.lcaviagens.com.br/eventos/fvst26-fevest-inspire-2026-fevest-feira-de-nova-friburgo/
LOCATION:Nova Friburgo Country Clube\, Nova Friburgo\, RJ
CATEGORIES:Setores Têxtil e Têxtil Confeccionista
END:VEVENT
BEGIN:VEVENT
DTSTART;TZID=UTC:20260612T000000
DTEND;TZID=UTC:20260621T000000
DTSTAMP:20260423T051705
CREATED:20260417T222258Z
LAST-MODIFIED:20260422T004034Z
UID:998649-1781222400-1782000000@www.lcaviagens.com.br
SUMMARY:FEIMI - Feira da Moda Inverno 2026 (São Bernardo do Campo)
DESCRIPTION:Setores Têxtil e Têxtil Confeccionista
URL:https://www.lcaviagens.com.br/eventos/feimi-feira-da-moda-inverno-2026-sao-bernardo-do-campo/
LOCATION:São Bernardo do Campo\, São Bernardo do Campo\, SP
CATEGORIES:Setores Têxtil e Têxtil Confeccionista
END:VEVENT
BEGIN:VEVENT
DTSTART;TZID=UTC:20260701T000000
DTEND;TZID=UTC:20260703T000000
DTSTAMP:20260423T051705
CREATED:20260417T222627Z
LAST-MODIFIED:20260422T004919Z
UID:998873-1782864000-1783036800@www.lcaviagens.com.br
SUMMARY:COMTEX - Feira de Fornecedores e Componentes Têxteis (Comtex & Sing Expo) (Recife)
DESCRIPTION:Setores Têxtil e Têxtil Confeccionista
URL:https://www.lcaviagens.com.br/eventos/comtex-feira-de-fornecedores-e-componentes-texteis-comtex-sing-expo-recife/
LOCATION:Recife\, Recife\, PE
CATEGORIES:Setores Têxtil e Têxtil Confeccionista
END:VEVENT
BEGIN:VEVENT
DTSTART;TZID=UTC:20260702T000000
DTEND;TZID=UTC:20260712T000000
DTSTAMP:20260423T051705
CREATED:20260417T222643Z
LAST-MODIFIED:20260422T004949Z
UID:998883-1782950400-1783814400@www.lcaviagens.com.br
SUMMARY:Feira do Bordado de Ibitinga
DESCRIPTION:Setores Têxtil e Têxtil Confeccionista
URL:https://www.lcaviagens.com.br/eventos/feira-do-bordado-de-ibitinga/
LOCATION:Pavilhão Permanente de Exposições Dr. Licínio Hilmar Oliveira de Arantes\, Ibitinga\, SP
CATEGORIES:Setores Têxtil e Têxtil Confeccionista
END:VEVENT
BEGIN:VEVENT
DTSTART;TZID=UTC:20260703T000000
DTEND;TZID=UTC:20260712T000000
DTSTAMP:20260423T051705
CREATED:20260417T222648Z
LAST-MODIFIED:20260422T005005Z
UID:998891-1783036800-1783814400@www.lcaviagens.com.br
SUMMARY:FEIMI - Feira da Moda Inverno 2026 (Edição Alto Inverno)
DESCRIPTION:Setores Têxtil e Têxtil Confeccionista
URL:https://www.lcaviagens.com.br/eventos/feimi-feira-da-moda-inverno-2026-edicao-alto-inverno/
LOCATION:Centro de Eventos São Luís\, São Paulo\, SP
CATEGORIES:Setores Têxtil e Têxtil Confeccionista
END:VEVENT
BEGIN:VEVENT
DTSTART;TZID=UTC:20260703T000000
DTEND;TZID=UTC:20260726T000000
DTSTAMP:20260423T051705
CREATED:20260417T222648Z
LAST-MODIFIED:20260422T005005Z
UID:998892-1783036800-1785024000@www.lcaviagens.com.br
SUMMARY:Tricofest 2026 (Picada Café)
DESCRIPTION:Setores Têxtil e Têxtil Confeccionista
URL:https://www.lcaviagens.com.br/eventos/tricofest-2026-picada-cafe/
LOCATION:Parque Jorge Kuhn\, Picada Café\, RS
CATEGORIES:Setores Têxtil e Têxtil Confeccionista
END:VEVENT
BEGIN:VEVENT
DTSTART;TZID=UTC:20260721T000000
DTEND;TZID=UTC:20260722T000000
DTSTAMP:20260423T051705
CREATED:20260417T222823Z
LAST-MODIFIED:20260422T005349Z
UID:998969-1784592000-1784678400@www.lcaviagens.com.br
SUMMARY:ONDM AGRESTE - O Negócio da Moda (Fortaleza)
DESCRIPTION:Setores Têxtil e Têxtil Confeccionista
URL:https://www.lcaviagens.com.br/eventos/ondm-agreste-o-negocio-da-moda-fortaleza/
LOCATION:Fortaleza\, Fortaleza\, CE
CATEGORIES:Setores Têxtil e Têxtil Confeccionista
END:VEVENT
BEGIN:VEVENT
DTSTART;TZID=UTC:20260818T000000
DTEND;TZID=UTC:20260821T000000
DTSTAMP:20260423T051705
CREATED:20260417T223227Z
LAST-MODIFIED:20260422T010419Z
UID:999314-1787011200-1787270400@www.lcaviagens.com.br
SUMMARY:Preview do Febratex Summit 2026
DESCRIPTION:Setores Têxtil e Têxtil Confeccionista
URL:https://www.lcaviagens.com.br/eventos/preview-do-febratex-summit-2026/
LOCATION:Parque de Exposições Vila Germânica\, Blumenau\, SC
CATEGORIES:Setores Têxtil e Têxtil Confeccionista
END:VEVENT
BEGIN:VEVENT
DTSTART;TZID=UTC:20260818T000000
DTEND;TZID=UTC:20260821T000000
DTSTAMP:20260423T051705
CREATED:20260417T223227Z
LAST-MODIFIED:20260422T010419Z
UID:999315-1787011200-1787270400@www.lcaviagens.com.br
SUMMARY:FEBRATEX - Feira Brasileira para a Indústria Têxtil
DESCRIPTION:Setores Têxtil e Têxtil Confeccionista
URL:https://www.lcaviagens.com.br/eventos/febratex-feira-brasileira-para-a-industria-textil/
LOCATION:Parque de Exposições Vila Germânica\, Blumenau\, SC
CATEGORIES:Setores Têxtil e Têxtil Confeccionista
END:VEVENT
BEGIN:VEVENT
DTSTART;TZID=UTC:20261020T000000
DTEND;TZID=UTC:20261022T000000
DTSTAMP:20260423T051705
CREATED:20260418T035626Z
LAST-MODIFIED:20260422T012323Z
UID:1001989-1792454400-1792627200@www.lcaviagens.com.br
SUMMARY:ONDM SC - O Negócio da Moda (Balneário Camboriú)
DESCRIPTION:Setores Têxtil e Têxtil Confeccionista
URL:https://www.lcaviagens.com.br/eventos/ondm-sc-o-negocio-da-moda-balneario-camboriu/
LOCATION:Expocentro Balneário Camboriú\, Balneário Camboriú\, SC
CATEGORIES:Setores Têxtil e Têxtil Confeccionista
END:VEVENT
END:VCALENDAR