BEGIN:VCALENDAR
VERSION:2.0
PRODID:-//LCA  - ECPv6.15.20//NONSGML v1.0//EN
CALSCALE:GREGORIAN
METHOD:PUBLISH
X-WR-CALNAME:LCA 
X-ORIGINAL-URL:https://www.lcaviagens.com.br
X-WR-CALDESC:Eventos para LCA 
REFRESH-INTERVAL;VALUE=DURATION:PT1H
X-Robots-Tag:noindex
X-PUBLISHED-TTL:PT1H
BEGIN:VTIMEZONE
TZID:UTC
BEGIN:STANDARD
TZOFFSETFROM:+0000
TZOFFSETTO:+0000
TZNAME:UTC
DTSTART:20250101T000000
END:STANDARD
END:VTIMEZONE
BEGIN:VEVENT
DTSTART;TZID=UTC:20260901T000000
DTEND;TZID=UTC:20260902T000000
DTSTAMP:20260423T163816
CREATED:20260418T034426Z
LAST-MODIFIED:20260422T011034Z
UID:1001751-1788220800-1788307200@www.lcaviagens.com.br
SUMMARY:ISC Brasil - Feira e Conferência Internacional de Segurança
DESCRIPTION:Segurança: Militar\, Nacional e Patrimonial
URL:https://www.lcaviagens.com.br/eventos/isc-brasil-feira-e-conferencia-internacional-de-seguranca/
LOCATION:Distrito Anhembi\, São Paulo\, SP
CATEGORIES:Nacional e Patrimonial,Segurança: Militar
END:VEVENT
BEGIN:VEVENT
DTSTART;TZID=UTC:20260901T000000
DTEND;TZID=UTC:20260902T000000
DTSTAMP:20260423T163816
CREATED:20260418T034427Z
LAST-MODIFIED:20260422T011035Z
UID:1001752-1788220800-1788307200@www.lcaviagens.com.br
SUMMARY:Congresso ISC Brasil
DESCRIPTION:Segurança: Militar\, Nacional e Patrimonial
URL:https://www.lcaviagens.com.br/eventos/congresso-isc-brasil/
LOCATION:Distrito Anhembi\, São Paulo\, SP
CATEGORIES:Nacional e Patrimonial,Segurança: Militar
END:VEVENT
END:VCALENDAR