BEGIN:VCALENDAR
VERSION:2.0
PRODID:-//LCA  - ECPv6.15.20//NONSGML v1.0//EN
CALSCALE:GREGORIAN
METHOD:PUBLISH
X-ORIGINAL-URL:https://www.lcaviagens.com.br
X-WR-CALDESC:Eventos para LCA 
REFRESH-INTERVAL;VALUE=DURATION:PT1H
X-Robots-Tag:noindex
X-PUBLISHED-TTL:PT1H
BEGIN:VTIMEZONE
TZID:UTC
BEGIN:STANDARD
TZOFFSETFROM:+0000
TZOFFSETTO:+0000
TZNAME:UTC
DTSTART:20250101T000000
END:STANDARD
END:VTIMEZONE
BEGIN:VEVENT
DTSTART;TZID=UTC:20260429T000000
DTEND;TZID=UTC:20260502T000000
DTSTAMP:20260423T053027
CREATED:20260417T154636Z
LAST-MODIFIED:20260422T000434Z
UID:996709-1777420800-1777680000@www.lcaviagens.com.br
SUMMARY:Congresso Brasileiro de Nefrologia Pediátrica
DESCRIPTION:Saúde: Tecnologia\, Equipamentos e Pesquisa
URL:https://www.lcaviagens.com.br/eventos/congresso-brasileiro-de-nefrologia-pediatrica/
LOCATION:Hotel Windsor Barra\, Rio de Janeiro\, RJ
CATEGORIES:Equipamentos e Pesquisa,Saúde: Tecnologia
END:VEVENT
BEGIN:VEVENT
DTSTART;TZID=UTC:20260430T000000
DTEND;TZID=UTC:20260502T000000
DTSTAMP:20260423T053027
CREATED:20260417T155936Z
LAST-MODIFIED:20260422T001719Z
UID:996965-1777507200-1777680000@www.lcaviagens.com.br
SUMMARY:ONCOGI 2026 - Congresso Brasileiro de Câncer Digestivo
DESCRIPTION:Saúde: Tecnologia\, Equipamentos e Pesquisa
URL:https://www.lcaviagens.com.br/eventos/oncogi-2026-congresso-brasileiro-de-cancer-digestivo/
LOCATION:Shopping RioMar\, Recife\, PE
CATEGORIES:Equipamentos e Pesquisa,Saúde: Tecnologia
END:VEVENT
BEGIN:VEVENT
DTSTART;TZID=UTC:20260430T000000
DTEND;TZID=UTC:20260503T000000
DTSTAMP:20260423T053027
CREATED:20260418T024520Z
LAST-MODIFIED:20260422T001734Z
UID:1000711-1777507200-1777766400@www.lcaviagens.com.br
SUMMARY:JPR - Jornada Paulista de Radiologia / Exposição de Equipamentos\, Produtos e Serviços para Diagnóstico
DESCRIPTION:Saúde: Tecnologia\, Equipamentos e Pesquisa
URL:https://www.lcaviagens.com.br/eventos/jpr-jornada-paulista-de-radiologia-exposicao-de-equipamentos-produtos-e-servicos-para-diagnostico/
LOCATION:Transamérica Expo Center\, São Paulo\, SP
CATEGORIES:Equipamentos e Pesquisa,Saúde: Tecnologia
END:VEVENT
BEGIN:VEVENT
DTSTART;TZID=UTC:20260430T000000
DTEND;TZID=UTC:20260503T000000
DTSTAMP:20260423T053027
CREATED:20260418T024520Z
LAST-MODIFIED:20260422T001734Z
UID:1000712-1777507200-1777766400@www.lcaviagens.com.br
SUMMARY:CBCD - Congresso Brasileiro de Cirurgia Dermatológica
DESCRIPTION:Saúde: Tecnologia\, Equipamentos e Pesquisa
URL:https://www.lcaviagens.com.br/eventos/cbcd-congresso-brasileiro-de-cirurgia-dermatologica/
LOCATION:Centro de Convenções de Goiânia\, Goiânia\, GO
CATEGORIES:Equipamentos e Pesquisa,Saúde: Tecnologia
END:VEVENT
BEGIN:VEVENT
DTSTART;TZID=UTC:20260430T000000
DTEND;TZID=UTC:20260504T000000
DTSTAMP:20260423T053027
CREATED:20260417T160005Z
LAST-MODIFIED:20260422T001749Z
UID:996971-1777507200-1777852800@www.lcaviagens.com.br
SUMMARY:ENRC 2026 - Encontro Nacional de Radiologia Cardíaca
DESCRIPTION:Saúde: Tecnologia\, Equipamentos e Pesquisa
URL:https://www.lcaviagens.com.br/eventos/enrc-2026-encontro-nacional-de-radiologia-cardiaca/
LOCATION:Transamérica Expo Center\, São Paulo\, SP
CATEGORIES:Equipamentos e Pesquisa,Saúde: Tecnologia
END:VEVENT
END:VCALENDAR