BEGIN:VCALENDAR
VERSION:2.0
PRODID:-//LCA  - ECPv6.15.20//NONSGML v1.0//EN
CALSCALE:GREGORIAN
METHOD:PUBLISH
X-WR-CALNAME:LCA 
X-ORIGINAL-URL:https://www.lcaviagens.com.br
X-WR-CALDESC:Eventos para LCA 
REFRESH-INTERVAL;VALUE=DURATION:PT1H
X-Robots-Tag:noindex
X-PUBLISHED-TTL:PT1H
BEGIN:VTIMEZONE
TZID:UTC
BEGIN:STANDARD
TZOFFSETFROM:+0000
TZOFFSETTO:+0000
TZNAME:UTC
DTSTART:20250101T000000
END:STANDARD
END:VTIMEZONE
BEGIN:VEVENT
DTSTART;TZID=UTC:20260812T000000
DTEND;TZID=UTC:20260813T000000
DTSTAMP:20260423T123213
CREATED:20260417T223154Z
LAST-MODIFIED:20260422T010304Z
UID:999264-1786492800-1786579200@www.lcaviagens.com.br
SUMMARY:Abrafarma Future Trends 2026
DESCRIPTION:Química e Farmacêutica
URL:https://www.lcaviagens.com.br/eventos/abrafarma-future-trends-2026/
LOCATION:Distrito Anhembi\, São Paulo\, SP
CATEGORIES:Química e Farmacêutica
END:VEVENT
END:VCALENDAR