BEGIN:VCALENDAR
VERSION:2.0
PRODID:-//LCA  - ECPv6.15.20//NONSGML v1.0//EN
CALSCALE:GREGORIAN
METHOD:PUBLISH
X-ORIGINAL-URL:https://www.lcaviagens.com.br
X-WR-CALDESC:Eventos para LCA 
REFRESH-INTERVAL;VALUE=DURATION:PT1H
X-Robots-Tag:noindex
X-PUBLISHED-TTL:PT1H
BEGIN:VTIMEZONE
TZID:UTC
BEGIN:STANDARD
TZOFFSETFROM:+0000
TZOFFSETTO:+0000
TZNAME:UTC
DTSTART:20250101T000000
END:STANDARD
END:VTIMEZONE
BEGIN:VEVENT
DTSTART;TZID=UTC:20260601T000000
DTEND;TZID=UTC:20260603T000000
DTSTAMP:20260423T094257
CREATED:20260417T222107Z
LAST-MODIFIED:20260422T003634Z
UID:998566-1780272000-1780444800@www.lcaviagens.com.br
SUMMARY:FCE PHARMA - Exposição Internacional de Tecnologia para a Indústria Farmacêutica
DESCRIPTION:Química e Farmacêutica
URL:https://www.lcaviagens.com.br/eventos/fce-pharma-exposicao-internacional-de-tecnologia-para-a-industria-farmaceutica/
LOCATION:São Paulo Expo Exhibition & Convention Center\, São Paulo\, SP
CATEGORIES:Química e Farmacêutica
END:VEVENT
END:VCALENDAR