BEGIN:VCALENDAR
VERSION:2.0
PRODID:-//LCA  - ECPv6.15.20//NONSGML v1.0//EN
CALSCALE:GREGORIAN
METHOD:PUBLISH
X-ORIGINAL-URL:https://www.lcaviagens.com.br
X-WR-CALDESC:Eventos para LCA 
REFRESH-INTERVAL;VALUE=DURATION:PT1H
X-Robots-Tag:noindex
X-PUBLISHED-TTL:PT1H
BEGIN:VTIMEZONE
TZID:UTC
BEGIN:STANDARD
TZOFFSETFROM:+0000
TZOFFSETTO:+0000
TZNAME:UTC
DTSTART:20250101T000000
END:STANDARD
END:VTIMEZONE
BEGIN:VEVENT
DTSTART;TZID=UTC:20260516T000000
DTEND;TZID=UTC:20260517T000000
DTSTAMP:20260423T090828
CREATED:20260417T160823Z
LAST-MODIFIED:20260422T002604Z
UID:997139-1778889600-1778976000@www.lcaviagens.com.br
SUMMARY:Mystic Fair 2026 (Brasília)
DESCRIPTION:Outros Segmentos
URL:https://www.lcaviagens.com.br/eventos/mystic-fair-2026-brasilia/
LOCATION:Espaço Monumental\, Brasília\, DF
CATEGORIES:Outros Segmentos
END:VEVENT
END:VCALENDAR