BEGIN:VCALENDAR
VERSION:2.0
PRODID:-//LCA  - ECPv6.15.20//NONSGML v1.0//EN
CALSCALE:GREGORIAN
METHOD:PUBLISH
X-WR-CALNAME:LCA 
X-ORIGINAL-URL:https://www.lcaviagens.com.br
X-WR-CALDESC:Eventos para LCA 
REFRESH-INTERVAL;VALUE=DURATION:PT1H
X-Robots-Tag:noindex
X-PUBLISHED-TTL:PT1H
BEGIN:VTIMEZONE
TZID:UTC
BEGIN:STANDARD
TZOFFSETFROM:+0000
TZOFFSETTO:+0000
TZNAME:UTC
DTSTART:20250101T000000
END:STANDARD
END:VTIMEZONE
BEGIN:VEVENT
DTSTART;TZID=UTC:20260307T000000
DTEND;TZID=UTC:20260308T000000
DTSTAMP:20260423T085556
CREATED:20260417T153051Z
LAST-MODIFIED:20260421T234834Z
UID:996395-1772841600-1772928000@www.lcaviagens.com.br
SUMMARY:Mercado Místico - Feira Mística (São Paulo) (Março)
DESCRIPTION:Outros Segmentos
URL:https://www.lcaviagens.com.br/eventos/mercado-mistico-feira-mistica-sao-paulo-marco/
LOCATION:Club Homs\, São Paulo\, SP
CATEGORIES:Outros Segmentos
END:VEVENT
BEGIN:VEVENT
DTSTART;TZID=UTC:20260307T000000
DTEND;TZID=UTC:20260308T000000
DTSTAMP:20260423T085556
CREATED:20260417T153105Z
LAST-MODIFIED:20260421T234848Z
UID:996396-1772841600-1772928000@www.lcaviagens.com.br
SUMMARY:Mystic Fair 2026 (Belo Horizonte)
DESCRIPTION:Outros Segmentos
URL:https://www.lcaviagens.com.br/eventos/mystic-fair-2026-belo-horizonte/
LOCATION:Minascentro\, Belo Horizonte\, MG
CATEGORIES:Outros Segmentos
END:VEVENT
BEGIN:VEVENT
DTSTART;TZID=UTC:20260311T000000
DTEND;TZID=UTC:20260313T000000
DTSTAMP:20260423T085556
CREATED:20260417T153236Z
LAST-MODIFIED:20260421T235019Z
UID:996427-1773187200-1773360000@www.lcaviagens.com.br
SUMMARY:CONADIZ - Congresso Nacional da Pastoral do Dízimo e da Partilha
DESCRIPTION:Outros Segmentos
URL:https://www.lcaviagens.com.br/eventos/conadiz-congresso-nacional-da-pastoral-do-dizimo-e-da-partilha/
LOCATION:Centro de Eventos Padre Vítor Coelho de Almeida\, Aparecida\, SP
CATEGORIES:Outros Segmentos
END:VEVENT
BEGIN:VEVENT
DTSTART;TZID=UTC:20260311T000000
DTEND;TZID=UTC:20260313T000000
DTSTAMP:20260423T085556
CREATED:20260417T153236Z
LAST-MODIFIED:20260421T235019Z
UID:996428-1773187200-1773360000@www.lcaviagens.com.br
SUMMARY:ECONOMATUS - Seminário de Gestão Contábil e Financeira
DESCRIPTION:Outros Segmentos
URL:https://www.lcaviagens.com.br/eventos/economatus-seminario-de-gestao-contabil-e-financeira/
LOCATION:Centro de Eventos Padre Vítor Coelho de Almeida\, Aparecida\, SP
CATEGORIES:Outros Segmentos
END:VEVENT
BEGIN:VEVENT
DTSTART;TZID=UTC:20260311T000000
DTEND;TZID=UTC:20260313T000000
DTSTAMP:20260423T085556
CREATED:20260417T153251Z
LAST-MODIFIED:20260421T235033Z
UID:996432-1773187200-1773360000@www.lcaviagens.com.br
SUMMARY:CONAGE - Congresso Nacional de Gestão Eclesial
DESCRIPTION:Outros Segmentos
URL:https://www.lcaviagens.com.br/eventos/conage-congresso-nacional-de-gestao-eclesial/
LOCATION:Centro de Eventos Padre Vítor Coelho de Almeida\, Aparecida\, SP
CATEGORIES:Outros Segmentos
END:VEVENT
BEGIN:VEVENT
DTSTART;TZID=UTC:20260311T000000
DTEND;TZID=UTC:20260313T000000
DTSTAMP:20260423T085556
CREATED:20260417T153251Z
LAST-MODIFIED:20260421T235033Z
UID:996431-1773187200-1773360000@www.lcaviagens.com.br
SUMMARY:CONASPAR - Congresso Nacional de Secretários Paroquiais
DESCRIPTION:Outros Segmentos
URL:https://www.lcaviagens.com.br/eventos/conaspar-congresso-nacional-de-secretarios-paroquiais/
LOCATION:Centro de Eventos Padre Vítor Coelho de Almeida\, Aparecida\, SP
CATEGORIES:Outros Segmentos
END:VEVENT
BEGIN:VEVENT
DTSTART;TZID=UTC:20260320T000000
DTEND;TZID=UTC:20260322T000000
DTSTAMP:20260423T085556
CREATED:20260417T153921Z
LAST-MODIFIED:20260421T235720Z
UID:996563-1773964800-1774137600@www.lcaviagens.com.br
SUMMARY:ÍNTIMI EXPO - Feira Internacional de Negócios do Mercado Íntimo e Sensual
DESCRIPTION:Outros Segmentos
URL:https://www.lcaviagens.com.br/eventos/intimi-expo-feira-internacional-de-negocios-do-mercado-intimo-e-sensual/
LOCATION:Distrito Anhembi\, São Paulo\, SP
CATEGORIES:Outros Segmentos
END:VEVENT
BEGIN:VEVENT
DTSTART;TZID=UTC:20260320T000000
DTEND;TZID=UTC:20260322T000000
DTSTAMP:20260423T085556
CREATED:20260417T153921Z
LAST-MODIFIED:20260421T235720Z
UID:996565-1773964800-1774137600@www.lcaviagens.com.br
SUMMARY:ELO CONFERENCE 2026 (Elo Conference Gramado) (Elo Gramado)
DESCRIPTION:Outros Segmentos
URL:https://www.lcaviagens.com.br/eventos/elo-conference-2026-elo-conference-gramado-elo-gramado/
LOCATION:Gramado\, Gramado\, RS
CATEGORIES:Outros Segmentos
END:VEVENT
END:VCALENDAR