BEGIN:VCALENDAR
VERSION:2.0
PRODID:-//LCA  - ECPv6.15.20//NONSGML v1.0//EN
CALSCALE:GREGORIAN
METHOD:PUBLISH
X-ORIGINAL-URL:https://www.lcaviagens.com.br
X-WR-CALDESC:Eventos para LCA 
REFRESH-INTERVAL;VALUE=DURATION:PT1H
X-Robots-Tag:noindex
X-PUBLISHED-TTL:PT1H
BEGIN:VTIMEZONE
TZID:UTC
BEGIN:STANDARD
TZOFFSETFROM:+0000
TZOFFSETTO:+0000
TZNAME:UTC
DTSTART:20250101T000000
END:STANDARD
END:VTIMEZONE
BEGIN:VEVENT
DTSTART;TZID=UTC:20260121T000000
DTEND;TZID=UTC:20260125T000000
DTSTAMP:20260423T155823
CREATED:20260417T152007Z
LAST-MODIFIED:20260421T233749Z
UID:996179-1768953600-1769299200@www.lcaviagens.com.br
SUMMARY:ENF RCCBRASIL - Encontro Nacional de Formação para Servos (ENF)
DESCRIPTION:Outros Segmentos
URL:https://www.lcaviagens.com.br/eventos/enf-rccbrasil-encontro-nacional-de-formacao-para-servos-enf/
LOCATION:Canção Nova\, Cachoeira Paulista\, SP
CATEGORIES:Outros Segmentos
END:VEVENT
BEGIN:VEVENT
DTSTART;TZID=UTC:20260123T000000
DTEND;TZID=UTC:20260125T000000
DTSTAMP:20260423T155823
CREATED:20260417T152022Z
LAST-MODIFIED:20260421T233804Z
UID:996185-1769126400-1769299200@www.lcaviagens.com.br
SUMMARY:CEU - Congresso Espírita de Uberlândia
DESCRIPTION:Outros Segmentos
URL:https://www.lcaviagens.com.br/eventos/ceu-congresso-espirita-de-uberlandia/
LOCATION:Center Convention Uberlândia\, Uberlândia\, MG
CATEGORIES:Outros Segmentos
END:VEVENT
END:VCALENDAR