BEGIN:VCALENDAR
VERSION:2.0
PRODID:-//LCA  - ECPv6.15.20//NONSGML v1.0//EN
CALSCALE:GREGORIAN
METHOD:PUBLISH
X-WR-CALNAME:LCA 
X-ORIGINAL-URL:https://www.lcaviagens.com.br
X-WR-CALDESC:Eventos para LCA 
REFRESH-INTERVAL;VALUE=DURATION:PT1H
X-Robots-Tag:noindex
X-PUBLISHED-TTL:PT1H
BEGIN:VTIMEZONE
TZID:UTC
BEGIN:STANDARD
TZOFFSETFROM:+0000
TZOFFSETTO:+0000
TZNAME:UTC
DTSTART:20250101T000000
END:STANDARD
END:VTIMEZONE
BEGIN:VEVENT
DTSTART;TZID=UTC:20260224T000000
DTEND;TZID=UTC:20260224T000000
DTSTAMP:20260423T065319
CREATED:20260417T152650Z
LAST-MODIFIED:20260421T234434Z
UID:996312-1771891200-1771891200@www.lcaviagens.com.br
SUMMARY:Seminário Políticas de Comunicações 2026
DESCRIPTION:Novas Tecnologias\, Invenções e Inovações
URL:https://www.lcaviagens.com.br/eventos/seminario-politicas-de-comunicacoes-2026/
LOCATION:Finatec/UnB – Campus Universitário Darcy Ribeiro\, Brasília\, DF
CATEGORIES:Invenções e Inovações,Novas Tecnologias
END:VEVENT
END:VCALENDAR