BEGIN:VCALENDAR
VERSION:2.0
PRODID:-//LCA  - ECPv6.15.20//NONSGML v1.0//EN
CALSCALE:GREGORIAN
METHOD:PUBLISH
X-ORIGINAL-URL:https://www.lcaviagens.com.br
X-WR-CALDESC:Eventos para LCA 
REFRESH-INTERVAL;VALUE=DURATION:PT1H
X-Robots-Tag:noindex
X-PUBLISHED-TTL:PT1H
BEGIN:VTIMEZONE
TZID:UTC
BEGIN:STANDARD
TZOFFSETFROM:+0000
TZOFFSETTO:+0000
TZNAME:UTC
DTSTART:20250101T000000
END:STANDARD
END:VTIMEZONE
BEGIN:VEVENT
DTSTART;TZID=UTC:20260529T000000
DTEND;TZID=UTC:20260531T000000
DTSTAMP:20260423T013529
CREATED:20260417T161438Z
LAST-MODIFIED:20260422T003234Z
UID:997264-1780012800-1780185600@www.lcaviagens.com.br
SUMMARY:Feira da Franquia (Salvador)
DESCRIPTION:Empreendedorismo\, Negócios e Franquias
URL:https://www.lcaviagens.com.br/eventos/feira-da-franquia-salvador/
LOCATION:Salvador\, Salvador\, BA
CATEGORIES:Empreendedorismo,Negócios e Franquias
END:VEVENT
BEGIN:VEVENT
DTSTART;TZID=UTC:20260530T000000
DTEND;TZID=UTC:20260530T000000
DTSTAMP:20260423T013529
CREATED:20260417T161452Z
LAST-MODIFIED:20260422T003249Z
UID:997269-1780099200-1780099200@www.lcaviagens.com.br
SUMMARY:Congresso Brasileiro de Vendas para Acelerar Resultados
DESCRIPTION:Empreendedorismo\, Negócios e Franquias
URL:https://www.lcaviagens.com.br/eventos/congresso-brasileiro-de-vendas-para-acelerar-resultados/
LOCATION:Teatro Oficina do Estudante – Shopping Iguatemi\, Campinas\, SP
CATEGORIES:Empreendedorismo,Negócios e Franquias
END:VEVENT
BEGIN:VEVENT
DTSTART;TZID=UTC:20260610T000000
DTEND;TZID=UTC:20260610T000000
DTSTAMP:20260423T013529
CREATED:20260417T222239Z
LAST-MODIFIED:20260422T003949Z
UID:998637-1781049600-1781049600@www.lcaviagens.com.br
SUMMARY:Circuito ExpoEcomm (Blumenau)
DESCRIPTION:Empreendedorismo\, Negócios e Franquias
URL:https://www.lcaviagens.com.br/eventos/circuito-expoecomm-blumenau/
LOCATION:Parque de Exposições Vila Germânica\, Blumenau\, SC
CATEGORIES:Empreendedorismo,Negócios e Franquias
END:VEVENT
BEGIN:VEVENT
DTSTART;TZID=UTC:20260617T000000
DTEND;TZID=UTC:20260618T000000
DTSTAMP:20260423T013529
CREATED:20260417T222338Z
LAST-MODIFIED:20260422T004219Z
UID:998687-1781654400-1781740800@www.lcaviagens.com.br
SUMMARY:Minas Summit 2026
DESCRIPTION:Empreendedorismo\, Negócios e Franquias
URL:https://www.lcaviagens.com.br/eventos/minas-summit-2026/
LOCATION:Minascentro\, Belo Horizonte\, MG
CATEGORIES:Empreendedorismo,Negócios e Franquias
END:VEVENT
BEGIN:VEVENT
DTSTART;TZID=UTC:20260622T000000
DTEND;TZID=UTC:20260623T000000
DTSTAMP:20260423T013529
CREATED:20260417T222408Z
LAST-MODIFIED:20260422T004334Z
UID:998717-1782086400-1782172800@www.lcaviagens.com.br
SUMMARY:ABF Franchising Summit Brasil
DESCRIPTION:Empreendedorismo\, Negócios e Franquias
URL:https://www.lcaviagens.com.br/eventos/abf-franchising-summit-brasil/
LOCATION:Expo Center Norte\, São Paulo\, SP
CATEGORIES:Empreendedorismo,Negócios e Franquias
END:VEVENT
BEGIN:VEVENT
DTSTART;TZID=UTC:20260622T000000
DTEND;TZID=UTC:20260627T000000
DTSTAMP:20260423T013529
CREATED:20260417T222408Z
LAST-MODIFIED:20260422T004334Z
UID:998716-1782086400-1782518400@www.lcaviagens.com.br
SUMMARY:ABF Franchising Week
DESCRIPTION:Empreendedorismo\, Negócios e Franquias
URL:https://www.lcaviagens.com.br/eventos/abf-franchising-week/
LOCATION:Expo Center Norte\, São Paulo\, SP
CATEGORIES:Empreendedorismo,Negócios e Franquias
END:VEVENT
BEGIN:VEVENT
DTSTART;TZID=UTC:20260624T000000
DTEND;TZID=UTC:20260625T000000
DTSTAMP:20260423T013529
CREATED:20260417T222438Z
LAST-MODIFIED:20260422T004434Z
UID:998743-1782259200-1782345600@www.lcaviagens.com.br
SUMMARY:Influent Summit 2026
DESCRIPTION:Empreendedorismo\, Negócios e Franquias
URL:https://www.lcaviagens.com.br/eventos/influent-summit-2026/
LOCATION:Expo Center Norte\, São Paulo\, SP
CATEGORIES:Empreendedorismo,Negócios e Franquias
END:VEVENT
BEGIN:VEVENT
DTSTART;TZID=UTC:20260624T000000
DTEND;TZID=UTC:20260627T000000
DTSTAMP:20260423T013529
CREATED:20260417T222429Z
LAST-MODIFIED:20260422T004419Z
UID:998734-1782259200-1782518400@www.lcaviagens.com.br
SUMMARY:ABF Franchising Expo 2026
DESCRIPTION:Empreendedorismo\, Negócios e Franquias
URL:https://www.lcaviagens.com.br/eventos/abf-franchising-expo-2026/
LOCATION:Expo Center Norte\, São Paulo\, SP
CATEGORIES:Empreendedorismo,Negócios e Franquias
END:VEVENT
BEGIN:VEVENT
DTSTART;TZID=UTC:20260625T000000
DTEND;TZID=UTC:20260625T000000
DTSTAMP:20260423T013529
CREATED:20260417T222448Z
LAST-MODIFIED:20260422T004449Z
UID:998751-1782345600-1782345600@www.lcaviagens.com.br
SUMMARY:Varejo Tech Day
DESCRIPTION:Empreendedorismo\, Negócios e Franquias
URL:https://www.lcaviagens.com.br/eventos/varejo-tech-day/
LOCATION:Lounge CIA Primavera\, Florianópolis\, SC
CATEGORIES:Empreendedorismo,Negócios e Franquias
END:VEVENT
BEGIN:VEVENT
DTSTART;TZID=UTC:20260723T000000
DTEND;TZID=UTC:20260723T000000
DTSTAMP:20260423T013529
CREATED:20260417T222832Z
LAST-MODIFIED:20260422T005420Z
UID:998987-1784764800-1784764800@www.lcaviagens.com.br
SUMMARY:Franchise4U Cuiabá
DESCRIPTION:Empreendedorismo\, Negócios e Franquias
URL:https://www.lcaviagens.com.br/eventos/franchise4u-cuiaba/
LOCATION:Hotel Inter Cuiabá\, Cuiabá\, SP
CATEGORIES:Empreendedorismo,Negócios e Franquias
END:VEVENT
BEGIN:VEVENT
DTSTART;TZID=UTC:20260730T000000
DTEND;TZID=UTC:20260730T000000
DTSTAMP:20260423T013529
CREATED:20260417T222912Z
LAST-MODIFIED:20260422T005549Z
UID:999027-1785369600-1785369600@www.lcaviagens.com.br
SUMMARY:Franchise4U Vitória
DESCRIPTION:Empreendedorismo\, Negócios e Franquias
URL:https://www.lcaviagens.com.br/eventos/franchise4u-vitoria/
LOCATION:Hotel Sherathon\, Vitória\, ES
CATEGORIES:Empreendedorismo,Negócios e Franquias
END:VEVENT
BEGIN:VEVENT
DTSTART;TZID=UTC:20260806T000000
DTEND;TZID=UTC:20260806T000000
DTSTAMP:20260423T013529
CREATED:20260417T223116Z
LAST-MODIFIED:20260422T010119Z
UID:999196-1785974400-1785974400@www.lcaviagens.com.br
SUMMARY:Franchise4U Sorocaba
DESCRIPTION:Empreendedorismo\, Negócios e Franquias
URL:https://www.lcaviagens.com.br/eventos/franchise4u-sorocaba/
LOCATION:Sorocaba Park Hotel\, Sorocaba\, SP
CATEGORIES:Empreendedorismo,Negócios e Franquias
END:VEVENT
BEGIN:VEVENT
DTSTART;TZID=UTC:20260811T000000
DTEND;TZID=UTC:20260811T000000
DTSTAMP:20260423T013529
CREATED:20260417T223139Z
LAST-MODIFIED:20260422T010234Z
UID:999244-1786406400-1786406400@www.lcaviagens.com.br
SUMMARY:Mktplace Day (Maringá) x
DESCRIPTION:Empreendedorismo\, Negócios e Franquias
URL:https://www.lcaviagens.com.br/eventos/mktplace-day-maringa-x/
LOCATION:Lebloc Eventos\, Maringá\, PR
CATEGORIES:Empreendedorismo,Negócios e Franquias
END:VEVENT
BEGIN:VEVENT
DTSTART;TZID=UTC:20260812T000000
DTEND;TZID=UTC:20260813T000000
DTSTAMP:20260423T013529
CREATED:20260417T223154Z
LAST-MODIFIED:20260422T010304Z
UID:999267-1786492800-1786579200@www.lcaviagens.com.br
SUMMARY:Blockchain.Rio 2026
DESCRIPTION:Empreendedorismo\, Negócios e Franquias
URL:https://www.lcaviagens.com.br/eventos/blockchain-rio-2026/
LOCATION:Expo Rio Cidade Nova\, Rio de Janeiro\, RJ
CATEGORIES:Empreendedorismo,Negócios e Franquias
END:VEVENT
BEGIN:VEVENT
DTSTART;TZID=UTC:20260813T000000
DTEND;TZID=UTC:20260813T000000
DTSTAMP:20260423T013529
CREATED:20260417T223158Z
LAST-MODIFIED:20260422T010319Z
UID:999276-1786579200-1786579200@www.lcaviagens.com.br
SUMMARY:Franchise4U Goiânia
DESCRIPTION:Empreendedorismo\, Negócios e Franquias
URL:https://www.lcaviagens.com.br/eventos/franchise4u-goiania/
LOCATION:Hotel Castro´s Park\, Goiânia\, GO
CATEGORIES:Empreendedorismo,Negócios e Franquias
END:VEVENT
BEGIN:VEVENT
DTSTART;TZID=UTC:20260820T000000
DTEND;TZID=UTC:20260820T000000
DTSTAMP:20260423T013529
CREATED:20260417T223236Z
LAST-MODIFIED:20260422T010450Z
UID:999336-1787184000-1787184000@www.lcaviagens.com.br
SUMMARY:Franchise4U Fortaleza
DESCRIPTION:Empreendedorismo\, Negócios e Franquias
URL:https://www.lcaviagens.com.br/eventos/franchise4u-fortaleza/
LOCATION:Luzeiros Hotel\, Fortaleza\, CE
CATEGORIES:Empreendedorismo,Negócios e Franquias
END:VEVENT
BEGIN:VEVENT
DTSTART;TZID=UTC:20260825T000000
DTEND;TZID=UTC:20260825T000000
DTSTAMP:20260423T013529
CREATED:20260417T223255Z
LAST-MODIFIED:20260422T010550Z
UID:999377-1787616000-1787616000@www.lcaviagens.com.br
SUMMARY:Circuito ExpoEcomm (Belo Horizonte)
DESCRIPTION:Empreendedorismo\, Negócios e Franquias
URL:https://www.lcaviagens.com.br/eventos/circuito-expoecomm-belo-horizonte/
LOCATION:Minascentro\, Belo Horizonte\, MG
CATEGORIES:Empreendedorismo,Negócios e Franquias
END:VEVENT
BEGIN:VEVENT
DTSTART;TZID=UTC:20260825T000000
DTEND;TZID=UTC:20260826T000000
DTSTAMP:20260423T013529
CREATED:20260417T223304Z
LAST-MODIFIED:20260422T010604Z
UID:999386-1787616000-1787702400@www.lcaviagens.com.br
SUMMARY:PL Connection 2026
DESCRIPTION:Empreendedorismo\, Negócios e Franquias
URL:https://www.lcaviagens.com.br/eventos/pl-connection-2026/
LOCATION:Expo Center Norte\, São Paulo\, SP
CATEGORIES:Empreendedorismo,Negócios e Franquias
END:VEVENT
BEGIN:VEVENT
DTSTART;TZID=UTC:20260827T000000
DTEND;TZID=UTC:20260827T000000
DTSTAMP:20260423T013529
CREATED:20260417T223312Z
LAST-MODIFIED:20260422T010633Z
UID:999405-1787788800-1787788800@www.lcaviagens.com.br
SUMMARY:Franchise4U Santo André
DESCRIPTION:Empreendedorismo\, Negócios e Franquias
URL:https://www.lcaviagens.com.br/eventos/franchise4u-santo-andre/
LOCATION:Bristol Santo André Hotel\, Santo André\, SP
CATEGORIES:Empreendedorismo,Negócios e Franquias
END:VEVENT
BEGIN:VEVENT
DTSTART;TZID=UTC:20260827T000000
DTEND;TZID=UTC:20260828T000000
DTSTAMP:20260423T013529
CREATED:20260417T223312Z
LAST-MODIFIED:20260422T010634Z
UID:999406-1787788800-1787875200@www.lcaviagens.com.br
SUMMARY:Money Week 2026 (Online)
DESCRIPTION:Empreendedorismo\, Negócios e Franquias
URL:https://www.lcaviagens.com.br/eventos/money-week-2026-online/
LOCATION:Online\, São Paulo\, SP
CATEGORIES:Empreendedorismo,Negócios e Franquias
END:VEVENT
BEGIN:VEVENT
DTSTART;TZID=UTC:20260827T000000
DTEND;TZID=UTC:20260828T000000
DTSTAMP:20260423T013529
CREATED:20260417T223313Z
LAST-MODIFIED:20260422T010634Z
UID:999407-1787788800-1787875200@www.lcaviagens.com.br
SUMMARY:Money Week 2026
DESCRIPTION:Empreendedorismo\, Negócios e Franquias
URL:https://www.lcaviagens.com.br/eventos/money-week-2026/
LOCATION:Expocentro Balneário Camboriú\, Balneário Camboriú\, SC
CATEGORIES:Empreendedorismo,Negócios e Franquias
END:VEVENT
BEGIN:VEVENT
DTSTART;TZID=UTC:20260828T000000
DTEND;TZID=UTC:20260830T000000
DTSTAMP:20260423T013529
CREATED:20260417T223317Z
LAST-MODIFIED:20260422T010649Z
UID:999416-1787875200-1788048000@www.lcaviagens.com.br
SUMMARY:Feira da Franquia (Belo Horizonte)
DESCRIPTION:Empreendedorismo\, Negócios e Franquias
URL:https://www.lcaviagens.com.br/eventos/feira-da-franquia-belo-horizonte/
LOCATION:Belo Horizonte\, Belo Horizonte\, GO
CATEGORIES:Empreendedorismo,Negócios e Franquias
END:VEVENT
BEGIN:VEVENT
DTSTART;TZID=UTC:20260903T000000
DTEND;TZID=UTC:20260903T000000
DTSTAMP:20260423T013529
CREATED:20260418T034456Z
LAST-MODIFIED:20260422T011105Z
UID:1001762-1788393600-1788393600@www.lcaviagens.com.br
SUMMARY:Franchise4U Santos
DESCRIPTION:Empreendedorismo\, Negócios e Franquias
URL:https://www.lcaviagens.com.br/eventos/franchise4u-santos/
LOCATION:Hotel Sheraton\, Santos\, SP
CATEGORIES:Empreendedorismo,Negócios e Franquias
END:VEVENT
BEGIN:VEVENT
DTSTART;TZID=UTC:20260915T000000
DTEND;TZID=UTC:20260915T000000
DTSTAMP:20260423T013529
CREATED:20260418T034741Z
LAST-MODIFIED:20260422T011349Z
UID:1001814-1789430400-1789430400@www.lcaviagens.com.br
SUMMARY:Circuito ExpoEcomm (Franca)
DESCRIPTION:Empreendedorismo\, Negócios e Franquias
URL:https://www.lcaviagens.com.br/eventos/circuito-expoecomm-franca/
LOCATION:Villa Eventos\, Franca\, SP
CATEGORIES:Empreendedorismo,Negócios e Franquias
END:VEVENT
BEGIN:VEVENT
DTSTART;TZID=UTC:20260916T000000
DTEND;TZID=UTC:20260916T000000
DTSTAMP:20260423T013529
CREATED:20260418T034756Z
LAST-MODIFIED:20260422T011404Z
UID:1001820-1789516800-1789516800@www.lcaviagens.com.br
SUMMARY:Tax Experience 2026
DESCRIPTION:Empreendedorismo\, Negócios e Franquias
URL:https://www.lcaviagens.com.br/eventos/tax-experience-2026/
LOCATION:Hotel Rosewood São Paulo\, São Paulo\, SP
CATEGORIES:Empreendedorismo,Negócios e Franquias
END:VEVENT
BEGIN:VEVENT
DTSTART;TZID=UTC:20260916T000000
DTEND;TZID=UTC:20260917T000000
DTSTAMP:20260423T013529
CREATED:20260418T034756Z
LAST-MODIFIED:20260422T011404Z
UID:1001822-1789516800-1789603200@www.lcaviagens.com.br
SUMMARY:Business Improvement Summit 2026
DESCRIPTION:Empreendedorismo\, Negócios e Franquias
URL:https://www.lcaviagens.com.br/eventos/business-improvement-summit-2026/
LOCATION:Casa Giardini\, São Paulo\, SP
CATEGORIES:Empreendedorismo,Negócios e Franquias
END:VEVENT
BEGIN:VEVENT
DTSTART;TZID=UTC:20260916T000000
DTEND;TZID=UTC:20260917T000000
DTSTAMP:20260423T013529
CREATED:20260418T034811Z
LAST-MODIFIED:20260422T011436Z
UID:1001824-1789516800-1789603200@www.lcaviagens.com.br
SUMMARY:iFood Move 2026
DESCRIPTION:Empreendedorismo\, Negócios e Franquias
URL:https://www.lcaviagens.com.br/eventos/ifood-move-2026/
LOCATION:São Paulo Expo Exhibition & Convention Center\, São Paulo\, SP
CATEGORIES:Empreendedorismo,Negócios e Franquias
END:VEVENT
BEGIN:VEVENT
DTSTART;TZID=UTC:20260917T000000
DTEND;TZID=UTC:20260917T000000
DTSTAMP:20260423T013529
CREATED:20260418T034826Z
LAST-MODIFIED:20260422T011506Z
UID:1001828-1789603200-1789603200@www.lcaviagens.com.br
SUMMARY:Franchise4U São Paulo (Setembro)
DESCRIPTION:Empreendedorismo\, Negócios e Franquias
URL:https://www.lcaviagens.com.br/eventos/franchise4u-sao-paulo-setembro/
LOCATION:São Paulo\, São Paulo\, SP
CATEGORIES:Empreendedorismo,Negócios e Franquias
END:VEVENT
BEGIN:VEVENT
DTSTART;TZID=UTC:20260921T000000
DTEND;TZID=UTC:20260925T000000
DTSTAMP:20260423T013529
CREATED:20260418T034856Z
LAST-MODIFIED:20260422T011604Z
UID:1001838-1789948800-1790294400@www.lcaviagens.com.br
SUMMARY:Semana Caldeira 2026
DESCRIPTION:Empreendedorismo\, Negócios e Franquias
URL:https://www.lcaviagens.com.br/eventos/semana-caldeira-2026/
LOCATION:Instituto Caldeira\, Porto Alegre\, RS
CATEGORIES:Empreendedorismo,Negócios e Franquias
END:VEVENT
BEGIN:VEVENT
DTSTART;TZID=UTC:20260924T000000
DTEND;TZID=UTC:20260924T000000
DTSTAMP:20260423T013529
CREATED:20260418T034957Z
LAST-MODIFIED:20260422T011653Z
UID:1001861-1790208000-1790208000@www.lcaviagens.com.br
SUMMARY:Franchise4U Campo Grande
DESCRIPTION:Empreendedorismo\, Negócios e Franquias
URL:https://www.lcaviagens.com.br/eventos/franchise4u-campo-grande/
LOCATION:Hotel Deville Prime Campo Grande\, Campo Grande\, MS
CATEGORIES:Empreendedorismo,Negócios e Franquias
END:VEVENT
END:VCALENDAR