BEGIN:VCALENDAR
VERSION:2.0
PRODID:-//LCA  - ECPv6.15.20//NONSGML v1.0//EN
CALSCALE:GREGORIAN
METHOD:PUBLISH
X-ORIGINAL-URL:https://www.lcaviagens.com.br
X-WR-CALDESC:Eventos para LCA 
REFRESH-INTERVAL;VALUE=DURATION:PT1H
X-Robots-Tag:noindex
X-PUBLISHED-TTL:PT1H
BEGIN:VTIMEZONE
TZID:UTC
BEGIN:STANDARD
TZOFFSETFROM:+0000
TZOFFSETTO:+0000
TZNAME:UTC
DTSTART:20250101T000000
END:STANDARD
END:VTIMEZONE
BEGIN:VEVENT
DTSTART;TZID=UTC:20261019T000000
DTEND;TZID=UTC:20261022T000000
DTSTAMP:20260423T161155
CREATED:20260418T035611Z
LAST-MODIFIED:20260422T012308Z
UID:1001984-1792368000-1792627200@www.lcaviagens.com.br
SUMMARY:FE26 - Feira do Empreendedor 2026 (São Paulo)
DESCRIPTION:Empreendedorismo\, Negócios e Franquias
URL:https://www.lcaviagens.com.br/eventos/fe26-feira-do-empreendedor-2026-sao-paulo/
LOCATION:São Paulo Expo Exhibition & Convention Center\, São Paulo\, SP
CATEGORIES:Empreendedorismo,Negócios e Franquias
END:VEVENT
END:VCALENDAR