BEGIN:VCALENDAR
VERSION:2.0
PRODID:-//LCA  - ECPv6.15.20//NONSGML v1.0//EN
CALSCALE:GREGORIAN
METHOD:PUBLISH
X-WR-CALNAME:LCA 
X-ORIGINAL-URL:https://www.lcaviagens.com.br
X-WR-CALDESC:Eventos para LCA 
REFRESH-INTERVAL;VALUE=DURATION:PT1H
X-Robots-Tag:noindex
X-PUBLISHED-TTL:PT1H
BEGIN:VTIMEZONE
TZID:UTC
BEGIN:STANDARD
TZOFFSETFROM:+0000
TZOFFSETTO:+0000
TZNAME:UTC
DTSTART:20250101T000000
END:STANDARD
END:VTIMEZONE
BEGIN:VEVENT
DTSTART;TZID=UTC:20260427T000000
DTEND;TZID=UTC:20260430T000000
DTSTAMP:20260423T091752
CREATED:20260417T155836Z
LAST-MODIFIED:20260422T001619Z
UID:996945-1777248000-1777507200@www.lcaviagens.com.br
SUMMARY:Festival Internacional de Cinema da Fronteira (Bagé)
DESCRIPTION:Radio\,TV\, Música\, Cine\, Foto\, Imagem e Som
URL:https://www.lcaviagens.com.br/eventos/festival-internacional-de-cinema-da-fronteira-bage/
LOCATION:Bagé\, Bagé\, RS
CATEGORIES:Cine,Foto,Imagem e Som,Música,Radio,TV
END:VEVENT
END:VCALENDAR