BEGIN:VCALENDAR
VERSION:2.0
PRODID:-//LCA  - ECPv6.15.20//NONSGML v1.0//EN
CALSCALE:GREGORIAN
METHOD:PUBLISH
X-WR-CALNAME:LCA 
X-ORIGINAL-URL:https://www.lcaviagens.com.br
X-WR-CALDESC:Eventos para LCA 
REFRESH-INTERVAL;VALUE=DURATION:PT1H
X-Robots-Tag:noindex
X-PUBLISHED-TTL:PT1H
BEGIN:VTIMEZONE
TZID:UTC
BEGIN:STANDARD
TZOFFSETFROM:+0000
TZOFFSETTO:+0000
TZNAME:UTC
DTSTART:20250101T000000
END:STANDARD
END:VTIMEZONE
BEGIN:VEVENT
DTSTART;TZID=UTC:20260803T000000
DTEND;TZID=UTC:20260806T000000
DTSTAMP:20260423T150731
CREATED:20260417T223036Z
LAST-MODIFIED:20260422T005935Z
UID:999147-1785715200-1785974400@www.lcaviagens.com.br
SUMMARY:ABIMAD - Feira Brasileira de Móveis e Acessórios de Alta Decoração (Agosto)
DESCRIPTION:Madeira\, Móveis e Decorações
URL:https://www.lcaviagens.com.br/eventos/abimad-feira-brasileira-de-moveis-e-acessorios-de-alta-decoracao-agosto/
LOCATION:São Paulo Expo Exhibition & Convention Center\, São Paulo\, SP
CATEGORIES:Madeira,Móveis e Decorações
END:VEVENT
BEGIN:VEVENT
DTSTART;TZID=UTC:20260805T000000
DTEND;TZID=UTC:20260807T000000
DTSTAMP:20260423T150731
CREATED:20260417T223106Z
LAST-MODIFIED:20260422T010049Z
UID:999179-1785888000-1786060800@www.lcaviagens.com.br
SUMMARY:Yes Móvel Show Pará
DESCRIPTION:Madeira\, Móveis e Decorações
URL:https://www.lcaviagens.com.br/eventos/yes-movel-show-para/
LOCATION:Hangar – Centro de Convenções & Feiras da Amazônia\, Belém\, PA
CATEGORIES:Madeira,Móveis e Decorações
END:VEVENT
END:VCALENDAR