BEGIN:VCALENDAR
VERSION:2.0
PRODID:-//LCA  - ECPv6.15.20//NONSGML v1.0//EN
CALSCALE:GREGORIAN
METHOD:PUBLISH
X-ORIGINAL-URL:https://www.lcaviagens.com.br
X-WR-CALDESC:Eventos para LCA 
REFRESH-INTERVAL;VALUE=DURATION:PT1H
X-Robots-Tag:noindex
X-PUBLISHED-TTL:PT1H
BEGIN:VTIMEZONE
TZID:UTC
BEGIN:STANDARD
TZOFFSETFROM:+0000
TZOFFSETTO:+0000
TZNAME:UTC
DTSTART:20250101T000000
END:STANDARD
END:VTIMEZONE
BEGIN:VEVENT
DTSTART;TZID=UTC:20260128T000000
DTEND;TZID=UTC:20260201T000000
DTSTAMP:20260423T101708
CREATED:20260417T152151Z
LAST-MODIFIED:20260421T233935Z
UID:996215-1769558400-1769904000@www.lcaviagens.com.br
SUMMARY:Feira da Gestante (São Paulo) (Janeiro)
DESCRIPTION:Moda Gestante\, Bebê e Criança
URL:https://www.lcaviagens.com.br/eventos/feira-da-gestante-sao-paulo-janeiro/
LOCATION:Shopping West Plaza\, São Paulo\, SP
CATEGORIES:Bebê e Criança,Moda Gestante
END:VEVENT
END:VCALENDAR