BEGIN:VCALENDAR
VERSION:2.0
PRODID:-//LCA  - ECPv6.15.20//NONSGML v1.0//EN
CALSCALE:GREGORIAN
METHOD:PUBLISH
X-WR-CALNAME:LCA 
X-ORIGINAL-URL:https://www.lcaviagens.com.br
X-WR-CALDESC:Eventos para LCA 
REFRESH-INTERVAL;VALUE=DURATION:PT1H
X-Robots-Tag:noindex
X-PUBLISHED-TTL:PT1H
BEGIN:VTIMEZONE
TZID:UTC
BEGIN:STANDARD
TZOFFSETFROM:+0000
TZOFFSETTO:+0000
TZNAME:UTC
DTSTART:20250101T000000
END:STANDARD
END:VTIMEZONE
BEGIN:VEVENT
DTSTART;TZID=UTC:20260316T000000
DTEND;TZID=UTC:20260319T000000
DTSTAMP:20260423T063645
CREATED:20260417T153606Z
LAST-MODIFIED:20260421T235405Z
UID:996500-1773619200-1773878400@www.lcaviagens.com.br
SUMMARY:Yes Móvel Show São Paulo Export 2026
DESCRIPTION:Madeira\, Móveis e Decorações
URL:https://www.lcaviagens.com.br/eventos/yes-movel-show-sao-paulo-export-2026/
LOCATION:Distrito Anhembi\, São Paulo\, SP
CATEGORIES:Madeira,Móveis e Decorações
END:VEVENT
END:VCALENDAR