BEGIN:VCALENDAR
VERSION:2.0
PRODID:-//LCA  - ECPv6.15.20//NONSGML v1.0//EN
CALSCALE:GREGORIAN
METHOD:PUBLISH
X-WR-CALNAME:LCA 
X-ORIGINAL-URL:https://www.lcaviagens.com.br
X-WR-CALDESC:Eventos para LCA 
REFRESH-INTERVAL;VALUE=DURATION:PT1H
X-Robots-Tag:noindex
X-PUBLISHED-TTL:PT1H
BEGIN:VTIMEZONE
TZID:UTC
BEGIN:STANDARD
TZOFFSETFROM:+0000
TZOFFSETTO:+0000
TZNAME:UTC
DTSTART:20250101T000000
END:STANDARD
END:VTIMEZONE
BEGIN:VEVENT
DTSTART;TZID=UTC:20260305T000000
DTEND;TZID=UTC:20260315T000000
DTSTAMP:20260423T090612
CREATED:20260417T152951Z
LAST-MODIFIED:20260421T234734Z
UID:996372-1772668800-1773532800@www.lcaviagens.com.br
SUMMARY:DW! São Paulo Design Weekend (Semana de Design de São Paulo)
DESCRIPTION:Madeira\, Móveis e Decorações
URL:https://www.lcaviagens.com.br/eventos/dw-sao-paulo-design-weekend-semana-de-design-de-sao-paulo/
LOCATION:São Paulo\, São Paulo\, SP
CATEGORIES:Madeira,Móveis e Decorações
END:VEVENT
BEGIN:VEVENT
DTSTART;TZID=UTC:20260309T000000
DTEND;TZID=UTC:20260315T000000
DTSTAMP:20260423T090612
CREATED:20260417T153137Z
LAST-MODIFIED:20260421T234919Z
UID:996408-1773014400-1773532800@www.lcaviagens.com.br
SUMMARY:BOOMSPDESIGN na DW! Semana de Design de São Paulo
DESCRIPTION:Madeira\, Móveis e Decorações
URL:https://www.lcaviagens.com.br/eventos/boomspdesign-na-dw-semana-de-design-de-sao-paulo/
LOCATION:São Paulo\, São Paulo\, SP
CATEGORIES:Madeira,Móveis e Decorações
END:VEVENT
END:VCALENDAR