BEGIN:VCALENDAR
VERSION:2.0
PRODID:-//LCA  - ECPv6.15.20//NONSGML v1.0//EN
CALSCALE:GREGORIAN
METHOD:PUBLISH
X-WR-CALNAME:LCA 
X-ORIGINAL-URL:https://www.lcaviagens.com.br
X-WR-CALDESC:Eventos para LCA 
REFRESH-INTERVAL;VALUE=DURATION:PT1H
X-Robots-Tag:noindex
X-PUBLISHED-TTL:PT1H
BEGIN:VTIMEZONE
TZID:UTC
BEGIN:STANDARD
TZOFFSETFROM:+0000
TZOFFSETTO:+0000
TZNAME:UTC
DTSTART:20250101T000000
END:STANDARD
END:VTIMEZONE
BEGIN:VEVENT
DTSTART;TZID=UTC:20260203T000000
DTEND;TZID=UTC:20260205T000000
DTSTAMP:20260423T101327
CREATED:20260417T152306Z
LAST-MODIFIED:20260421T234050Z
UID:996240-1770076800-1770249600@www.lcaviagens.com.br
SUMMARY:MOVELPAR SHOW 2026 (Movelpar Home Show)
DESCRIPTION:Madeira\, Móveis e Decorações
URL:https://www.lcaviagens.com.br/eventos/movelpar-show-2026-movelpar-home-show/
LOCATION:Centro de Eventos Expoara\, Arapongas\, PR
CATEGORIES:Madeira,Móveis e Decorações
END:VEVENT
END:VCALENDAR