BEGIN:VCALENDAR
VERSION:2.0
PRODID:-//LCA  - ECPv6.15.20//NONSGML v1.0//EN
CALSCALE:GREGORIAN
METHOD:PUBLISH
X-WR-CALNAME:LCA 
X-ORIGINAL-URL:https://www.lcaviagens.com.br
X-WR-CALDESC:Eventos para LCA 
REFRESH-INTERVAL;VALUE=DURATION:PT1H
X-Robots-Tag:noindex
X-PUBLISHED-TTL:PT1H
BEGIN:VTIMEZONE
TZID:UTC
BEGIN:STANDARD
TZOFFSETFROM:+0000
TZOFFSETTO:+0000
TZNAME:UTC
DTSTART:20250101T000000
END:STANDARD
END:VTIMEZONE
BEGIN:VEVENT
DTSTART;TZID=UTC:20260126T000000
DTEND;TZID=UTC:20260129T000000
DTSTAMP:20260423T101244
CREATED:20260417T152106Z
LAST-MODIFIED:20260421T233849Z
UID:996199-1769385600-1769644800@www.lcaviagens.com.br
SUMMARY:SHOWROOM - Feira de Móveis
DESCRIPTION:Madeira\, Móveis e Decorações
URL:https://www.lcaviagens.com.br/eventos/showroom-feira-de-moveis/
LOCATION:Ubá\, Ubá\, MG
CATEGORIES:Madeira,Móveis e Decorações
END:VEVENT
BEGIN:VEVENT
DTSTART;TZID=UTC:20260126T000000
DTEND;TZID=UTC:20260129T000000
DTSTAMP:20260423T101244
CREATED:20260417T152106Z
LAST-MODIFIED:20260421T233849Z
UID:996200-1769385600-1769644800@www.lcaviagens.com.br
SUMMARY:FEMUR 2026 - Feira de Móveis de Minas Gerais
DESCRIPTION:Madeira\, Móveis e Decorações
URL:https://www.lcaviagens.com.br/eventos/femur-2026-feira-de-moveis-de-minas-gerais/
LOCATION:Pavilhão de Exposições do Horto Florestal – Parque de Eventos Irineu Gomes Filho\, Ubá\, MG
CATEGORIES:Madeira,Móveis e Decorações
END:VEVENT
BEGIN:VEVENT
DTSTART;TZID=UTC:20260127T000000
DTEND;TZID=UTC:20260130T000000
DTSTAMP:20260423T101244
CREATED:20260417T152136Z
LAST-MODIFIED:20260421T233919Z
UID:996207-1769472000-1769731200@www.lcaviagens.com.br
SUMMARY:ABIMAD - Feira Brasileira de Móveis e Acessórios de Alta Decoração (Janeiro)
DESCRIPTION:Madeira\, Móveis e Decorações
URL:https://www.lcaviagens.com.br/eventos/abimad-feira-brasileira-de-moveis-e-acessorios-de-alta-decoracao-janeiro/
LOCATION:São Paulo Expo Exhibition & Convention Center\, São Paulo\, SP
CATEGORIES:Madeira,Móveis e Decorações
END:VEVENT
END:VCALENDAR