BEGIN:VCALENDAR
VERSION:2.0
PRODID:-//LCA  - ECPv6.15.20//NONSGML v1.0//EN
CALSCALE:GREGORIAN
METHOD:PUBLISH
X-ORIGINAL-URL:https://www.lcaviagens.com.br
X-WR-CALDESC:Eventos para LCA 
REFRESH-INTERVAL;VALUE=DURATION:PT1H
X-Robots-Tag:noindex
X-PUBLISHED-TTL:PT1H
BEGIN:VTIMEZONE
TZID:UTC
BEGIN:STANDARD
TZOFFSETFROM:+0000
TZOFFSETTO:+0000
TZNAME:UTC
DTSTART:20250101T000000
END:STANDARD
END:VTIMEZONE
BEGIN:VEVENT
DTSTART;TZID=UTC:20260410T000000
DTEND;TZID=UTC:20260412T000000
DTSTAMP:20260423T022947
CREATED:20260417T155050Z
LAST-MODIFIED:20260422T000834Z
UID:996788-1775779200-1775952000@www.lcaviagens.com.br
SUMMARY:IMAGINELAND (Imagine Land) (Rio de Janeiro)
DESCRIPTION:Lazer\, Hobby e Esportes
URL:https://www.lcaviagens.com.br/eventos/imagineland-imagine-land-rio-de-janeiro/
LOCATION:Riocentro\, Rio de Janeiro\, RJ
CATEGORIES:Hobby e Esportes,Lazer
END:VEVENT
BEGIN:VEVENT
DTSTART;TZID=UTC:20260410T000000
DTEND;TZID=UTC:20260412T000000
DTSTAMP:20260423T022947
CREATED:20260417T155050Z
LAST-MODIFIED:20260422T000834Z
UID:996789-1775779200-1775952000@www.lcaviagens.com.br
SUMMARY:CIMTB - Copa Internacional Michelin de Mountain Bike (Congonhas)
DESCRIPTION:Lazer\, Hobby e Esportes
URL:https://www.lcaviagens.com.br/eventos/cimtb-copa-internacional-michelin-de-mountain-bike-congonhas/
LOCATION:Parque Ecológico da Cachoeira\, Congonhas\, MG
CATEGORIES:Hobby e Esportes,Lazer
END:VEVENT
BEGIN:VEVENT
DTSTART;TZID=UTC:20260411T000000
DTEND;TZID=UTC:20260412T000000
DTSTAMP:20260423T022947
CREATED:20260417T155121Z
LAST-MODIFIED:20260422T000905Z
UID:996800-1775865600-1775952000@www.lcaviagens.com.br
SUMMARY:Maratona Internacional de São Paulo
DESCRIPTION:Lazer\, Hobby e Esportes
URL:https://www.lcaviagens.com.br/eventos/maratona-internacional-de-sao-paulo/
LOCATION:São Paulo\, São Paulo\, SP
CATEGORIES:Hobby e Esportes,Lazer
END:VEVENT
END:VCALENDAR