BEGIN:VCALENDAR
VERSION:2.0
PRODID:-//LCA  - ECPv6.15.20//NONSGML v1.0//EN
CALSCALE:GREGORIAN
METHOD:PUBLISH
X-ORIGINAL-URL:https://www.lcaviagens.com.br
X-WR-CALDESC:Eventos para LCA 
REFRESH-INTERVAL;VALUE=DURATION:PT1H
X-Robots-Tag:noindex
X-PUBLISHED-TTL:PT1H
BEGIN:VTIMEZONE
TZID:UTC
BEGIN:STANDARD
TZOFFSETFROM:+0000
TZOFFSETTO:+0000
TZNAME:UTC
DTSTART:20250101T000000
END:STANDARD
END:VTIMEZONE
BEGIN:VEVENT
DTSTART;TZID=UTC:20260406T000000
DTEND;TZID=UTC:20260409T000000
DTSTAMP:20260423T052627
CREATED:20260417T154806Z
LAST-MODIFIED:20260422T000604Z
UID:996739-1775433600-1775692800@www.lcaviagens.com.br
SUMMARY:Sigma Americas (Sigma Américas) (BiS SiGMA Americas)
DESCRIPTION:Lazer\, Hobby e Esportes
URL:https://www.lcaviagens.com.br/eventos/sigma-americas-sigma-americas-bis-sigma-americas/
LOCATION:Transamérica Expo Center\, São Paulo\, SP
CATEGORIES:Hobby e Esportes,Lazer
END:VEVENT
BEGIN:VEVENT
DTSTART;TZID=UTC:20260406T000000
DTEND;TZID=UTC:20260409T000000
DTSTAMP:20260423T052627
CREATED:20260417T154806Z
LAST-MODIFIED:20260422T000604Z
UID:996740-1775433600-1775692800@www.lcaviagens.com.br
SUMMARY:Conferência BiS SiGMA América do Sul (Antigo: AIBC Americas)
DESCRIPTION:Lazer\, Hobby e Esportes
URL:https://www.lcaviagens.com.br/eventos/conferencia-bis-sigma-america-do-sul-antigo-aibc-americas/
LOCATION:Transamérica Expo Center\, São Paulo\, SP
CATEGORIES:Hobby e Esportes,Lazer
END:VEVENT
BEGIN:VEVENT
DTSTART;TZID=UTC:20260408T000000
DTEND;TZID=UTC:20260411T000000
DTSTAMP:20260423T052627
CREATED:20260417T154907Z
LAST-MODIFIED:20260422T000704Z
UID:996760-1775606400-1775865600@www.lcaviagens.com.br
SUMMARY:BIS - Brazilian iGaming Summit 2026
DESCRIPTION:Lazer\, Hobby e Esportes
URL:https://www.lcaviagens.com.br/eventos/bis-brazilian-igaming-summit-2026/
LOCATION:Transamérica Expo Center\, São Paulo\, SP
CATEGORIES:Hobby e Esportes,Lazer
END:VEVENT
END:VCALENDAR