BEGIN:VCALENDAR
VERSION:2.0
PRODID:-//LCA  - ECPv6.15.20//NONSGML v1.0//EN
CALSCALE:GREGORIAN
METHOD:PUBLISH
X-WR-CALNAME:LCA 
X-ORIGINAL-URL:https://www.lcaviagens.com.br
X-WR-CALDESC:Eventos para LCA 
REFRESH-INTERVAL;VALUE=DURATION:PT1H
X-Robots-Tag:noindex
X-PUBLISHED-TTL:PT1H
BEGIN:VTIMEZONE
TZID:UTC
BEGIN:STANDARD
TZOFFSETFROM:+0000
TZOFFSETTO:+0000
TZNAME:UTC
DTSTART:20250101T000000
END:STANDARD
END:VTIMEZONE
BEGIN:VEVENT
DTSTART;TZID=UTC:20260212T000000
DTEND;TZID=UTC:20260405T000000
DTSTAMP:20260423T022615
CREATED:20260417T152520Z
LAST-MODIFIED:20260421T234304Z
UID:996281-1770854400-1775347200@www.lcaviagens.com.br
SUMMARY:OSTERFEST - Festival de Páscoa Alemão
DESCRIPTION:Lazer\, Hobby e Esportes
URL:https://www.lcaviagens.com.br/eventos/osterfest-festival-de-pascoa-alemao/
LOCATION:Centro Cultural de Pomerode\, Pomerode\, SC
CATEGORIES:Hobby e Esportes,Lazer
END:VEVENT
BEGIN:VEVENT
DTSTART;TZID=UTC:20260302T000000
DTEND;TZID=UTC:20260302T000000
DTSTAMP:20260423T022615
CREATED:20260417T152821Z
LAST-MODIFIED:20260421T234604Z
UID:996345-1772409600-1772409600@www.lcaviagens.com.br
SUMMARY:CGS Rio 2026
DESCRIPTION:Lazer\, Hobby e Esportes
URL:https://www.lcaviagens.com.br/eventos/cgs-rio-2026/
LOCATION:Hotel Windsor Barra\, Rio de Janeiro\, RJ
CATEGORIES:Hobby e Esportes,Lazer
END:VEVENT
BEGIN:VEVENT
DTSTART;TZID=UTC:20260303T000000
DTEND;TZID=UTC:20260303T000000
DTSTAMP:20260423T022615
CREATED:20260417T152851Z
LAST-MODIFIED:20260421T234634Z
UID:996354-1772496000-1772496000@www.lcaviagens.com.br
SUMMARY:LRF - Lotteries Regulators Forum
DESCRIPTION:Lazer\, Hobby e Esportes
URL:https://www.lcaviagens.com.br/eventos/lrf-lotteries-regulators-forum/
LOCATION:Hotel Windsor Barra\, Rio de Janeiro\, RJ
CATEGORIES:Hobby e Esportes,Lazer
END:VEVENT
BEGIN:VEVENT
DTSTART;TZID=UTC:20260303T000000
DTEND;TZID=UTC:20260305T000000
DTSTAMP:20260423T022615
CREATED:20260417T152851Z
LAST-MODIFIED:20260421T234633Z
UID:996351-1772496000-1772668800@www.lcaviagens.com.br
SUMMARY:SBC Summit Rio 2026
DESCRIPTION:Lazer\, Hobby e Esportes
URL:https://www.lcaviagens.com.br/eventos/sbc-summit-rio-2026/
LOCATION:Riocentro\, Rio de Janeiro\, RJ
CATEGORIES:Hobby e Esportes,Lazer
END:VEVENT
BEGIN:VEVENT
DTSTART;TZID=UTC:20260308T000000
DTEND;TZID=UTC:20260308T000000
DTSTAMP:20260423T022615
CREATED:20260417T153106Z
LAST-MODIFIED:20260421T234849Z
UID:996400-1772928000-1772928000@www.lcaviagens.com.br
SUMMARY:Ironman (Curitiba)
DESCRIPTION:Lazer\, Hobby e Esportes
URL:https://www.lcaviagens.com.br/eventos/ironman-curitiba/
LOCATION:Passaúna – Parque Barigui\, Curitiba\, PR
CATEGORIES:Hobby e Esportes,Lazer
END:VEVENT
BEGIN:VEVENT
DTSTART;TZID=UTC:20260308T000000
DTEND;TZID=UTC:20260308T000000
DTSTAMP:20260423T022615
CREATED:20260417T153106Z
LAST-MODIFIED:20260421T234849Z
UID:996398-1772928000-1772928000@www.lcaviagens.com.br
SUMMARY:Live! Run XP (São Paulo) (Março)
DESCRIPTION:Lazer\, Hobby e Esportes
URL:https://www.lcaviagens.com.br/eventos/live-run-xp-sao-paulo-marco/
LOCATION:São Paulo\, São Paulo\, SP
CATEGORIES:Hobby e Esportes,Lazer
END:VEVENT
BEGIN:VEVENT
DTSTART;TZID=UTC:20260308T000000
DTEND;TZID=UTC:20260308T000000
DTSTAMP:20260423T022615
CREATED:20260417T153120Z
LAST-MODIFIED:20260421T234904Z
UID:996401-1772928000-1772928000@www.lcaviagens.com.br
SUMMARY:Live! Run XP (Teresina)
DESCRIPTION:Lazer\, Hobby e Esportes
URL:https://www.lcaviagens.com.br/eventos/live-run-xp-teresina/
LOCATION:Teresina\, Teresina\, PI
CATEGORIES:Hobby e Esportes,Lazer
END:VEVENT
BEGIN:VEVENT
DTSTART;TZID=UTC:20260312T000000
DTEND;TZID=UTC:20260314T000000
DTSTAMP:20260423T022615
CREATED:20260417T153352Z
LAST-MODIFIED:20260421T235153Z
UID:996455-1773273600-1773446400@www.lcaviagens.com.br
SUMMARY:Pesca & Companhia Trade Show 2026 (Pesca Trade Show)
DESCRIPTION:Lazer\, Hobby e Esportes
URL:https://www.lcaviagens.com.br/eventos/pesca-companhia-trade-show-2026-pesca-trade-show/
LOCATION:Distrito Anhembi\, São Paulo\, SP
CATEGORIES:Hobby e Esportes,Lazer
END:VEVENT
BEGIN:VEVENT
DTSTART;TZID=UTC:20260314T000000
DTEND;TZID=UTC:20260314T000000
DTSTAMP:20260423T022615
CREATED:20260417T153521Z
LAST-MODIFIED:20260421T235320Z
UID:996483-1773446400-1773446400@www.lcaviagens.com.br
SUMMARY:NPC Worldwide Musclecontest Brazil (Campinas)
DESCRIPTION:Lazer\, Hobby e Esportes
URL:https://www.lcaviagens.com.br/eventos/npc-worldwide-musclecontest-brazil-campinas/
LOCATION:Expo Boulevard Iguatemi\, Campinas\, SP
CATEGORIES:Hobby e Esportes,Lazer
END:VEVENT
BEGIN:VEVENT
DTSTART;TZID=UTC:20260314T000000
DTEND;TZID=UTC:20260314T000000
DTSTAMP:20260423T022615
CREATED:20260417T153536Z
LAST-MODIFIED:20260421T235334Z
UID:996486-1773446400-1773446400@www.lcaviagens.com.br
SUMMARY:Rocky Mountain Games 2026 (Juquitiba)
DESCRIPTION:Lazer\, Hobby e Esportes
URL:https://www.lcaviagens.com.br/eventos/rocky-mountain-games-2026-juquitiba/
LOCATION:Juquitiba\, Juquitiba\, SP
CATEGORIES:Hobby e Esportes,Lazer
END:VEVENT
BEGIN:VEVENT
DTSTART;TZID=UTC:20260315T000000
DTEND;TZID=UTC:20260315T000000
DTSTAMP:20260423T022615
CREATED:20260417T153550Z
LAST-MODIFIED:20260421T235348Z
UID:996492-1773532800-1773532800@www.lcaviagens.com.br
SUMMARY:Live! Run XP (Santos)
DESCRIPTION:Lazer\, Hobby e Esportes
URL:https://www.lcaviagens.com.br/eventos/live-run-xp-santos/
LOCATION:Santos\, Santos\, SP
CATEGORIES:Hobby e Esportes,Lazer
END:VEVENT
BEGIN:VEVENT
DTSTART;TZID=UTC:20260315T000000
DTEND;TZID=UTC:20260315T000000
DTSTAMP:20260423T022615
CREATED:20260417T153551Z
LAST-MODIFIED:20260421T235349Z
UID:996493-1773532800-1773532800@www.lcaviagens.com.br
SUMMARY:Live! Run XP (Manaus)
DESCRIPTION:Lazer\, Hobby e Esportes
URL:https://www.lcaviagens.com.br/eventos/live-run-xp-manaus/
LOCATION:Manaus\, Manaus\, AM
CATEGORIES:Hobby e Esportes,Lazer
END:VEVENT
BEGIN:VEVENT
DTSTART;TZID=UTC:20260315T000000
DTEND;TZID=UTC:20260315T000000
DTSTAMP:20260423T022615
CREATED:20260417T153551Z
LAST-MODIFIED:20260421T235349Z
UID:996495-1773532800-1773532800@www.lcaviagens.com.br
SUMMARY:Live! Run XP (Fortaleza) (Março)
DESCRIPTION:Lazer\, Hobby e Esportes
URL:https://www.lcaviagens.com.br/eventos/live-run-xp-fortaleza-marco/
LOCATION:Fortaleza\, Fortaleza\, CE
CATEGORIES:Hobby e Esportes,Lazer
END:VEVENT
BEGIN:VEVENT
DTSTART;TZID=UTC:20260319T000000
DTEND;TZID=UTC:20260322T000000
DTSTAMP:20260423T022615
CREATED:20260417T153835Z
LAST-MODIFIED:20260421T235634Z
UID:996547-1773878400-1774137600@www.lcaviagens.com.br
SUMMARY:ENAF - Encontro Nacional de Atividade Física - Educação Física\, Fisioterapia e Nutrição (Belo Horizonte/Março)
DESCRIPTION:Lazer\, Hobby e Esportes
URL:https://www.lcaviagens.com.br/eventos/enaf-encontro-nacional-de-atividade-fisica-educacao-fisica-fisioterapia-e-nutricao-belo-horizonte-marco/
LOCATION:Centerminas\, Belo Horizonte\, MG
CATEGORIES:Hobby e Esportes,Lazer
END:VEVENT
BEGIN:VEVENT
DTSTART;TZID=UTC:20260319T000000
DTEND;TZID=UTC:20260322T000000
DTSTAMP:20260423T022615
CREATED:20260417T153835Z
LAST-MODIFIED:20260421T235634Z
UID:996548-1773878400-1774137600@www.lcaviagens.com.br
SUMMARY:EXPO ENAF - Feira de Sport\, Fitness e Saúde (Belo Horizonte/Março)
DESCRIPTION:Lazer\, Hobby e Esportes
URL:https://www.lcaviagens.com.br/eventos/expo-enaf-feira-de-sport-fitness-e-saude-belo-horizonte-marco/
LOCATION:Centerminas (Center Minas)\, Belo Horizonte\, MG
CATEGORIES:Hobby e Esportes,Lazer
END:VEVENT
BEGIN:VEVENT
DTSTART;TZID=UTC:20260321T000000
DTEND;TZID=UTC:20260321T000000
DTSTAMP:20260423T022615
CREATED:20260417T154005Z
LAST-MODIFIED:20260421T235804Z
UID:996577-1774051200-1774051200@www.lcaviagens.com.br
SUMMARY:NPC Worldwide Musclecontest Fitworld (Uberaba)
DESCRIPTION:Lazer\, Hobby e Esportes
URL:https://www.lcaviagens.com.br/eventos/npc-worldwide-musclecontest-fitworld-uberaba/
LOCATION:Sesi Minas\, Uberaba\, MG
CATEGORIES:Hobby e Esportes,Lazer
END:VEVENT
BEGIN:VEVENT
DTSTART;TZID=UTC:20260321T000000
DTEND;TZID=UTC:20260321T000000
DTSTAMP:20260423T022615
CREATED:20260417T154005Z
LAST-MODIFIED:20260421T235804Z
UID:996576-1774051200-1774051200@www.lcaviagens.com.br
SUMMARY:NPC Worldwide Musclecontest Brazil (São José do Rio Preto)
DESCRIPTION:Lazer\, Hobby e Esportes
URL:https://www.lcaviagens.com.br/eventos/npc-worldwide-musclecontest-brazil-sao-jose-do-rio-preto/
LOCATION:Villa Império\, São José do Rio Preto\, SP
CATEGORIES:Hobby e Esportes,Lazer
END:VEVENT
BEGIN:VEVENT
DTSTART;TZID=UTC:20260321T000000
DTEND;TZID=UTC:20260322T000000
DTSTAMP:20260423T022615
CREATED:20260417T154206Z
LAST-MODIFIED:20260422T000005Z
UID:996620-1774051200-1774137600@www.lcaviagens.com.br
SUMMARY:Brasil Expofit 2026 (Brasil Expo Fit)
DESCRIPTION:Lazer\, Hobby e Esportes
URL:https://www.lcaviagens.com.br/eventos/brasil-expofit-2026-brasil-expo-fit/
LOCATION:Centro de Eventos Positivo\, Curitiba\, PR
CATEGORIES:Hobby e Esportes,Lazer
END:VEVENT
BEGIN:VEVENT
DTSTART;TZID=UTC:20260322T000000
DTEND;TZID=UTC:20260322T000000
DTSTAMP:20260423T022615
CREATED:20260417T154221Z
LAST-MODIFIED:20260422T000019Z
UID:996622-1774137600-1774137600@www.lcaviagens.com.br
SUMMARY:Live! Run XP (Armação dos Búzios)
DESCRIPTION:Lazer\, Hobby e Esportes
URL:https://www.lcaviagens.com.br/eventos/live-run-xp-armacao-dos-buzios/
LOCATION:Armação dos Búzios\, Armação dos Búzios\, RJ
CATEGORIES:Hobby e Esportes,Lazer
END:VEVENT
BEGIN:VEVENT
DTSTART;TZID=UTC:20260322T000000
DTEND;TZID=UTC:20260322T000000
DTSTAMP:20260423T022615
CREATED:20260417T154221Z
LAST-MODIFIED:20260422T000019Z
UID:996623-1774137600-1774137600@www.lcaviagens.com.br
SUMMARY:Live! Run XP (Macapá)
DESCRIPTION:Lazer\, Hobby e Esportes
URL:https://www.lcaviagens.com.br/eventos/live-run-xp-macapa/
LOCATION:Macapá\, Macapá\, AP
CATEGORIES:Hobby e Esportes,Lazer
END:VEVENT
BEGIN:VEVENT
DTSTART;TZID=UTC:20260322T000000
DTEND;TZID=UTC:20260322T000000
DTSTAMP:20260423T022615
CREATED:20260417T154221Z
LAST-MODIFIED:20260422T000019Z
UID:996624-1774137600-1774137600@www.lcaviagens.com.br
SUMMARY:NPC Worldwide BH Challenge
DESCRIPTION:Lazer\, Hobby e Esportes
URL:https://www.lcaviagens.com.br/eventos/npc-worldwide-bh-challenge/
LOCATION:Centerminas (Center Minas)\, Belo Horizonte\, MG
CATEGORIES:Hobby e Esportes,Lazer
END:VEVENT
BEGIN:VEVENT
DTSTART;TZID=UTC:20260327T000000
DTEND;TZID=UTC:20260329T000000
DTSTAMP:20260423T022615
CREATED:20260417T154536Z
LAST-MODIFIED:20260422T000334Z
UID:996687-1774569600-1774742400@www.lcaviagens.com.br
SUMMARY:Dr. Move Experience (Março) x
DESCRIPTION:Lazer\, Hobby e Esportes
URL:https://www.lcaviagens.com.br/eventos/dr-move-experience-marco-x/
LOCATION:Royal Palm Plaza Resort\, Campinas\, SP
CATEGORIES:Hobby e Esportes,Lazer
END:VEVENT
BEGIN:VEVENT
DTSTART;TZID=UTC:20260328T000000
DTEND;TZID=UTC:20260328T000000
DTSTAMP:20260423T022615
CREATED:20260417T154606Z
LAST-MODIFIED:20260422T000404Z
UID:996698-1774656000-1774656000@www.lcaviagens.com.br
SUMMARY:NPC Worldwide Musclecontest Brazil (Barueri)
DESCRIPTION:Lazer\, Hobby e Esportes
URL:https://www.lcaviagens.com.br/eventos/npc-worldwide-musclecontest-brazil-barueri/
LOCATION:Espaço Taal\, Barueri\, SP
CATEGORIES:Hobby e Esportes,Lazer
END:VEVENT
BEGIN:VEVENT
DTSTART;TZID=UTC:20260328T000000
DTEND;TZID=UTC:20260329T000000
DTSTAMP:20260423T022615
CREATED:20260417T154621Z
LAST-MODIFIED:20260422T000419Z
UID:996702-1774656000-1774742400@www.lcaviagens.com.br
SUMMARY:Desafio das Águas - Ultramaratona 12H x
DESCRIPTION:Lazer\, Hobby e Esportes
URL:https://www.lcaviagens.com.br/eventos/desafio-das-aguas-ultramaratona-12h-x/
LOCATION:Pinhais\, Pinhais\, PR
CATEGORIES:Hobby e Esportes,Lazer
END:VEVENT
BEGIN:VEVENT
DTSTART;TZID=UTC:20260329T000000
DTEND;TZID=UTC:20260329T000000
DTSTAMP:20260423T022615
CREATED:20260417T154651Z
LAST-MODIFIED:20260422T000449Z
UID:996714-1774742400-1774742400@www.lcaviagens.com.br
SUMMARY:NPC Worldwide Musclecontest Brazil (Londrina)
DESCRIPTION:Lazer\, Hobby e Esportes
URL:https://www.lcaviagens.com.br/eventos/npc-worldwide-musclecontest-brazil-londrina/
LOCATION:Teatro Marista\, Londrina\, PR
CATEGORIES:Hobby e Esportes,Lazer
END:VEVENT
BEGIN:VEVENT
DTSTART;TZID=UTC:20260329T000000
DTEND;TZID=UTC:20260329T000000
DTSTAMP:20260423T022615
CREATED:20260417T154651Z
LAST-MODIFIED:20260422T000449Z
UID:996711-1774742400-1774742400@www.lcaviagens.com.br
SUMMARY:Live! Run XP (Florianópolis)
DESCRIPTION:Lazer\, Hobby e Esportes
URL:https://www.lcaviagens.com.br/eventos/live-run-xp-florianopolis/
LOCATION:Florianópolis\, Florianópolis\, SC
CATEGORIES:Hobby e Esportes,Lazer
END:VEVENT
BEGIN:VEVENT
DTSTART;TZID=UTC:20260329T000000
DTEND;TZID=UTC:20260329T000000
DTSTAMP:20260423T022615
CREATED:20260417T154651Z
LAST-MODIFIED:20260422T000449Z
UID:996712-1774742400-1774742400@www.lcaviagens.com.br
SUMMARY:Live! Run XP (Boa Vista)
DESCRIPTION:Lazer\, Hobby e Esportes
URL:https://www.lcaviagens.com.br/eventos/live-run-xp-boa-vista/
LOCATION:Boa Vista\, Boa Vista\, RR
CATEGORIES:Hobby e Esportes,Lazer
END:VEVENT
END:VCALENDAR