BEGIN:VCALENDAR
VERSION:2.0
PRODID:-//LCA  - ECPv6.15.20//NONSGML v1.0//EN
CALSCALE:GREGORIAN
METHOD:PUBLISH
X-ORIGINAL-URL:https://www.lcaviagens.com.br
X-WR-CALDESC:Eventos para LCA 
REFRESH-INTERVAL;VALUE=DURATION:PT1H
X-Robots-Tag:noindex
X-PUBLISHED-TTL:PT1H
BEGIN:VTIMEZONE
TZID:UTC
BEGIN:STANDARD
TZOFFSETFROM:+0000
TZOFFSETTO:+0000
TZNAME:UTC
DTSTART:20250101T000000
END:STANDARD
END:VTIMEZONE
BEGIN:VEVENT
DTSTART;TZID=UTC:20260526T000000
DTEND;TZID=UTC:20260531T000000
DTSTAMP:20260423T023140
CREATED:20260417T161322Z
LAST-MODIFIED:20260422T003118Z
UID:997237-1779753600-1780185600@www.lcaviagens.com.br
SUMMARY:Rio2C - Rio Creative Conference
DESCRIPTION:Novas Tecnologias\, Invenções e Inovações
URL:https://www.lcaviagens.com.br/eventos/rio2c-rio-creative-conference/
LOCATION:Cidade das Artes\, Rio de Janeiro\, RJ
CATEGORIES:Invenções e Inovações,Novas Tecnologias
END:VEVENT
BEGIN:VEVENT
DTSTART;TZID=UTC:20260527T000000
DTEND;TZID=UTC:20260529T000000
DTSTAMP:20260423T023140
CREATED:20260417T161337Z
LAST-MODIFIED:20260422T003134Z
UID:997244-1779840000-1780012800@www.lcaviagens.com.br
SUMMARY:INCITEL - Congresso de Iniciação Científica da Inatel
DESCRIPTION:Novas Tecnologias\, Invenções e Inovações
URL:https://www.lcaviagens.com.br/eventos/incitel-congresso-de-iniciacao-cientifica-da-inatel/
LOCATION:Instituto Nacional de Telecomunicações (Inatel)\, Santa Rita do Sapucaí\, MG
CATEGORIES:Invenções e Inovações,Novas Tecnologias
END:VEVENT
BEGIN:VEVENT
DTSTART;TZID=UTC:20260608T000000
DTEND;TZID=UTC:20260611T000000
DTSTAMP:20260423T023140
CREATED:20260417T222210Z
LAST-MODIFIED:20260422T003849Z
UID:998613-1780876800-1781136000@www.lcaviagens.com.br
SUMMARY:Web Summit Rio 2026
DESCRIPTION:Novas Tecnologias\, Invenções e Inovações
URL:https://www.lcaviagens.com.br/eventos/web-summit-rio-2026/
LOCATION:Riocentro\, Rio de Janeiro\, RJ
CATEGORIES:Invenções e Inovações,Novas Tecnologias
END:VEVENT
BEGIN:VEVENT
DTSTART;TZID=UTC:20260616T000000
DTEND;TZID=UTC:20260617T000000
DTSTAMP:20260423T023140
CREATED:20260417T222330Z
LAST-MODIFIED:20260422T004149Z
UID:998677-1781568000-1781654400@www.lcaviagens.com.br
SUMMARY:Smart City Business Brazil Congress
DESCRIPTION:Novas Tecnologias\, Invenções e Inovações
URL:https://www.lcaviagens.com.br/eventos/smart-city-business-brazil-congress/
LOCATION:Expo Center Norte\, São Paulo\, SP
CATEGORIES:Invenções e Inovações,Novas Tecnologias
END:VEVENT
BEGIN:VEVENT
DTSTART;TZID=UTC:20260616T000000
DTEND;TZID=UTC:20260618T000000
DTSTAMP:20260423T023140
CREATED:20260417T222318Z
LAST-MODIFIED:20260422T004119Z
UID:998667-1781568000-1781740800@www.lcaviagens.com.br
SUMMARY:SpaceBR Show 2026
DESCRIPTION:Novas Tecnologias\, Invenções e Inovações
URL:https://www.lcaviagens.com.br/eventos/spacebr-show-2026/
LOCATION:Expo Center Norte\, São Paulo\, SP
CATEGORIES:Invenções e Inovações,Novas Tecnologias
END:VEVENT
BEGIN:VEVENT
DTSTART;TZID=UTC:20260616T000000
DTEND;TZID=UTC:20260618T000000
DTSTAMP:20260423T023140
CREATED:20260417T222318Z
LAST-MODIFIED:20260422T004119Z
UID:998665-1781568000-1781740800@www.lcaviagens.com.br
SUMMARY:MundoGEO Connect - Conferência & Feira
DESCRIPTION:Novas Tecnologias\, Invenções e Inovações
URL:https://www.lcaviagens.com.br/eventos/mundogeo-connect-conferencia-feira/
LOCATION:Expo Center Norte\, São Paulo\, SP
CATEGORIES:Invenções e Inovações,Novas Tecnologias
END:VEVENT
BEGIN:VEVENT
DTSTART;TZID=UTC:20260616T000000
DTEND;TZID=UTC:20260618T000000
DTSTAMP:20260423T023140
CREATED:20260417T222318Z
LAST-MODIFIED:20260422T004119Z
UID:998666-1781568000-1781740800@www.lcaviagens.com.br
SUMMARY:DroneShow LatinAmerican 2026 (Drone Show)
DESCRIPTION:Novas Tecnologias\, Invenções e Inovações
URL:https://www.lcaviagens.com.br/eventos/droneshow-latinamerican-2026-drone-show/
LOCATION:Expo Center Norte\, São Paulo\, SP
CATEGORIES:Invenções e Inovações,Novas Tecnologias
END:VEVENT
BEGIN:VEVENT
DTSTART;TZID=UTC:20260616T000000
DTEND;TZID=UTC:20260618T000000
DTSTAMP:20260423T023140
CREATED:20260417T222324Z
LAST-MODIFIED:20260422T004134Z
UID:998668-1781568000-1781740800@www.lcaviagens.com.br
SUMMARY:Fórum Expo eVTOL
DESCRIPTION:Novas Tecnologias\, Invenções e Inovações
URL:https://www.lcaviagens.com.br/eventos/forum-expo-evtol/
LOCATION:Expo Center Norte\, São Paulo\, SP
CATEGORIES:Invenções e Inovações,Novas Tecnologias
END:VEVENT
BEGIN:VEVENT
DTSTART;TZID=UTC:20260618T000000
DTEND;TZID=UTC:20260619T000000
DTSTAMP:20260423T023140
CREATED:20260417T222344Z
LAST-MODIFIED:20260422T004235Z
UID:998691-1781740800-1781827200@www.lcaviagens.com.br
SUMMARY:Brazil Lithium & Critical Minerals Summit 2026
DESCRIPTION:Novas Tecnologias\, Invenções e Inovações
URL:https://www.lcaviagens.com.br/eventos/brazil-lithium-critical-minerals-summit-2026/
LOCATION:Belo Horizonte\, Belo Horizonte\, GO
CATEGORIES:Invenções e Inovações,Novas Tecnologias
END:VEVENT
BEGIN:VEVENT
DTSTART;TZID=UTC:20260624T000000
DTEND;TZID=UTC:20260625T000000
DTSTAMP:20260423T023140
CREATED:20260417T222438Z
LAST-MODIFIED:20260422T004434Z
UID:998745-1782259200-1782345600@www.lcaviagens.com.br
SUMMARY:AI Summit Health (São Paulo)
DESCRIPTION:Novas Tecnologias\, Invenções e Inovações
URL:https://www.lcaviagens.com.br/eventos/ai-summit-health-sao-paulo/
LOCATION:Centro de Treinamento Inrad – HCFMUSP\, São Paulo\, SP
CATEGORIES:Invenções e Inovações,Novas Tecnologias
END:VEVENT
BEGIN:VEVENT
DTSTART;TZID=UTC:20260703T000000
DTEND;TZID=UTC:20260705T000000
DTSTAMP:20260423T023140
CREATED:20260417T222644Z
LAST-MODIFIED:20260422T004949Z
UID:998887-1783036800-1783209600@www.lcaviagens.com.br
SUMMARY:Pantanal Tech MS
DESCRIPTION:Novas Tecnologias\, Invenções e Inovações
URL:https://www.lcaviagens.com.br/eventos/pantanal-tech-ms/
LOCATION:UEMS Aquidauana\, Aquidauana\, MS
CATEGORIES:Invenções e Inovações,Novas Tecnologias
END:VEVENT
BEGIN:VEVENT
DTSTART;TZID=UTC:20260722T000000
DTEND;TZID=UTC:20260723T000000
DTSTAMP:20260423T023140
CREATED:20260417T222826Z
LAST-MODIFIED:20260422T005404Z
UID:998979-1784678400-1784764800@www.lcaviagens.com.br
SUMMARY:AI Summit Brasil 2026 (São Paulo)
DESCRIPTION:Novas Tecnologias\, Invenções e Inovações
URL:https://www.lcaviagens.com.br/eventos/ai-summit-brasil-2026-sao-paulo/
LOCATION:Instituto de Pesquisas Tecnológicas (IPT)\, São Paulo\, SP
CATEGORIES:Invenções e Inovações,Novas Tecnologias
END:VEVENT
BEGIN:VEVENT
DTSTART;TZID=UTC:20260722T000000
DTEND;TZID=UTC:20260724T000000
DTSTAMP:20260423T023140
CREATED:20260417T222823Z
LAST-MODIFIED:20260422T005349Z
UID:998970-1784678400-1784851200@www.lcaviagens.com.br
SUMMARY:TDC FLORIANÓPOLIS - The Developers Conference
DESCRIPTION:Novas Tecnologias\, Invenções e Inovações
URL:https://www.lcaviagens.com.br/eventos/tdc-florianopolis-the-developers-conference/
LOCATION:Centrosul – Centro de Convenções de Florianópolis\, Ribeirão Preto\, SP
CATEGORIES:Invenções e Inovações,Novas Tecnologias
END:VEVENT
BEGIN:VEVENT
DTSTART;TZID=UTC:20260804T000000
DTEND;TZID=UTC:20260807T000000
DTSTAMP:20260423T023140
CREATED:20260417T223054Z
LAST-MODIFIED:20260422T010019Z
UID:999166-1785801600-1786060800@www.lcaviagens.com.br
SUMMARY:RIW - Rio Innovation Week
DESCRIPTION:Novas Tecnologias\, Invenções e Inovações
URL:https://www.lcaviagens.com.br/eventos/riw-rio-innovation-week/
LOCATION:Pier Mauá\, Rio de Janeiro\, RJ
CATEGORIES:Invenções e Inovações,Novas Tecnologias
END:VEVENT
BEGIN:VEVENT
DTSTART;TZID=UTC:20260805T000000
DTEND;TZID=UTC:20260806T000000
DTSTAMP:20260423T023140
CREATED:20260417T223110Z
LAST-MODIFIED:20260422T010104Z
UID:999185-1785888000-1785974400@www.lcaviagens.com.br
SUMMARY:TDC EXPERIENCE RIO - The Developers Conference
DESCRIPTION:Novas Tecnologias\, Invenções e Inovações
URL:https://www.lcaviagens.com.br/eventos/tdc-experience-rio-the-developers-conference/
LOCATION:Pier Mauá\, Rio de Janeiro\, RJ
CATEGORIES:Invenções e Inovações,Novas Tecnologias
END:VEVENT
BEGIN:VEVENT
DTSTART;TZID=UTC:20260812T000000
DTEND;TZID=UTC:20260813T000000
DTSTAMP:20260423T023140
CREATED:20260417T223154Z
LAST-MODIFIED:20260422T010304Z
UID:999265-1786492800-1786579200@www.lcaviagens.com.br
SUMMARY:+TV FORUM
DESCRIPTION:Novas Tecnologias\, Invenções e Inovações
URL:https://www.lcaviagens.com.br/eventos/tv-forum/
LOCATION:WTC – World Trade Center São Paulo\, São Paulo\, SP
CATEGORIES:Invenções e Inovações,Novas Tecnologias
END:VEVENT
BEGIN:VEVENT
DTSTART;TZID=UTC:20260826T000000
DTEND;TZID=UTC:20260827T000000
DTSTAMP:20260423T023140
CREATED:20260417T223312Z
LAST-MODIFIED:20260422T010633Z
UID:999403-1787702400-1787788800@www.lcaviagens.com.br
SUMMARY:TDC EXPERIENCE SÃO CARLOS - The Developers Conference
DESCRIPTION:Novas Tecnologias\, Invenções e Inovações
URL:https://www.lcaviagens.com.br/eventos/tdc-experience-sao-carlos-the-developers-conference/
LOCATION:São Carlos\, São Carlos\, SP
CATEGORIES:Invenções e Inovações,Novas Tecnologias
END:VEVENT
BEGIN:VEVENT
DTSTART;TZID=UTC:20260826T000000
DTEND;TZID=UTC:20260828T000000
DTSTAMP:20260423T023140
CREATED:20260417T223304Z
LAST-MODIFIED:20260422T010604Z
UID:999387-1787702400-1787875200@www.lcaviagens.com.br
SUMMARY:Startup Summit 2026
DESCRIPTION:Novas Tecnologias\, Invenções e Inovações
URL:https://www.lcaviagens.com.br/eventos/startup-summit-2026/
LOCATION:Centrosul – Centro de Convenções de Florianópolis\, Ribeirão Preto\, SP
CATEGORIES:Invenções e Inovações,Novas Tecnologias
END:VEVENT
BEGIN:VEVENT
DTSTART;TZID=UTC:20260902T000000
DTEND;TZID=UTC:20260903T000000
DTSTAMP:20260423T023140
CREATED:20260418T034442Z
LAST-MODIFIED:20260422T011049Z
UID:1001756-1788307200-1788393600@www.lcaviagens.com.br
SUMMARY:AI Summit Brasil 2026
DESCRIPTION:Novas Tecnologias\, Invenções e Inovações
URL:https://www.lcaviagens.com.br/eventos/ai-summit-brasil-2026/
LOCATION:Centro de Treinamento Inrad – HCFMUSP\, São Paulo\, SP
CATEGORIES:Invenções e Inovações,Novas Tecnologias
END:VEVENT
BEGIN:VEVENT
DTSTART;TZID=UTC:20260923T000000
DTEND;TZID=UTC:20260925T000000
DTSTAMP:20260423T023140
CREATED:20260418T034926Z
LAST-MODIFIED:20260422T011623Z
UID:1001848-1790121600-1790294400@www.lcaviagens.com.br
SUMMARY:TDC SÃO PAULO - The Developers Conference
DESCRIPTION:Novas Tecnologias\, Invenções e Inovações
URL:https://www.lcaviagens.com.br/eventos/tdc-sao-paulo-the-developers-conference/
LOCATION:Centro de Eventos Pro Magno\, São Paulo\, SP
CATEGORIES:Invenções e Inovações,Novas Tecnologias
END:VEVENT
BEGIN:VEVENT
DTSTART;TZID=UTC:20260928T000000
DTEND;TZID=UTC:20260930T000000
DTSTAMP:20260423T023140
CREATED:20260418T035041Z
LAST-MODIFIED:20260422T011739Z
UID:1001876-1790553600-1790726400@www.lcaviagens.com.br
SUMMARY:PMU - Parque da Mobilidade Urbana
DESCRIPTION:Novas Tecnologias\, Invenções e Inovações
URL:https://www.lcaviagens.com.br/eventos/pmu-parque-da-mobilidade-urbana/
LOCATION:Expo Center Norte\, São Paulo\, SP
CATEGORIES:Invenções e Inovações,Novas Tecnologias
END:VEVENT
BEGIN:VEVENT
DTSTART;TZID=UTC:20260928T000000
DTEND;TZID=UTC:20260930T000000
DTSTAMP:20260423T023140
CREATED:20260418T035041Z
LAST-MODIFIED:20260422T011739Z
UID:1001877-1790553600-1790726400@www.lcaviagens.com.br
SUMMARY:CSC GOVTECH - Tecnologia para Transformação Digital
DESCRIPTION:Novas Tecnologias\, Invenções e Inovações
URL:https://www.lcaviagens.com.br/eventos/csc-govtech-tecnologia-para-transformacao-digital/
LOCATION:Expo Center Norte\, São Paulo\, SP
CATEGORIES:Invenções e Inovações,Novas Tecnologias
END:VEVENT
BEGIN:VEVENT
DTSTART;TZID=UTC:20260928T000000
DTEND;TZID=UTC:20260930T000000
DTSTAMP:20260423T023140
CREATED:20260418T035056Z
LAST-MODIFIED:20260422T011753Z
UID:1001878-1790553600-1790726400@www.lcaviagens.com.br
SUMMARY:Cidade CSC
DESCRIPTION:Novas Tecnologias\, Invenções e Inovações
URL:https://www.lcaviagens.com.br/eventos/cidade-csc/
LOCATION:Expo Center Norte\, São Paulo\, SP
CATEGORIES:Invenções e Inovações,Novas Tecnologias
END:VEVENT
BEGIN:VEVENT
DTSTART;TZID=UTC:20260928T000000
DTEND;TZID=UTC:20260930T000000
DTSTAMP:20260423T023140
CREATED:20260418T035057Z
LAST-MODIFIED:20260422T011753Z
UID:1001879-1790553600-1790726400@www.lcaviagens.com.br
SUMMARY:CSCM 2026 - Connected Smart Cities & Mobility (Connected Smart Cities)
DESCRIPTION:Novas Tecnologias\, Invenções e Inovações
URL:https://www.lcaviagens.com.br/eventos/cscm-2026-connected-smart-cities-mobility-connected-smart-cities/
LOCATION:Expo Center Norte\, São Paulo\, SP
CATEGORIES:Invenções e Inovações,Novas Tecnologias
END:VEVENT
BEGIN:VEVENT
DTSTART;TZID=UTC:20260930T000000
DTEND;TZID=UTC:20261001T000000
DTSTAMP:20260423T023140
CREATED:20260418T035112Z
LAST-MODIFIED:20260422T011808Z
UID:1001884-1790726400-1790812800@www.lcaviagens.com.br
SUMMARY:Congresso LatinoAmericano de Satélites
DESCRIPTION:Novas Tecnologias\, Invenções e Inovações
URL:https://www.lcaviagens.com.br/eventos/congresso-latinoamericano-de-satelites/
LOCATION:Rio de Janeiro\, Rio de Janeiro\, RJ
CATEGORIES:Invenções e Inovações,Novas Tecnologias
END:VEVENT
BEGIN:VEVENT
DTSTART;TZID=UTC:20261007T000000
DTEND;TZID=UTC:20261008T000000
DTSTAMP:20260423T023140
CREATED:20260418T035357Z
LAST-MODIFIED:20260422T012053Z
UID:1001938-1791331200-1791417600@www.lcaviagens.com.br
SUMMARY:Vision Tech Summit - Indústria do Amanhã
DESCRIPTION:Novas Tecnologias\, Invenções e Inovações
URL:https://www.lcaviagens.com.br/eventos/vision-tech-summit-industria-do-amanha/
LOCATION:Ribeirão Preto\, Ribeirão Preto\, SP
CATEGORIES:Invenções e Inovações,Novas Tecnologias
END:VEVENT
BEGIN:VEVENT
DTSTART;TZID=UTC:20261111T000000
DTEND;TZID=UTC:20261112T000000
DTSTAMP:20260423T023140
CREATED:20260418T040112Z
LAST-MODIFIED:20260422T012754Z
UID:1002082-1794355200-1794441600@www.lcaviagens.com.br
SUMMARY:TDC EXPERIENCE RECIFE - The Developers Conference
DESCRIPTION:Novas Tecnologias\, Invenções e Inovações
URL:https://www.lcaviagens.com.br/eventos/tdc-experience-recife-the-developers-conference/
LOCATION:Moinho Recife\, Recife\, PE
CATEGORIES:Invenções e Inovações,Novas Tecnologias
END:VEVENT
BEGIN:VEVENT
DTSTART;TZID=UTC:20261122T000000
DTEND;TZID=UTC:20261126T000000
DTSTAMP:20260423T023140
CREATED:20260418T040227Z
LAST-MODIFIED:20260422T012928Z
UID:1002103-1795305600-1795651200@www.lcaviagens.com.br
SUMMARY:CBECIMAT - Congresso Brasileiro de Engenharia e Ciência dos Materiais
DESCRIPTION:Novas Tecnologias\, Invenções e Inovações
URL:https://www.lcaviagens.com.br/eventos/cbecimat-congresso-brasileiro-de-engenharia-e-ciencia-dos-materiais/
LOCATION:Costão do Santinho Resort\, Florianópolis\, SC
CATEGORIES:Invenções e Inovações,Novas Tecnologias
END:VEVENT
END:VCALENDAR