BEGIN:VCALENDAR
VERSION:2.0
PRODID:-//LCA  - ECPv6.15.20//NONSGML v1.0//EN
CALSCALE:GREGORIAN
METHOD:PUBLISH
X-ORIGINAL-URL:https://www.lcaviagens.com.br
X-WR-CALDESC:Eventos para LCA 
REFRESH-INTERVAL;VALUE=DURATION:PT1H
X-Robots-Tag:noindex
X-PUBLISHED-TTL:PT1H
BEGIN:VTIMEZONE
TZID:UTC
BEGIN:STANDARD
TZOFFSETFROM:+0000
TZOFFSETTO:+0000
TZNAME:UTC
DTSTART:20250101T000000
END:STANDARD
END:VTIMEZONE
BEGIN:VEVENT
DTSTART;TZID=UTC:20260306T000000
DTEND;TZID=UTC:20260308T000000
DTSTAMP:20260423T121118
CREATED:20260417T153007Z
LAST-MODIFIED:20260421T234749Z
UID:996379-1772755200-1772928000@www.lcaviagens.com.br
SUMMARY:IRONCup - Inatel Robotics National Cup
DESCRIPTION:Novas Tecnologias\, Invenções e Inovações
URL:https://www.lcaviagens.com.br/eventos/ironcup-inatel-robotics-national-cup/
LOCATION:Instituto Nacional de Telecomunicações (Inatel)\, Santa Rita do Sapucaí\, MG
CATEGORIES:Invenções e Inovações,Novas Tecnologias
END:VEVENT
END:VCALENDAR