BEGIN:VCALENDAR
VERSION:2.0
PRODID:-//LCA  - ECPv6.15.20//NONSGML v1.0//EN
CALSCALE:GREGORIAN
METHOD:PUBLISH
X-ORIGINAL-URL:https://www.lcaviagens.com.br
X-WR-CALDESC:Eventos para LCA 
REFRESH-INTERVAL;VALUE=DURATION:PT1H
X-Robots-Tag:noindex
X-PUBLISHED-TTL:PT1H
BEGIN:VTIMEZONE
TZID:UTC
BEGIN:STANDARD
TZOFFSETFROM:+0000
TZOFFSETTO:+0000
TZNAME:UTC
DTSTART:20250101T000000
END:STANDARD
END:VTIMEZONE
BEGIN:VEVENT
DTSTART;TZID=UTC:20260430T000000
DTEND;TZID=UTC:20260503T000000
DTSTAMP:20260423T104501
CREATED:20260418T024519Z
LAST-MODIFIED:20260422T001734Z
UID:1000710-1777507200-1777766400@www.lcaviagens.com.br
SUMMARY:Gamescom Latam 2026
DESCRIPTION:Novas Tecnologias\, Invenções e Inovações
URL:https://www.lcaviagens.com.br/eventos/gamescom-latam-2026/
LOCATION:Distrito Anhembi\, São Paulo\, SP
CATEGORIES:Invenções e Inovações,Novas Tecnologias
END:VEVENT
BEGIN:VEVENT
DTSTART;TZID=UTC:20260505T000000
DTEND;TZID=UTC:20260505T000000
DTSTAMP:20260423T104501
CREATED:20260417T160321Z
LAST-MODIFIED:20260422T002104Z
UID:997036-1777939200-1777939200@www.lcaviagens.com.br
SUMMARY:AI Innovation Show
DESCRIPTION:Novas Tecnologias\, Invenções e Inovações
URL:https://www.lcaviagens.com.br/eventos/ai-innovation-show/
LOCATION:Centro de Convenções Frei Caneca\, São Paulo\, SP
CATEGORIES:Invenções e Inovações,Novas Tecnologias
END:VEVENT
BEGIN:VEVENT
DTSTART;TZID=UTC:20260505T000000
DTEND;TZID=UTC:20260505T000000
DTSTAMP:20260423T104501
CREATED:20260417T160321Z
LAST-MODIFIED:20260422T002105Z
UID:997037-1777939200-1777939200@www.lcaviagens.com.br
SUMMARY:Low-Code & No-Code Fórum 2026
DESCRIPTION:Novas Tecnologias\, Invenções e Inovações
URL:https://www.lcaviagens.com.br/eventos/low-code-no-code-forum-2026/
LOCATION:Centro de Convenções Frei Caneca\, São Paulo\, SP
CATEGORIES:Invenções e Inovações,Novas Tecnologias
END:VEVENT
BEGIN:VEVENT
DTSTART;TZID=UTC:20260505T000000
DTEND;TZID=UTC:20260505T000000
DTSTAMP:20260423T104501
CREATED:20260417T160321Z
LAST-MODIFIED:20260422T002105Z
UID:997038-1777939200-1777939200@www.lcaviagens.com.br
SUMMARY:Fórum Mulheres de TI
DESCRIPTION:Novas Tecnologias\, Invenções e Inovações
URL:https://www.lcaviagens.com.br/eventos/forum-mulheres-de-ti/
LOCATION:Centro de Convenções Frei Caneca\, São Paulo\, SP
CATEGORIES:Invenções e Inovações,Novas Tecnologias
END:VEVENT
BEGIN:VEVENT
DTSTART;TZID=UTC:20260505T000000
DTEND;TZID=UTC:20260506T000000
DTSTAMP:20260423T104501
CREATED:20260417T160336Z
LAST-MODIFIED:20260422T002118Z
UID:997041-1777939200-1778025600@www.lcaviagens.com.br
SUMMARY:RPA & AI TECH (Antigo: RPA & AI CONGRESS)
DESCRIPTION:Novas Tecnologias\, Invenções e Inovações
URL:https://www.lcaviagens.com.br/eventos/rpa-ai-tech-antigo-rpa-ai-congress/
LOCATION:Centro de Convenções Frei Caneca\, São Paulo\, SP
CATEGORIES:Invenções e Inovações,Novas Tecnologias
END:VEVENT
BEGIN:VEVENT
DTSTART;TZID=UTC:20260505T000000
DTEND;TZID=UTC:20260506T000000
DTSTAMP:20260423T104501
CREATED:20260417T160336Z
LAST-MODIFIED:20260422T002119Z
UID:997044-1777939200-1778025600@www.lcaviagens.com.br
SUMMARY:Arena Show Case
DESCRIPTION:Novas Tecnologias\, Invenções e Inovações
URL:https://www.lcaviagens.com.br/eventos/arena-show-case/
LOCATION:Centro de Convenções Frei Caneca\, São Paulo\, SP
CATEGORIES:Invenções e Inovações,Novas Tecnologias
END:VEVENT
BEGIN:VEVENT
DTSTART;TZID=UTC:20260506T000000
DTEND;TZID=UTC:20260506T000000
DTSTAMP:20260423T104501
CREATED:20260417T160406Z
LAST-MODIFIED:20260422T002149Z
UID:997052-1778025600-1778025600@www.lcaviagens.com.br
SUMMARY:AI + IM Fórum
DESCRIPTION:Novas Tecnologias\, Invenções e Inovações
URL:https://www.lcaviagens.com.br/eventos/ai-im-forum/
LOCATION:Centro de Convenções Frei Caneca\, São Paulo\, SP
CATEGORIES:Invenções e Inovações,Novas Tecnologias
END:VEVENT
BEGIN:VEVENT
DTSTART;TZID=UTC:20260506T000000
DTEND;TZID=UTC:20260506T000000
DTSTAMP:20260423T104501
CREATED:20260417T160406Z
LAST-MODIFIED:20260422T002149Z
UID:997053-1778025600-1778025600@www.lcaviagens.com.br
SUMMARY:Cyber Security Conference 2026
DESCRIPTION:Novas Tecnologias\, Invenções e Inovações
URL:https://www.lcaviagens.com.br/eventos/cyber-security-conference-2026/
LOCATION:Centro de Convenções Frei Caneca\, São Paulo\, SP
CATEGORIES:Invenções e Inovações,Novas Tecnologias
END:VEVENT
BEGIN:VEVENT
DTSTART;TZID=UTC:20260520T000000
DTEND;TZID=UTC:20260521T000000
DTSTAMP:20260423T104501
CREATED:20260417T161024Z
LAST-MODIFIED:20260422T002805Z
UID:997178-1779235200-1779321600@www.lcaviagens.com.br
SUMMARY:AI Summit Brasil 2026 (Belo Horizonte)
DESCRIPTION:Novas Tecnologias\, Invenções e Inovações
URL:https://www.lcaviagens.com.br/eventos/ai-summit-brasil-2026-belo-horizonte/
LOCATION:Mater Dei\, Belo Horizonte\, MG
CATEGORIES:Invenções e Inovações,Novas Tecnologias
END:VEVENT
BEGIN:VEVENT
DTSTART;TZID=UTC:20260526T000000
DTEND;TZID=UTC:20260526T000000
DTSTAMP:20260423T104501
CREATED:20260417T161322Z
LAST-MODIFIED:20260422T003119Z
UID:997238-1779753600-1779753600@www.lcaviagens.com.br
SUMMARY:Feira de Oportunidades do Inatel
DESCRIPTION:Novas Tecnologias\, Invenções e Inovações
URL:https://www.lcaviagens.com.br/eventos/feira-de-oportunidades-do-inatel/
LOCATION:Instituto Nacional de Telecomunicações (Inatel)\, Santa Rita do Sapucaí\, MG
CATEGORIES:Invenções e Inovações,Novas Tecnologias
END:VEVENT
BEGIN:VEVENT
DTSTART;TZID=UTC:20260526T000000
DTEND;TZID=UTC:20260527T000000
DTSTAMP:20260423T104501
CREATED:20260417T161337Z
LAST-MODIFIED:20260422T003134Z
UID:997243-1779753600-1779840000@www.lcaviagens.com.br
SUMMARY:PROXXIMA 2026
DESCRIPTION:Novas Tecnologias\, Invenções e Inovações
URL:https://www.lcaviagens.com.br/eventos/proxxima-2026/
LOCATION:WTC – World Trade Center São Paulo\, São Paulo\, SP
CATEGORIES:Invenções e Inovações,Novas Tecnologias
END:VEVENT
BEGIN:VEVENT
DTSTART;TZID=UTC:20260526T000000
DTEND;TZID=UTC:20260531T000000
DTSTAMP:20260423T104501
CREATED:20260417T161322Z
LAST-MODIFIED:20260422T003118Z
UID:997237-1779753600-1780185600@www.lcaviagens.com.br
SUMMARY:Rio2C - Rio Creative Conference
DESCRIPTION:Novas Tecnologias\, Invenções e Inovações
URL:https://www.lcaviagens.com.br/eventos/rio2c-rio-creative-conference/
LOCATION:Cidade das Artes\, Rio de Janeiro\, RJ
CATEGORIES:Invenções e Inovações,Novas Tecnologias
END:VEVENT
BEGIN:VEVENT
DTSTART;TZID=UTC:20260527T000000
DTEND;TZID=UTC:20260529T000000
DTSTAMP:20260423T104501
CREATED:20260417T161337Z
LAST-MODIFIED:20260422T003134Z
UID:997244-1779840000-1780012800@www.lcaviagens.com.br
SUMMARY:INCITEL - Congresso de Iniciação Científica da Inatel
DESCRIPTION:Novas Tecnologias\, Invenções e Inovações
URL:https://www.lcaviagens.com.br/eventos/incitel-congresso-de-iniciacao-cientifica-da-inatel/
LOCATION:Instituto Nacional de Telecomunicações (Inatel)\, Santa Rita do Sapucaí\, MG
CATEGORIES:Invenções e Inovações,Novas Tecnologias
END:VEVENT
END:VCALENDAR