BEGIN:VCALENDAR
VERSION:2.0
PRODID:-//LCA  - ECPv6.15.20//NONSGML v1.0//EN
CALSCALE:GREGORIAN
METHOD:PUBLISH
X-WR-CALNAME:LCA 
X-ORIGINAL-URL:https://www.lcaviagens.com.br
X-WR-CALDESC:Eventos para LCA 
REFRESH-INTERVAL;VALUE=DURATION:PT1H
X-Robots-Tag:noindex
X-PUBLISHED-TTL:PT1H
BEGIN:VTIMEZONE
TZID:UTC
BEGIN:STANDARD
TZOFFSETFROM:+0000
TZOFFSETTO:+0000
TZNAME:UTC
DTSTART:20250101T000000
END:STANDARD
END:VTIMEZONE
BEGIN:VEVENT
DTSTART;TZID=UTC:20260520T000000
DTEND;TZID=UTC:20260524T000000
DTSTAMP:20260423T091654
CREATED:20260417T161009Z
LAST-MODIFIED:20260422T002749Z
UID:997171-1779235200-1779580800@www.lcaviagens.com.br
SUMMARY:4CIO Brasil Gov Florianópolis
DESCRIPTION:Informática\, Telecomunicações e TI
URL:https://www.lcaviagens.com.br/eventos/4cio-brasil-gov-florianopolis/
LOCATION:Florianópolis\, Florianópolis\, SC
CATEGORIES:Informática,Telecomunicações e TI
END:VEVENT
END:VCALENDAR