BEGIN:VCALENDAR
VERSION:2.0
PRODID:-//LCA  - ECPv6.15.20//NONSGML v1.0//EN
CALSCALE:GREGORIAN
METHOD:PUBLISH
X-ORIGINAL-URL:https://www.lcaviagens.com.br
X-WR-CALDESC:Eventos para LCA 
REFRESH-INTERVAL;VALUE=DURATION:PT1H
X-Robots-Tag:noindex
X-PUBLISHED-TTL:PT1H
BEGIN:VTIMEZONE
TZID:UTC
BEGIN:STANDARD
TZOFFSETFROM:+0000
TZOFFSETTO:+0000
TZNAME:UTC
DTSTART:20250101T000000
END:STANDARD
END:VTIMEZONE
BEGIN:VEVENT
DTSTART;TZID=UTC:20260514T000000
DTEND;TZID=UTC:20260515T000000
DTSTAMP:20260423T091903
CREATED:20260417T160736Z
LAST-MODIFIED:20260422T002520Z
UID:997125-1778716800-1778803200@www.lcaviagens.com.br
SUMMARY:TECHNOW 2026 (Tech Now by Sucesu)
DESCRIPTION:Informática\, Telecomunicações e TI
URL:https://www.lcaviagens.com.br/eventos/technow-2026-tech-now-by-sucesu/
LOCATION:Centro de Eventos PUCRS\, Porto Alegre\, RS
CATEGORIES:Informática,Telecomunicações e TI
END:VEVENT
END:VCALENDAR