BEGIN:VCALENDAR
VERSION:2.0
PRODID:-//LCA  - ECPv6.15.20//NONSGML v1.0//EN
CALSCALE:GREGORIAN
METHOD:PUBLISH
X-ORIGINAL-URL:https://www.lcaviagens.com.br
X-WR-CALDESC:Eventos para LCA 
REFRESH-INTERVAL;VALUE=DURATION:PT1H
X-Robots-Tag:noindex
X-PUBLISHED-TTL:PT1H
BEGIN:VTIMEZONE
TZID:UTC
BEGIN:STANDARD
TZOFFSETFROM:+0000
TZOFFSETTO:+0000
TZNAME:UTC
DTSTART:20250101T000000
END:STANDARD
END:VTIMEZONE
BEGIN:VEVENT
DTSTART;TZID=UTC:20260602T000000
DTEND;TZID=UTC:20260606T000000
DTSTAMP:20260423T120522
CREATED:20260417T222121Z
LAST-MODIFIED:20260422T003650Z
UID:998571-1780358400-1780704000@www.lcaviagens.com.br
SUMMARY:SBSC 2026 - Simpósio Brasileiro de Sistemas Colaborativos
DESCRIPTION:Informática\, Telecomunicações e TI
URL:https://www.lcaviagens.com.br/eventos/sbsc-2026-simposio-brasileiro-de-sistemas-colaborativos/
LOCATION:Porto Alegre\, Porto Alegre\, RS
CATEGORIES:Informática,Telecomunicações e TI
END:VEVENT
BEGIN:VEVENT
DTSTART;TZID=UTC:20260611T000000
DTEND;TZID=UTC:20260611T000000
DTSTAMP:20260423T120522
CREATED:20260417T222250Z
LAST-MODIFIED:20260422T004019Z
UID:998644-1781136000-1781136000@www.lcaviagens.com.br
SUMMARY:Teletime Tec 2026
DESCRIPTION:Informática\, Telecomunicações e TI
URL:https://www.lcaviagens.com.br/eventos/teletime-tec-2026/
LOCATION:WTC – World Trade Center São Paulo\, São Paulo\, SP
CATEGORIES:Informática,Telecomunicações e TI
END:VEVENT
BEGIN:VEVENT
DTSTART;TZID=UTC:20260616T000000
DTEND;TZID=UTC:20260616T000000
DTSTAMP:20260423T120522
CREATED:20260417T222330Z
LAST-MODIFIED:20260422T004149Z
UID:998674-1781568000-1781568000@www.lcaviagens.com.br
SUMMARY:4CIO Porto Alegre
DESCRIPTION:Informática\, Telecomunicações e TI
URL:https://www.lcaviagens.com.br/eventos/4cio-porto-alegre/
LOCATION:Hotel Deville Prime\, Porto Alegre\, RS
CATEGORIES:Informática,Telecomunicações e TI
END:VEVENT
BEGIN:VEVENT
DTSTART;TZID=UTC:20260616T000000
DTEND;TZID=UTC:20260617T000000
DTSTAMP:20260423T120522
CREATED:20260417T222333Z
LAST-MODIFIED:20260422T004205Z
UID:998680-1781568000-1781654400@www.lcaviagens.com.br
SUMMARY:Supply Chain Analytics Summit 2026
DESCRIPTION:Informática\, Telecomunicações e TI
URL:https://www.lcaviagens.com.br/eventos/supply-chain-analytics-summit-2026/
LOCATION:Hotel Intercontinental\, São Paulo\, SP
CATEGORIES:Informática,Telecomunicações e TI
END:VEVENT
BEGIN:VEVENT
DTSTART;TZID=UTC:20260617T000000
DTEND;TZID=UTC:20260618T000000
DTSTAMP:20260423T120522
CREATED:20260417T222344Z
LAST-MODIFIED:20260422T004235Z
UID:998689-1781654400-1781740800@www.lcaviagens.com.br
SUMMARY:Universo TOTVS 2026
DESCRIPTION:Informática\, Telecomunicações e TI
URL:https://www.lcaviagens.com.br/eventos/universo-totvs-2026/
LOCATION:Expo Center Norte\, São Paulo\, SP
CATEGORIES:Informática,Telecomunicações e TI
END:VEVENT
BEGIN:VEVENT
DTSTART;TZID=UTC:20260622T000000
DTEND;TZID=UTC:20260625T000000
DTSTAMP:20260423T120522
CREATED:20260417T222404Z
LAST-MODIFIED:20260422T004319Z
UID:998708-1782086400-1782345600@www.lcaviagens.com.br
SUMMARY:Latin America Eletronics International Trade Show
DESCRIPTION:Informática\, Telecomunicações e TI
URL:https://www.lcaviagens.com.br/eventos/latin-america-eletronics-international-trade-show/
LOCATION:Distrito Anhembi\, São Paulo\, SP
CATEGORIES:Informática,Telecomunicações e TI
END:VEVENT
BEGIN:VEVENT
DTSTART;TZID=UTC:20260624T000000
DTEND;TZID=UTC:20260624T000000
DTSTAMP:20260423T120522
CREATED:20260417T222429Z
LAST-MODIFIED:20260422T004419Z
UID:998737-1782259200-1782259200@www.lcaviagens.com.br
SUMMARY:Cybersecurity Summit Rio 2026
DESCRIPTION:Informática\, Telecomunicações e TI
URL:https://www.lcaviagens.com.br/eventos/cybersecurity-summit-rio-2026/
LOCATION:Rio de Janeiro\, Rio de Janeiro\, RJ
CATEGORIES:Informática,Telecomunicações e TI
END:VEVENT
BEGIN:VEVENT
DTSTART;TZID=UTC:20260626T000000
DTEND;TZID=UTC:20260628T000000
DTSTAMP:20260423T120522
CREATED:20260417T222457Z
LAST-MODIFIED:20260422T004505Z
UID:998760-1782432000-1782604800@www.lcaviagens.com.br
SUMMARY:4CSO Brasil
DESCRIPTION:Informática\, Telecomunicações e TI
URL:https://www.lcaviagens.com.br/eventos/4cso-brasil/
LOCATION:Itapecerica da Serra\, Itapecerica da Serra\, SP
CATEGORIES:Informática,Telecomunicações e TI
END:VEVENT
BEGIN:VEVENT
DTSTART;TZID=UTC:20260630T000000
DTEND;TZID=UTC:20260630T000000
DTSTAMP:20260423T120522
CREATED:20260417T222510Z
LAST-MODIFIED:20260422T004549Z
UID:998776-1782777600-1782777600@www.lcaviagens.com.br
SUMMARY:4CIO Florianópolis
DESCRIPTION:Informática\, Telecomunicações e TI
URL:https://www.lcaviagens.com.br/eventos/4cio-florianopolis/
LOCATION:Florianópolis\, Florianópolis\, SC
CATEGORIES:Informática,Telecomunicações e TI
END:VEVENT
END:VCALENDAR