BEGIN:VCALENDAR
VERSION:2.0
PRODID:-//LCA  - ECPv6.15.20//NONSGML v1.0//EN
CALSCALE:GREGORIAN
METHOD:PUBLISH
X-ORIGINAL-URL:https://www.lcaviagens.com.br
X-WR-CALDESC:Eventos para LCA 
REFRESH-INTERVAL;VALUE=DURATION:PT1H
X-Robots-Tag:noindex
X-PUBLISHED-TTL:PT1H
BEGIN:VTIMEZONE
TZID:UTC
BEGIN:STANDARD
TZOFFSETFROM:+0000
TZOFFSETTO:+0000
TZNAME:UTC
DTSTART:20250101T000000
END:STANDARD
END:VTIMEZONE
BEGIN:VEVENT
DTSTART;TZID=UTC:20260302T000000
DTEND;TZID=UTC:20260416T000000
DTSTAMP:20260423T052009
CREATED:20260417T152835Z
LAST-MODIFIED:20260421T234619Z
UID:996346-1772409600-1776297600@www.lcaviagens.com.br
SUMMARY:SAP House 2026
DESCRIPTION:Informática\, Telecomunicações e TI
URL:https://www.lcaviagens.com.br/eventos/sap-house-2026/
LOCATION:SAP House\, São Paulo\, SP
CATEGORIES:Informática,Telecomunicações e TI
END:VEVENT
BEGIN:VEVENT
DTSTART;TZID=UTC:20260309T000000
DTEND;TZID=UTC:20260309T000000
DTSTAMP:20260423T052009
CREATED:20260417T153151Z
LAST-MODIFIED:20260421T234934Z
UID:996411-1773014400-1773014400@www.lcaviagens.com.br
SUMMARY:Cybersecurity Forum (Cyber Security Forum)
DESCRIPTION:Informática\, Telecomunicações e TI
URL:https://www.lcaviagens.com.br/eventos/cybersecurity-forum-cyber-security-forum/
LOCATION:WTC – World Trade Center São Paulo\, São Paulo\, SP
CATEGORIES:Informática,Telecomunicações e TI
END:VEVENT
BEGIN:VEVENT
DTSTART;TZID=UTC:20260311T000000
DTEND;TZID=UTC:20260311T000000
DTSTAMP:20260423T052009
CREATED:20260417T153307Z
LAST-MODIFIED:20260421T235049Z
UID:996440-1773187200-1773187200@www.lcaviagens.com.br
SUMMARY:Conferência de Acessibilidade Digital - Todos na Web
DESCRIPTION:Informática\, Telecomunicações e TI
URL:https://www.lcaviagens.com.br/eventos/conferencia-de-acessibilidade-digital-todos-na-web/
LOCATION:Centro de Convenções Rebouças\, São Paulo\, SP
CATEGORIES:Informática,Telecomunicações e TI
END:VEVENT
BEGIN:VEVENT
DTSTART;TZID=UTC:20260311T000000
DTEND;TZID=UTC:20260311T000000
DTSTAMP:20260423T052009
CREATED:20260417T153321Z
LAST-MODIFIED:20260421T235104Z
UID:996443-1773187200-1773187200@www.lcaviagens.com.br
SUMMARY:All Tax Summit (SAP House 2026)
DESCRIPTION:Informática\, Telecomunicações e TI
URL:https://www.lcaviagens.com.br/eventos/all-tax-summit-sap-house-2026/
LOCATION:SAP House\, São Paulo\, SP
CATEGORIES:Informática,Telecomunicações e TI
END:VEVENT
BEGIN:VEVENT
DTSTART;TZID=UTC:20260317T000000
DTEND;TZID=UTC:20260318T000000
DTSTAMP:20260423T052009
CREATED:20260417T153651Z
LAST-MODIFIED:20260421T235450Z
UID:996515-1773705600-1773792000@www.lcaviagens.com.br
SUMMARY:ERP Summit 2026 (ERP Summit Brasil)
DESCRIPTION:Informática\, Telecomunicações e TI
URL:https://www.lcaviagens.com.br/eventos/erp-summit-2026-erp-summit-brasil/
LOCATION:Expo Center Norte\, São Paulo\, SP
CATEGORIES:Informática,Telecomunicações e TI
END:VEVENT
BEGIN:VEVENT
DTSTART;TZID=UTC:20260317T000000
DTEND;TZID=UTC:20260318T000000
DTSTAMP:20260423T052009
CREATED:20260417T153705Z
LAST-MODIFIED:20260421T235505Z
UID:996517-1773705600-1773792000@www.lcaviagens.com.br
SUMMARY:Capacity LATAM 2026
DESCRIPTION:Informática\, Telecomunicações e TI
URL:https://www.lcaviagens.com.br/eventos/capacity-latam-2026/
LOCATION:Hotel Grand Hyatt São Paulo\, São Paulo\, SP
CATEGORIES:Informática,Telecomunicações e TI
END:VEVENT
BEGIN:VEVENT
DTSTART;TZID=UTC:20260318T000000
DTEND;TZID=UTC:20260318T000000
DTSTAMP:20260423T052009
CREATED:20260417T153736Z
LAST-MODIFIED:20260421T235533Z
UID:996527-1773792000-1773792000@www.lcaviagens.com.br
SUMMARY:Kamay Code 2026
DESCRIPTION:Informática\, Telecomunicações e TI
URL:https://www.lcaviagens.com.br/eventos/kamay-code-2026/
LOCATION:Museu do Amanhã\, Rio de Janeiro\, RJ
CATEGORIES:Informática,Telecomunicações e TI
END:VEVENT
BEGIN:VEVENT
DTSTART;TZID=UTC:20260318T000000
DTEND;TZID=UTC:20260319T000000
DTSTAMP:20260423T052009
CREATED:20260417T153751Z
LAST-MODIFIED:20260421T235549Z
UID:996534-1773792000-1773878400@www.lcaviagens.com.br
SUMMARY:Congresso de Prevenção e Repressão à Fraude\, Segurança Cibernética e Bancária (Febraban Sec)
DESCRIPTION:Informática\, Telecomunicações e TI
URL:https://www.lcaviagens.com.br/eventos/congresso-de-prevencao-e-repressao-a-fraude-seguranca-cibernetica-e-bancaria-febraban-sec/
LOCATION:Transamérica Expo Center\, São Paulo\, SP
CATEGORIES:Informática,Telecomunicações e TI
END:VEVENT
BEGIN:VEVENT
DTSTART;TZID=UTC:20260318T000000
DTEND;TZID=UTC:20260320T000000
DTSTAMP:20260423T052009
CREATED:20260417T153705Z
LAST-MODIFIED:20260421T235505Z
UID:996518-1773792000-1773964800@www.lcaviagens.com.br
SUMMARY:SecOps Summit 2026 (SecOpsSummit)
DESCRIPTION:Informática\, Telecomunicações e TI
URL:https://www.lcaviagens.com.br/eventos/secops-summit-2026-secopssummit/
LOCATION:Centro de Eventos PUCRS\, Porto Alegre\, RS
CATEGORIES:Informática,Telecomunicações e TI
END:VEVENT
BEGIN:VEVENT
DTSTART;TZID=UTC:20260318T000000
DTEND;TZID=UTC:20260322T000000
DTSTAMP:20260423T052009
CREATED:20260417T153721Z
LAST-MODIFIED:20260421T235519Z
UID:996523-1773792000-1774137600@www.lcaviagens.com.br
SUMMARY:CIO Brasil (Florianópolis)
DESCRIPTION:Informática\, Telecomunicações e TI
URL:https://www.lcaviagens.com.br/eventos/cio-brasil-florianopolis/
LOCATION:Florianópolis\, Florianópolis\, SC
CATEGORIES:Informática,Telecomunicações e TI
END:VEVENT
BEGIN:VEVENT
DTSTART;TZID=UTC:20260320T000000
DTEND;TZID=UTC:20260322T000000
DTSTAMP:20260423T052009
CREATED:20260417T153921Z
LAST-MODIFIED:20260421T235719Z
UID:996561-1773964800-1774137600@www.lcaviagens.com.br
SUMMARY:CBM & EXPO - Convenção Brazil Mobile & Expo
DESCRIPTION:Informática\, Telecomunicações e TI
URL:https://www.lcaviagens.com.br/eventos/cbm-expo-convencao-brazil-mobile-expo/
LOCATION:Distrito Anhembi\, São Paulo\, SP
CATEGORIES:Informática,Telecomunicações e TI
END:VEVENT
BEGIN:VEVENT
DTSTART;TZID=UTC:20260324T000000
DTEND;TZID=UTC:20260324T000000
DTSTAMP:20260423T052009
CREATED:20260417T154305Z
LAST-MODIFIED:20260422T000103Z
UID:996636-1774310400-1774310400@www.lcaviagens.com.br
SUMMARY:Sales & Marketing Executive Summit
DESCRIPTION:Informática\, Telecomunicações e TI
URL:https://www.lcaviagens.com.br/eventos/sales-marketing-executive-summit/
LOCATION:WTC – World Trade Center São Paulo\, São Paulo\, SP
CATEGORIES:Informática,Telecomunicações e TI
END:VEVENT
BEGIN:VEVENT
DTSTART;TZID=UTC:20260324T000000
DTEND;TZID=UTC:20260325T000000
DTSTAMP:20260423T052009
CREATED:20260417T154321Z
LAST-MODIFIED:20260422T000119Z
UID:996641-1774310400-1774396800@www.lcaviagens.com.br
SUMMARY:IX Fórum Fortaleza 2026
DESCRIPTION:Informática\, Telecomunicações e TI
URL:https://www.lcaviagens.com.br/eventos/ix-forum-fortaleza-2026/
LOCATION:Fábrica de Negócios\, Fortaleza\, CE
CATEGORIES:Informática,Telecomunicações e TI
END:VEVENT
BEGIN:VEVENT
DTSTART;TZID=UTC:20260325T000000
DTEND;TZID=UTC:20260325T000000
DTSTAMP:20260423T052009
CREATED:20260417T154352Z
LAST-MODIFIED:20260422T000149Z
UID:996654-1774396800-1774396800@www.lcaviagens.com.br
SUMMARY:Procurement Executive Summit
DESCRIPTION:Informática\, Telecomunicações e TI
URL:https://www.lcaviagens.com.br/eventos/procurement-executive-summit/
LOCATION:WTC – World Trade Center São Paulo\, São Paulo\, SP
CATEGORIES:Informática,Telecomunicações e TI
END:VEVENT
BEGIN:VEVENT
DTSTART;TZID=UTC:20260326T000000
DTEND;TZID=UTC:20260327T000000
DTSTAMP:20260423T052009
CREATED:20260417T154506Z
LAST-MODIFIED:20260422T000304Z
UID:996679-1774483200-1774569600@www.lcaviagens.com.br
SUMMARY:DWX+ Data World Xperience
DESCRIPTION:Informática\, Telecomunicações e TI
URL:https://www.lcaviagens.com.br/eventos/dwx-data-world-xperience/
LOCATION:Centrosul – Centro de Convenções de Florianópolis\, Ribeirão Preto\, SP
CATEGORIES:Informática,Telecomunicações e TI
END:VEVENT
BEGIN:VEVENT
DTSTART;TZID=UTC:20260327T000000
DTEND;TZID=UTC:20260327T000000
DTSTAMP:20260423T052009
CREATED:20260417T154536Z
LAST-MODIFIED:20260422T000334Z
UID:996688-1774569600-1774569600@www.lcaviagens.com.br
SUMMARY:SEOcamp Brasil 2026
DESCRIPTION:Informática\, Telecomunicações e TI
URL:https://www.lcaviagens.com.br/eventos/seocamp-brasil-2026/
LOCATION:Espaço Fit Eventos\, São Paulo\, SP
CATEGORIES:Informática,Telecomunicações e TI
END:VEVENT
BEGIN:VEVENT
DTSTART;TZID=UTC:20260328T000000
DTEND;TZID=UTC:20260328T000000
DTSTAMP:20260423T052009
CREATED:20260417T154606Z
LAST-MODIFIED:20260422T000404Z
UID:996697-1774656000-1774656000@www.lcaviagens.com.br
SUMMARY:ExpoTI Roadshow 2026 (Linhares)
DESCRIPTION:Informática\, Telecomunicações e TI
URL:https://www.lcaviagens.com.br/eventos/expoti-roadshow-2026-linhares/
LOCATION:Linhares\, Linhares\, ES
CATEGORIES:Informática,Telecomunicações e TI
END:VEVENT
END:VCALENDAR