BEGIN:VCALENDAR
VERSION:2.0
PRODID:-//LCA  - ECPv6.15.20//NONSGML v1.0//EN
CALSCALE:GREGORIAN
METHOD:PUBLISH
X-ORIGINAL-URL:https://www.lcaviagens.com.br
X-WR-CALDESC:Eventos para LCA 
REFRESH-INTERVAL;VALUE=DURATION:PT1H
X-Robots-Tag:noindex
X-PUBLISHED-TTL:PT1H
BEGIN:VTIMEZONE
TZID:UTC
BEGIN:STANDARD
TZOFFSETFROM:+0000
TZOFFSETTO:+0000
TZNAME:UTC
DTSTART:20250101T000000
END:STANDARD
END:VTIMEZONE
BEGIN:VEVENT
DTSTART;TZID=UTC:20260610T000000
DTEND;TZID=UTC:20260612T000000
DTSTAMP:20260423T101707
CREATED:20260417T222231Z
LAST-MODIFIED:20260422T003934Z
UID:998631-1781049600-1781222400@www.lcaviagens.com.br
SUMMARY:Festival das Cataratas (Festival de Turismo das Cataratas)
DESCRIPTION:Turismo\, Hotéis\, Bares e Restaurantes
URL:https://www.lcaviagens.com.br/eventos/festival-das-cataratas-festival-de-turismo-das-cataratas/
LOCATION:Foz do Iguaçu\, Foz do Iguaçu\, PR
CATEGORIES:Bares e Restaurantes,Hotéis,Turismo
END:VEVENT
BEGIN:VEVENT
DTSTART;TZID=UTC:20260610T000000
DTEND;TZID=UTC:20260612T000000
DTSTAMP:20260423T101707
CREATED:20260417T222231Z
LAST-MODIFIED:20260422T003934Z
UID:998630-1781049600-1781222400@www.lcaviagens.com.br
SUMMARY:Fórum Internacional de Turismo do Iguassu
DESCRIPTION:Turismo\, Hotéis\, Bares e Restaurantes
URL:https://www.lcaviagens.com.br/eventos/forum-internacional-de-turismo-do-iguassu/
LOCATION:Foz do Iguaçu\, Foz do Iguaçu\, PR
CATEGORIES:Bares e Restaurantes,Hotéis,Turismo
END:VEVENT
END:VCALENDAR