BEGIN:VCALENDAR
VERSION:2.0
PRODID:-//LCA  - ECPv6.15.20//NONSGML v1.0//EN
CALSCALE:GREGORIAN
METHOD:PUBLISH
X-WR-CALNAME:LCA 
X-ORIGINAL-URL:https://www.lcaviagens.com.br
X-WR-CALDESC:Eventos para LCA 
REFRESH-INTERVAL;VALUE=DURATION:PT1H
X-Robots-Tag:noindex
X-PUBLISHED-TTL:PT1H
BEGIN:VTIMEZONE
TZID:UTC
BEGIN:STANDARD
TZOFFSETFROM:+0000
TZOFFSETTO:+0000
TZNAME:UTC
DTSTART:20250101T000000
END:STANDARD
END:VTIMEZONE
BEGIN:VEVENT
DTSTART;TZID=UTC:20260925T000000
DTEND;TZID=UTC:20260927T000000
DTSTAMP:20260423T120807
CREATED:20260418T035011Z
LAST-MODIFIED:20260422T011709Z
UID:1001865-1790294400-1790467200@www.lcaviagens.com.br
SUMMARY:CIMTB - Copa Internacional Michelin de Mountain Bike (Conceição do Mato Dentro)
DESCRIPTION:Lazer\, Hobby e Esportes
URL:https://www.lcaviagens.com.br/eventos/cimtb-copa-internacional-michelin-de-mountain-bike-conceicao-do-mato-dentro/
LOCATION:Conceição do Mato Dentro\, Conceição do Mato Dentro\, MG
CATEGORIES:Hobby e Esportes,Lazer
END:VEVENT
BEGIN:VEVENT
DTSTART;TZID=UTC:20260926T000000
DTEND;TZID=UTC:20260927T000000
DTSTAMP:20260423T120807
CREATED:20260418T035026Z
LAST-MODIFIED:20260422T011723Z
UID:1001870-1790380800-1790467200@www.lcaviagens.com.br
SUMMARY:Maratona Serra Negra
DESCRIPTION:Lazer\, Hobby e Esportes
URL:https://www.lcaviagens.com.br/eventos/maratona-serra-negra/
LOCATION:Itamarandiba\, Itamarandiba\, MG
CATEGORIES:Hobby e Esportes,Lazer
END:VEVENT
END:VCALENDAR