BEGIN:VCALENDAR
VERSION:2.0
PRODID:-//LCA  - ECPv6.15.20//NONSGML v1.0//EN
CALSCALE:GREGORIAN
METHOD:PUBLISH
X-WR-CALNAME:LCA 
X-ORIGINAL-URL:https://www.lcaviagens.com.br
X-WR-CALDESC:Eventos para LCA 
REFRESH-INTERVAL;VALUE=DURATION:PT1H
X-Robots-Tag:noindex
X-PUBLISHED-TTL:PT1H
BEGIN:VTIMEZONE
TZID:UTC
BEGIN:STANDARD
TZOFFSETFROM:+0000
TZOFFSETTO:+0000
TZNAME:UTC
DTSTART:20250101T000000
END:STANDARD
END:VTIMEZONE
BEGIN:VEVENT
DTSTART;TZID=UTC:20260909T000000
DTEND;TZID=UTC:20260912T000000
DTSTAMP:20260423T104858
CREATED:20260418T034641Z
LAST-MODIFIED:20260422T011249Z
UID:1001793-1788912000-1789171200@www.lcaviagens.com.br
SUMMARY:FEIPAT - Feira da Patologia das Construções
DESCRIPTION:Lazer\, Hobby e Esportes
URL:https://www.lcaviagens.com.br/eventos/feipat-feira-da-patologia-das-construcoes/
LOCATION:Expo Center Norte\, São Paulo\, SP
CATEGORIES:Hobby e Esportes,Lazer
END:VEVENT
BEGIN:VEVENT
DTSTART;TZID=UTC:20260909T000000
DTEND;TZID=UTC:20260912T000000
DTSTAMP:20260423T104858
CREATED:20260418T034642Z
LAST-MODIFIED:20260422T011250Z
UID:1001795-1788912000-1789171200@www.lcaviagens.com.br
SUMMARY:FESQUA VETRO - Feira Internacional de Esquadrias e Vidros para a Construção Civil
DESCRIPTION:Lazer\, Hobby e Esportes
URL:https://www.lcaviagens.com.br/eventos/fesqua-vetro-feira-internacional-de-esquadrias-e-vidros-para-a-construcao-civil/
LOCATION:São Paulo Expo Exhibition & Convention Center\, São Paulo\, SP
CATEGORIES:Hobby e Esportes,Lazer
END:VEVENT
END:VCALENDAR