BEGIN:VCALENDAR
VERSION:2.0
PRODID:-//LCA  - ECPv6.15.20//NONSGML v1.0//EN
CALSCALE:GREGORIAN
METHOD:PUBLISH
X-ORIGINAL-URL:https://www.lcaviagens.com.br
X-WR-CALDESC:Eventos para LCA 
REFRESH-INTERVAL;VALUE=DURATION:PT1H
X-Robots-Tag:noindex
X-PUBLISHED-TTL:PT1H
BEGIN:VTIMEZONE
TZID:UTC
BEGIN:STANDARD
TZOFFSETFROM:+0000
TZOFFSETTO:+0000
TZNAME:UTC
DTSTART:20250101T000000
END:STANDARD
END:VTIMEZONE
BEGIN:VEVENT
DTSTART;TZID=UTC:20260903T000000
DTEND;TZID=UTC:20260905T000000
DTSTAMP:20260423T094717
CREATED:20260418T034456Z
LAST-MODIFIED:20260422T011104Z
UID:1001758-1788393600-1788566400@www.lcaviagens.com.br
SUMMARY:Dr. Move Experience (Setembro) x
DESCRIPTION:Lazer\, Hobby e Esportes
URL:https://www.lcaviagens.com.br/eventos/dr-move-experience-setembro-x/
LOCATION:Royal Palm Plaza Resort\, Campinas\, SP
CATEGORIES:Hobby e Esportes,Lazer
END:VEVENT
END:VCALENDAR