BEGIN:VCALENDAR
VERSION:2.0
PRODID:-//LCA  - ECPv6.15.20//NONSGML v1.0//EN
CALSCALE:GREGORIAN
METHOD:PUBLISH
X-WR-CALNAME:LCA 
X-ORIGINAL-URL:https://www.lcaviagens.com.br
X-WR-CALDESC:Eventos para LCA 
REFRESH-INTERVAL;VALUE=DURATION:PT1H
X-Robots-Tag:noindex
X-PUBLISHED-TTL:PT1H
BEGIN:VTIMEZONE
TZID:UTC
BEGIN:STANDARD
TZOFFSETFROM:+0000
TZOFFSETTO:+0000
TZNAME:UTC
DTSTART:20250101T000000
END:STANDARD
END:VTIMEZONE
BEGIN:VEVENT
DTSTART;TZID=UTC:20260701T000000
DTEND;TZID=UTC:20260705T000000
DTSTAMP:20260423T065801
CREATED:20260417T222628Z
LAST-MODIFIED:20260422T004919Z
UID:998874-1782864000-1783209600@www.lcaviagens.com.br
SUMMARY:FIPe - Festival Internacional de Pesca Esportiva
DESCRIPTION:Lazer\, Hobby e Esportes
URL:https://www.lcaviagens.com.br/eventos/fipe-festival-internacional-de-pesca-esportiva/
LOCATION:Rio Paraguai / Centro de Exposições de Cáceres\, Cáceres\, MT
CATEGORIES:Hobby e Esportes,Lazer
END:VEVENT
BEGIN:VEVENT
DTSTART;TZID=UTC:20260703T000000
DTEND;TZID=UTC:20260706T000000
DTSTAMP:20260423T065801
CREATED:20260417T222648Z
LAST-MODIFIED:20260422T005005Z
UID:998889-1783036800-1783296000@www.lcaviagens.com.br
SUMMARY:Anime Friends 2026
DESCRIPTION:Lazer\, Hobby e Esportes
URL:https://www.lcaviagens.com.br/eventos/anime-friends-2026/
LOCATION:Distrito Anhembi\, São Paulo\, SP
CATEGORIES:Hobby e Esportes,Lazer
END:VEVENT
END:VCALENDAR