BEGIN:VCALENDAR
VERSION:2.0
PRODID:-//LCA  - ECPv6.15.20//NONSGML v1.0//EN
CALSCALE:GREGORIAN
METHOD:PUBLISH
X-ORIGINAL-URL:https://www.lcaviagens.com.br
X-WR-CALDESC:Eventos para LCA 
REFRESH-INTERVAL;VALUE=DURATION:PT1H
X-Robots-Tag:noindex
X-PUBLISHED-TTL:PT1H
BEGIN:VTIMEZONE
TZID:UTC
BEGIN:STANDARD
TZOFFSETFROM:+0000
TZOFFSETTO:+0000
TZNAME:UTC
DTSTART:20250101T000000
END:STANDARD
END:VTIMEZONE
BEGIN:VEVENT
DTSTART;TZID=UTC:20260903T000000
DTEND;TZID=UTC:20260905T000000
DTSTAMP:20260423T104239
CREATED:20260418T034456Z
LAST-MODIFIED:20260422T011104Z
UID:1001758-1788393600-1788566400@www.lcaviagens.com.br
SUMMARY:Dr. Move Experience (Setembro) x
DESCRIPTION:Lazer\, Hobby e Esportes
URL:https://www.lcaviagens.com.br/eventos/dr-move-experience-setembro-x/
LOCATION:Royal Palm Plaza Resort\, Campinas\, SP
CATEGORIES:Hobby e Esportes,Lazer
END:VEVENT
BEGIN:VEVENT
DTSTART;TZID=UTC:20260905T000000
DTEND;TZID=UTC:20260905T000000
DTSTAMP:20260423T104239
CREATED:20260418T034556Z
LAST-MODIFIED:20260422T011205Z
UID:1001778-1788566400-1788566400@www.lcaviagens.com.br
SUMMARY:Musclecontest Ultimate (IFBB Pro League Classic Physique) (Curitiba)
DESCRIPTION:Lazer\, Hobby e Esportes
URL:https://www.lcaviagens.com.br/eventos/musclecontest-ultimate-ifbb-pro-league-classic-physique-curitiba/
LOCATION:Espaço Torres\, Curitiba\, PR
CATEGORIES:Hobby e Esportes,Lazer
END:VEVENT
BEGIN:VEVENT
DTSTART;TZID=UTC:20260905T000000
DTEND;TZID=UTC:20260905T000000
DTSTAMP:20260423T104239
CREATED:20260418T034556Z
LAST-MODIFIED:20260422T011205Z
UID:1001779-1788566400-1788566400@www.lcaviagens.com.br
SUMMARY:NPC Worldwide Musclecontest (Paulínia)
DESCRIPTION:Lazer\, Hobby e Esportes
URL:https://www.lcaviagens.com.br/eventos/npc-worldwide-musclecontest-paulinia/
LOCATION:Paulínia\, Paulínia\, SP
CATEGORIES:Hobby e Esportes,Lazer
END:VEVENT
BEGIN:VEVENT
DTSTART;TZID=UTC:20260906T000000
DTEND;TZID=UTC:20260906T000000
DTSTAMP:20260423T104239
CREATED:20260418T034556Z
LAST-MODIFIED:20260422T011205Z
UID:1001781-1788652800-1788652800@www.lcaviagens.com.br
SUMMARY:Live! Run XP (Campina Grande)
DESCRIPTION:Lazer\, Hobby e Esportes
URL:https://www.lcaviagens.com.br/eventos/live-run-xp-campina-grande/
LOCATION:Campina Grande\, Campina Grande\, PB
CATEGORIES:Hobby e Esportes,Lazer
END:VEVENT
BEGIN:VEVENT
DTSTART;TZID=UTC:20260906T000000
DTEND;TZID=UTC:20260906T000000
DTSTAMP:20260423T104239
CREATED:20260418T034556Z
LAST-MODIFIED:20260422T011205Z
UID:1001782-1788652800-1788652800@www.lcaviagens.com.br
SUMMARY:Live! Run XP (Uberlândia)
DESCRIPTION:Lazer\, Hobby e Esportes
URL:https://www.lcaviagens.com.br/eventos/live-run-xp-uberlandia/
LOCATION:Uberlândia\, Uberlândia\, MG
CATEGORIES:Hobby e Esportes,Lazer
END:VEVENT
BEGIN:VEVENT
DTSTART;TZID=UTC:20260906T000000
DTEND;TZID=UTC:20260906T000000
DTSTAMP:20260423T104239
CREATED:20260418T034611Z
LAST-MODIFIED:20260422T011219Z
UID:1001783-1788652800-1788652800@www.lcaviagens.com.br
SUMMARY:NPC Worldwide Musclecontest (Maceió)
DESCRIPTION:Lazer\, Hobby e Esportes
URL:https://www.lcaviagens.com.br/eventos/npc-worldwide-musclecontest-maceio/
LOCATION:Maceió\, Maceió\, AL
CATEGORIES:Hobby e Esportes,Lazer
END:VEVENT
BEGIN:VEVENT
DTSTART;TZID=UTC:20260909T000000
DTEND;TZID=UTC:20260912T000000
DTSTAMP:20260423T104239
CREATED:20260418T034641Z
LAST-MODIFIED:20260422T011249Z
UID:1001793-1788912000-1789171200@www.lcaviagens.com.br
SUMMARY:FEIPAT - Feira da Patologia das Construções
DESCRIPTION:Lazer\, Hobby e Esportes
URL:https://www.lcaviagens.com.br/eventos/feipat-feira-da-patologia-das-construcoes/
LOCATION:Expo Center Norte\, São Paulo\, SP
CATEGORIES:Hobby e Esportes,Lazer
END:VEVENT
BEGIN:VEVENT
DTSTART;TZID=UTC:20260909T000000
DTEND;TZID=UTC:20260912T000000
DTSTAMP:20260423T104239
CREATED:20260418T034642Z
LAST-MODIFIED:20260422T011250Z
UID:1001795-1788912000-1789171200@www.lcaviagens.com.br
SUMMARY:FESQUA VETRO - Feira Internacional de Esquadrias e Vidros para a Construção Civil
DESCRIPTION:Lazer\, Hobby e Esportes
URL:https://www.lcaviagens.com.br/eventos/fesqua-vetro-feira-internacional-de-esquadrias-e-vidros-para-a-construcao-civil/
LOCATION:São Paulo Expo Exhibition & Convention Center\, São Paulo\, SP
CATEGORIES:Hobby e Esportes,Lazer
END:VEVENT
BEGIN:VEVENT
DTSTART;TZID=UTC:20260912T000000
DTEND;TZID=UTC:20260912T000000
DTSTAMP:20260423T104239
CREATED:20260418T034656Z
LAST-MODIFIED:20260422T011304Z
UID:1001799-1789171200-1789171200@www.lcaviagens.com.br
SUMMARY:NPC Worldwide Musclecontest (Limeira)
DESCRIPTION:Lazer\, Hobby e Esportes
URL:https://www.lcaviagens.com.br/eventos/npc-worldwide-musclecontest-limeira/
LOCATION:Limeira\, Limeira\, SP
CATEGORIES:Hobby e Esportes,Lazer
END:VEVENT
BEGIN:VEVENT
DTSTART;TZID=UTC:20260912T000000
DTEND;TZID=UTC:20260912T000000
DTSTAMP:20260423T104239
CREATED:20260418T034656Z
LAST-MODIFIED:20260422T011304Z
UID:1001800-1789171200-1789171200@www.lcaviagens.com.br
SUMMARY:NPC Worldwide Musclecontest (Ipiranga)
DESCRIPTION:Lazer\, Hobby e Esportes
URL:https://www.lcaviagens.com.br/eventos/npc-worldwide-musclecontest-ipiranga/
LOCATION:Clube Círculo Militar de São Paulo\, São Paulo\, SP
CATEGORIES:Hobby e Esportes,Lazer
END:VEVENT
BEGIN:VEVENT
DTSTART;TZID=UTC:20260913T000000
DTEND;TZID=UTC:20260913T000000
DTSTAMP:20260423T104239
CREATED:20260418T034657Z
LAST-MODIFIED:20260422T011304Z
UID:1001801-1789257600-1789257600@www.lcaviagens.com.br
SUMMARY:Live! Run XP (São José dos Campos)
DESCRIPTION:Lazer\, Hobby e Esportes
URL:https://www.lcaviagens.com.br/eventos/live-run-xp-sao-jose-dos-campos/
LOCATION:São José dos Campos\, São José dos Campos\, SP
CATEGORIES:Hobby e Esportes,Lazer
END:VEVENT
BEGIN:VEVENT
DTSTART;TZID=UTC:20260913T000000
DTEND;TZID=UTC:20260913T000000
DTSTAMP:20260423T104239
CREATED:20260418T034657Z
LAST-MODIFIED:20260422T011304Z
UID:1001802-1789257600-1789257600@www.lcaviagens.com.br
SUMMARY:Live! Run XP (Londrina)
DESCRIPTION:Lazer\, Hobby e Esportes
URL:https://www.lcaviagens.com.br/eventos/live-run-xp-londrina/
LOCATION:Londrina\, Londrina\, PR
CATEGORIES:Hobby e Esportes,Lazer
END:VEVENT
BEGIN:VEVENT
DTSTART;TZID=UTC:20260913T000000
DTEND;TZID=UTC:20260913T000000
DTSTAMP:20260423T104239
CREATED:20260418T034711Z
LAST-MODIFIED:20260422T011319Z
UID:1001803-1789257600-1789257600@www.lcaviagens.com.br
SUMMARY:Live! Run XP (São Paulo) (Setembro)
DESCRIPTION:Lazer\, Hobby e Esportes
URL:https://www.lcaviagens.com.br/eventos/live-run-xp-sao-paulo-setembro/
LOCATION:São José dos Campos\, São José dos Campos\, SP
CATEGORIES:Hobby e Esportes,Lazer
END:VEVENT
BEGIN:VEVENT
DTSTART;TZID=UTC:20260919T000000
DTEND;TZID=UTC:20260919T000000
DTSTAMP:20260423T104239
CREATED:20260418T034841Z
LAST-MODIFIED:20260422T011545Z
UID:1001834-1789776000-1789776000@www.lcaviagens.com.br
SUMMARY:NPC Worldwide Musclecontest (Jundiaí)
DESCRIPTION:Lazer\, Hobby e Esportes
URL:https://www.lcaviagens.com.br/eventos/npc-worldwide-musclecontest-jundiai/
LOCATION:Clube Uirapuru\, Jundiaí\, SP
CATEGORIES:Hobby e Esportes,Lazer
END:VEVENT
BEGIN:VEVENT
DTSTART;TZID=UTC:20260919T000000
DTEND;TZID=UTC:20260919T000000
DTSTAMP:20260423T104239
CREATED:20260418T034841Z
LAST-MODIFIED:20260422T011545Z
UID:1001835-1789776000-1789776000@www.lcaviagens.com.br
SUMMARY:NPC Worldwide Musclecontest (Vila Velha)
DESCRIPTION:Lazer\, Hobby e Esportes
URL:https://www.lcaviagens.com.br/eventos/npc-worldwide-musclecontest-vila-velha/
LOCATION:Sesc – Centro Esportivo de Vila Velha\, Vila Velha\, ES
CATEGORIES:Hobby e Esportes,Lazer
END:VEVENT
BEGIN:VEVENT
DTSTART;TZID=UTC:20260920T000000
DTEND;TZID=UTC:20260920T000000
DTSTAMP:20260423T104239
CREATED:20260418T034842Z
LAST-MODIFIED:20260422T011545Z
UID:1001836-1789862400-1789862400@www.lcaviagens.com.br
SUMMARY:Ironman (São Paulo)
DESCRIPTION:Lazer\, Hobby e Esportes
URL:https://www.lcaviagens.com.br/eventos/ironman-sao-paulo/
LOCATION:Universidade de São Paulo (USP)\, São Paulo\, SP
CATEGORIES:Hobby e Esportes,Lazer
END:VEVENT
BEGIN:VEVENT
DTSTART;TZID=UTC:20260925T000000
DTEND;TZID=UTC:20260927T000000
DTSTAMP:20260423T104239
CREATED:20260418T035011Z
LAST-MODIFIED:20260422T011709Z
UID:1001865-1790294400-1790467200@www.lcaviagens.com.br
SUMMARY:CIMTB - Copa Internacional Michelin de Mountain Bike (Conceição do Mato Dentro)
DESCRIPTION:Lazer\, Hobby e Esportes
URL:https://www.lcaviagens.com.br/eventos/cimtb-copa-internacional-michelin-de-mountain-bike-conceicao-do-mato-dentro/
LOCATION:Conceição do Mato Dentro\, Conceição do Mato Dentro\, MG
CATEGORIES:Hobby e Esportes,Lazer
END:VEVENT
BEGIN:VEVENT
DTSTART;TZID=UTC:20260926T000000
DTEND;TZID=UTC:20260926T000000
DTSTAMP:20260423T104239
CREATED:20260418T035012Z
LAST-MODIFIED:20260422T011709Z
UID:1001866-1790380800-1790380800@www.lcaviagens.com.br
SUMMARY:NPC Worldwide Musclecontest Brazil (Campo Grande)
DESCRIPTION:Lazer\, Hobby e Esportes
URL:https://www.lcaviagens.com.br/eventos/npc-worldwide-musclecontest-brazil-campo-grande/
LOCATION:Clube Estoril\, Campo Grande\, MS
CATEGORIES:Hobby e Esportes,Lazer
END:VEVENT
BEGIN:VEVENT
DTSTART;TZID=UTC:20260926T000000
DTEND;TZID=UTC:20260926T000000
DTSTAMP:20260423T104239
CREATED:20260418T035026Z
LAST-MODIFIED:20260422T011723Z
UID:1001868-1790380800-1790380800@www.lcaviagens.com.br
SUMMARY:NPC Worldwide Musclecontest Rio Pro Naturals (Rio de Janeiro)
DESCRIPTION:Lazer\, Hobby e Esportes
URL:https://www.lcaviagens.com.br/eventos/npc-worldwide-musclecontest-rio-pro-naturals-rio-de-janeiro/
LOCATION:Ribalta Hospitalidade\, Rio de Janeiro\, RJ
CATEGORIES:Hobby e Esportes,Lazer
END:VEVENT
BEGIN:VEVENT
DTSTART;TZID=UTC:20260926T000000
DTEND;TZID=UTC:20260926T000000
DTSTAMP:20260423T104239
CREATED:20260418T035026Z
LAST-MODIFIED:20260422T011723Z
UID:1001869-1790380800-1790380800@www.lcaviagens.com.br
SUMMARY:NPC Worldwide Musclecontest (São Carlos)
DESCRIPTION:Lazer\, Hobby e Esportes
URL:https://www.lcaviagens.com.br/eventos/npc-worldwide-musclecontest-sao-carlos/
LOCATION:Oasis Eventos\, São Carlos\, SP
CATEGORIES:Hobby e Esportes,Lazer
END:VEVENT
BEGIN:VEVENT
DTSTART;TZID=UTC:20260926T000000
DTEND;TZID=UTC:20260927T000000
DTSTAMP:20260423T104239
CREATED:20260418T035026Z
LAST-MODIFIED:20260422T011723Z
UID:1001870-1790380800-1790467200@www.lcaviagens.com.br
SUMMARY:Maratona Serra Negra
DESCRIPTION:Lazer\, Hobby e Esportes
URL:https://www.lcaviagens.com.br/eventos/maratona-serra-negra/
LOCATION:Itamarandiba\, Itamarandiba\, MG
CATEGORIES:Hobby e Esportes,Lazer
END:VEVENT
BEGIN:VEVENT
DTSTART;TZID=UTC:20260927T000000
DTEND;TZID=UTC:20260927T000000
DTSTAMP:20260423T104239
CREATED:20260418T035027Z
LAST-MODIFIED:20260422T011724Z
UID:1001872-1790467200-1790467200@www.lcaviagens.com.br
SUMMARY:Live! Run XP (Jaraguá do Sul)
DESCRIPTION:Lazer\, Hobby e Esportes
URL:https://www.lcaviagens.com.br/eventos/live-run-xp-jaragua-do-sul/
LOCATION:Jaraguá do Sul\, Jaraguá do Sul\, SC
CATEGORIES:Hobby e Esportes,Lazer
END:VEVENT
BEGIN:VEVENT
DTSTART;TZID=UTC:20260927T000000
DTEND;TZID=UTC:20260927T000000
DTSTAMP:20260423T104239
CREATED:20260418T035041Z
LAST-MODIFIED:20260422T011739Z
UID:1001873-1790467200-1790467200@www.lcaviagens.com.br
SUMMARY:Live! Run XP (Santo André)
DESCRIPTION:Lazer\, Hobby e Esportes
URL:https://www.lcaviagens.com.br/eventos/live-run-xp-santo-andre/
LOCATION:Santo André\, Santo André\, SP
CATEGORIES:Hobby e Esportes,Lazer
END:VEVENT
END:VCALENDAR