BEGIN:VCALENDAR
VERSION:2.0
PRODID:-//LCA  - ECPv6.15.20//NONSGML v1.0//EN
CALSCALE:GREGORIAN
METHOD:PUBLISH
X-ORIGINAL-URL:https://www.lcaviagens.com.br
X-WR-CALDESC:Eventos para LCA 
REFRESH-INTERVAL;VALUE=DURATION:PT1H
X-Robots-Tag:noindex
X-PUBLISHED-TTL:PT1H
BEGIN:VTIMEZONE
TZID:UTC
BEGIN:STANDARD
TZOFFSETFROM:+0000
TZOFFSETTO:+0000
TZNAME:UTC
DTSTART:20250101T000000
END:STANDARD
END:VTIMEZONE
BEGIN:VEVENT
DTSTART;TZID=UTC:20260730T000000
DTEND;TZID=UTC:20260802T000000
DTSTAMP:20260423T065220
CREATED:20260417T222918Z
LAST-MODIFIED:20260422T005605Z
UID:999031-1785369600-1785628800@www.lcaviagens.com.br
SUMMARY:Poços Classic Car 2026
DESCRIPTION:Lazer\, Hobby e Esportes
URL:https://www.lcaviagens.com.br/eventos/pocos-classic-car-2026/
LOCATION:Parque José Affonso Junqueira\, Poços de Caldas\, MG
CATEGORIES:Hobby e Esportes,Lazer
END:VEVENT
BEGIN:VEVENT
DTSTART;TZID=UTC:20260802T000000
DTEND;TZID=UTC:20260802T000000
DTSTAMP:20260423T065220
CREATED:20260417T223036Z
LAST-MODIFIED:20260422T005935Z
UID:999146-1785628800-1785628800@www.lcaviagens.com.br
SUMMARY:Live! Run XP (Brasília) (Agosto)
DESCRIPTION:Lazer\, Hobby e Esportes
URL:https://www.lcaviagens.com.br/eventos/live-run-xp-brasilia-agosto/
LOCATION:Brasília\, Brasília\, DF
CATEGORIES:Hobby e Esportes,Lazer
END:VEVENT
BEGIN:VEVENT
DTSTART;TZID=UTC:20260808T000000
DTEND;TZID=UTC:20260808T000000
DTSTAMP:20260423T065220
CREATED:20260417T223120Z
LAST-MODIFIED:20260422T010134Z
UID:999205-1786147200-1786147200@www.lcaviagens.com.br
SUMMARY:NPC Worldwide Musclecontest Muscleworld (Campinas)
DESCRIPTION:Lazer\, Hobby e Esportes
URL:https://www.lcaviagens.com.br/eventos/npc-worldwide-musclecontest-muscleworld-campinas/
LOCATION:Expo Boulevard Iguatemi\, Campinas\, SP
CATEGORIES:Hobby e Esportes,Lazer
END:VEVENT
BEGIN:VEVENT
DTSTART;TZID=UTC:20260808T000000
DTEND;TZID=UTC:20260808T000000
DTSTAMP:20260423T065220
CREATED:20260417T223120Z
LAST-MODIFIED:20260422T010134Z
UID:999206-1786147200-1786147200@www.lcaviagens.com.br
SUMMARY:NPC Worldwide Musclecontest Muscleworld Naturals (Campinas)
DESCRIPTION:Lazer\, Hobby e Esportes
URL:https://www.lcaviagens.com.br/eventos/npc-worldwide-musclecontest-muscleworld-naturals-campinas/
LOCATION:Expo Boulevard Iguatemi\, Campinas\, SP
CATEGORIES:Hobby e Esportes,Lazer
END:VEVENT
BEGIN:VEVENT
DTSTART;TZID=UTC:20260809T000000
DTEND;TZID=UTC:20260809T000000
DTSTAMP:20260423T065220
CREATED:20260417T223121Z
LAST-MODIFIED:20260422T010134Z
UID:999207-1786233600-1786233600@www.lcaviagens.com.br
SUMMARY:NPC Worldwide Musclecontest (Copa Oeste)
DESCRIPTION:Lazer\, Hobby e Esportes
URL:https://www.lcaviagens.com.br/eventos/npc-worldwide-musclecontest-copa-oeste/
LOCATION:Black Cap Eventos\, Cascavel\, PR
CATEGORIES:Hobby e Esportes,Lazer
END:VEVENT
BEGIN:VEVENT
DTSTART;TZID=UTC:20260809T000000
DTEND;TZID=UTC:20260809T000000
DTSTAMP:20260423T065220
CREATED:20260417T223127Z
LAST-MODIFIED:20260422T010150Z
UID:999213-1786233600-1786233600@www.lcaviagens.com.br
SUMMARY:NPC Worldwide Musclecontest (Ribeirão Preto)
DESCRIPTION:Lazer\, Hobby e Esportes
URL:https://www.lcaviagens.com.br/eventos/npc-worldwide-musclecontest-ribeirao-preto/
LOCATION:Cenacon\, Ribeirão Preto\, SP
CATEGORIES:Hobby e Esportes,Lazer
END:VEVENT
BEGIN:VEVENT
DTSTART;TZID=UTC:20260809T000000
DTEND;TZID=UTC:20260809T000000
DTSTAMP:20260423T065220
CREATED:20260417T223127Z
LAST-MODIFIED:20260422T010150Z
UID:999214-1786233600-1786233600@www.lcaviagens.com.br
SUMMARY:Ironman (Rio de Janeiro)
DESCRIPTION:Lazer\, Hobby e Esportes
URL:https://www.lcaviagens.com.br/eventos/ironman-rio-de-janeiro/
LOCATION:Marina da Glória\, Rio de Janeiro\, RJ
CATEGORIES:Hobby e Esportes,Lazer
END:VEVENT
BEGIN:VEVENT
DTSTART;TZID=UTC:20260811T000000
DTEND;TZID=UTC:20260814T000000
DTSTAMP:20260423T065220
CREATED:20260417T223135Z
LAST-MODIFIED:20260422T010220Z
UID:999235-1786406400-1786665600@www.lcaviagens.com.br
SUMMARY:EXPOLAZER & OUTDOOR LIVING 2025
DESCRIPTION:Lazer\, Hobby e Esportes
URL:https://www.lcaviagens.com.br/eventos/expolazer-outdoor-living-2025/
LOCATION:Distrito Anhembi\, São Paulo\, SP
CATEGORIES:Hobby e Esportes,Lazer
END:VEVENT
BEGIN:VEVENT
DTSTART;TZID=UTC:20260813T000000
DTEND;TZID=UTC:20260813T000000
DTSTAMP:20260423T065220
CREATED:20260417T223158Z
LAST-MODIFIED:20260422T010319Z
UID:999275-1786579200-1786579200@www.lcaviagens.com.br
SUMMARY:G&M Eventos Brasil 2026
DESCRIPTION:Lazer\, Hobby e Esportes
URL:https://www.lcaviagens.com.br/eventos/gm-eventos-brasil-2026/
LOCATION:São Paulo\, São Paulo\, SP
CATEGORIES:Hobby e Esportes,Lazer
END:VEVENT
BEGIN:VEVENT
DTSTART;TZID=UTC:20260815T000000
DTEND;TZID=UTC:20260815T000000
DTSTAMP:20260423T065220
CREATED:20260417T223207Z
LAST-MODIFIED:20260422T010335Z
UID:999287-1786752000-1786752000@www.lcaviagens.com.br
SUMMARY:NPC Worldwide Musclecontest (Paulista)
DESCRIPTION:Lazer\, Hobby e Esportes
URL:https://www.lcaviagens.com.br/eventos/npc-worldwide-musclecontest-paulista/
LOCATION:Clube Círculo Militar\, São Paulo\, SP
CATEGORIES:Hobby e Esportes,Lazer
END:VEVENT
BEGIN:VEVENT
DTSTART;TZID=UTC:20260815T000000
DTEND;TZID=UTC:20260815T000000
DTSTAMP:20260423T065220
CREATED:20260417T223212Z
LAST-MODIFIED:20260422T010349Z
UID:999293-1786752000-1786752000@www.lcaviagens.com.br
SUMMARY:NPC Worldwide Musclecontest (Caruaru)
DESCRIPTION:Lazer\, Hobby e Esportes
URL:https://www.lcaviagens.com.br/eventos/npc-worldwide-musclecontest-caruaru/
LOCATION:Buffet Renato Machado\, Caruaru\, PE
CATEGORIES:Hobby e Esportes,Lazer
END:VEVENT
BEGIN:VEVENT
DTSTART;TZID=UTC:20260816T000000
DTEND;TZID=UTC:20260816T000000
DTSTAMP:20260423T065220
CREATED:20260417T223213Z
LAST-MODIFIED:20260422T010350Z
UID:999296-1786838400-1786838400@www.lcaviagens.com.br
SUMMARY:Live! Run XP (São Paulo) (Agosto)
DESCRIPTION:Lazer\, Hobby e Esportes
URL:https://www.lcaviagens.com.br/eventos/live-run-xp-sao-paulo-agosto/
LOCATION:São Paulo\, São Paulo\, SP
CATEGORIES:Hobby e Esportes,Lazer
END:VEVENT
BEGIN:VEVENT
DTSTART;TZID=UTC:20260816T000000
DTEND;TZID=UTC:20260816T000000
DTSTAMP:20260423T065220
CREATED:20260417T223213Z
LAST-MODIFIED:20260422T010350Z
UID:999297-1786838400-1786838400@www.lcaviagens.com.br
SUMMARY:Live! Run XP (Uberaba)
DESCRIPTION:Lazer\, Hobby e Esportes
URL:https://www.lcaviagens.com.br/eventos/live-run-xp-uberaba/
LOCATION:Uberaba\, Uberaba\, MG
CATEGORIES:Hobby e Esportes,Lazer
END:VEVENT
BEGIN:VEVENT
DTSTART;TZID=UTC:20260822T000000
DTEND;TZID=UTC:20260822T000000
DTSTAMP:20260423T065220
CREATED:20260417T223243Z
LAST-MODIFIED:20260422T010505Z
UID:999344-1787356800-1787356800@www.lcaviagens.com.br
SUMMARY:NPC Worldwide Musclecontest (Itu)
DESCRIPTION:Lazer\, Hobby e Esportes
URL:https://www.lcaviagens.com.br/eventos/npc-worldwide-musclecontest-itu/
LOCATION:Itu\, Itu\, SP
CATEGORIES:Hobby e Esportes,Lazer
END:VEVENT
BEGIN:VEVENT
DTSTART;TZID=UTC:20260822T000000
DTEND;TZID=UTC:20260823T000000
DTSTAMP:20260423T065220
CREATED:20260417T223243Z
LAST-MODIFIED:20260422T010505Z
UID:999345-1787356800-1787443200@www.lcaviagens.com.br
SUMMARY:NPC Worldwide Musclecontest (Nordeste Fit Expo)
DESCRIPTION:Lazer\, Hobby e Esportes
URL:https://www.lcaviagens.com.br/eventos/npc-worldwide-musclecontest-nordeste-fit-expo/
LOCATION:Centro de Eventos do Ceará\, Fortaleza\, CE
CATEGORIES:Hobby e Esportes,Lazer
END:VEVENT
BEGIN:VEVENT
DTSTART;TZID=UTC:20260824T000000
DTEND;TZID=UTC:20260825T000000
DTSTAMP:20260423T065220
CREATED:20260417T223247Z
LAST-MODIFIED:20260422T010520Z
UID:999354-1787529600-1787616000@www.lcaviagens.com.br
SUMMARY:CGS Recife 2026
DESCRIPTION:Lazer\, Hobby e Esportes
URL:https://www.lcaviagens.com.br/eventos/cgs-recife-2026/
LOCATION:Recife Expo Center\, Recife\, PE
CATEGORIES:Hobby e Esportes,Lazer
END:VEVENT
BEGIN:VEVENT
DTSTART;TZID=UTC:20260828T000000
DTEND;TZID=UTC:20260830T000000
DTSTAMP:20260423T065220
CREATED:20260417T223317Z
LAST-MODIFIED:20260422T010649Z
UID:999414-1787875200-1788048000@www.lcaviagens.com.br
SUMMARY:NPC Worldwide Musclecontest (São Paulo Musclefest)
DESCRIPTION:Lazer\, Hobby e Esportes
URL:https://www.lcaviagens.com.br/eventos/npc-worldwide-musclecontest-sao-paulo-musclefest/
LOCATION:Ginásio do Ibirapuera\, São Paulo\, SP
CATEGORIES:Hobby e Esportes,Lazer
END:VEVENT
BEGIN:VEVENT
DTSTART;TZID=UTC:20260829T000000
DTEND;TZID=UTC:20260829T000000
DTSTAMP:20260423T065220
CREATED:20260417T223321Z
LAST-MODIFIED:20260422T010705Z
UID:999421-1787961600-1787961600@www.lcaviagens.com.br
SUMMARY:NPC Worldwide Musclecontest Brazil (Goiânia)
DESCRIPTION:Lazer\, Hobby e Esportes
URL:https://www.lcaviagens.com.br/eventos/npc-worldwide-musclecontest-brazil-goiania/
LOCATION:Teatro Madre Esperança Garrido\, Goiânia\, GO
CATEGORIES:Hobby e Esportes,Lazer
END:VEVENT
BEGIN:VEVENT
DTSTART;TZID=UTC:20260829T000000
DTEND;TZID=UTC:20260830T000000
DTSTAMP:20260423T065220
CREATED:20260417T223321Z
LAST-MODIFIED:20260422T010705Z
UID:999422-1787961600-1788048000@www.lcaviagens.com.br
SUMMARY:Maratona Internacional de Floripa (Maratona de Floripa) (Maratona de Florianópolis)
DESCRIPTION:Lazer\, Hobby e Esportes
URL:https://www.lcaviagens.com.br/eventos/maratona-internacional-de-floripa-maratona-de-floripa-maratona-de-florianopolis/
LOCATION:Florianópolis\, Florianópolis\, SC
CATEGORIES:Hobby e Esportes,Lazer
END:VEVENT
BEGIN:VEVENT
DTSTART;TZID=UTC:20260830T000000
DTEND;TZID=UTC:20260830T000000
DTSTAMP:20260423T065220
CREATED:20260417T223325Z
LAST-MODIFIED:20260422T010719Z
UID:999429-1788048000-1788048000@www.lcaviagens.com.br
SUMMARY:Live! Run XP (Ribeirão Preto) (Agosto)
DESCRIPTION:Lazer\, Hobby e Esportes
URL:https://www.lcaviagens.com.br/eventos/live-run-xp-ribeirao-preto-agosto/
LOCATION:Ribeirão Preto\, Ribeirão Preto\, SP
CATEGORIES:Hobby e Esportes,Lazer
END:VEVENT
BEGIN:VEVENT
DTSTART;TZID=UTC:20260830T000000
DTEND;TZID=UTC:20260830T000000
DTSTAMP:20260423T065220
CREATED:20260417T223325Z
LAST-MODIFIED:20260422T010719Z
UID:999428-1788048000-1788048000@www.lcaviagens.com.br
SUMMARY:NPC Worldwide Musclecontest Brazil (Belo Horizonte)
DESCRIPTION:Lazer\, Hobby e Esportes
URL:https://www.lcaviagens.com.br/eventos/npc-worldwide-musclecontest-brazil-belo-horizonte/
LOCATION:Teatro Sesiminas\, Belo Horizonte\, MG
CATEGORIES:Hobby e Esportes,Lazer
END:VEVENT
END:VCALENDAR