BEGIN:VCALENDAR
VERSION:2.0
PRODID:-//LCA  - ECPv6.15.20//NONSGML v1.0//EN
CALSCALE:GREGORIAN
METHOD:PUBLISH
X-ORIGINAL-URL:https://www.lcaviagens.com.br
X-WR-CALDESC:Eventos para LCA 
REFRESH-INTERVAL;VALUE=DURATION:PT1H
X-Robots-Tag:noindex
X-PUBLISHED-TTL:PT1H
BEGIN:VTIMEZONE
TZID:UTC
BEGIN:STANDARD
TZOFFSETFROM:+0000
TZOFFSETTO:+0000
TZNAME:UTC
DTSTART:20250101T000000
END:STANDARD
END:VTIMEZONE
BEGIN:VEVENT
DTSTART;TZID=UTC:20260701T000000
DTEND;TZID=UTC:20260705T000000
DTSTAMP:20260423T052312
CREATED:20260417T222628Z
LAST-MODIFIED:20260422T004919Z
UID:998874-1782864000-1783209600@www.lcaviagens.com.br
SUMMARY:FIPe - Festival Internacional de Pesca Esportiva
DESCRIPTION:Lazer\, Hobby e Esportes
URL:https://www.lcaviagens.com.br/eventos/fipe-festival-internacional-de-pesca-esportiva/
LOCATION:Rio Paraguai / Centro de Exposições de Cáceres\, Cáceres\, MT
CATEGORIES:Hobby e Esportes,Lazer
END:VEVENT
BEGIN:VEVENT
DTSTART;TZID=UTC:20260703T000000
DTEND;TZID=UTC:20260706T000000
DTSTAMP:20260423T052312
CREATED:20260417T222648Z
LAST-MODIFIED:20260422T005005Z
UID:998889-1783036800-1783296000@www.lcaviagens.com.br
SUMMARY:Anime Friends 2026
DESCRIPTION:Lazer\, Hobby e Esportes
URL:https://www.lcaviagens.com.br/eventos/anime-friends-2026/
LOCATION:Distrito Anhembi\, São Paulo\, SP
CATEGORIES:Hobby e Esportes,Lazer
END:VEVENT
BEGIN:VEVENT
DTSTART;TZID=UTC:20260704T000000
DTEND;TZID=UTC:20260704T000000
DTSTAMP:20260423T052312
CREATED:20260417T222653Z
LAST-MODIFIED:20260422T005019Z
UID:998894-1783123200-1783123200@www.lcaviagens.com.br
SUMMARY:NPC Worldwide Musclecontest Brazil (Cuiabá)
DESCRIPTION:Lazer\, Hobby e Esportes
URL:https://www.lcaviagens.com.br/eventos/npc-worldwide-musclecontest-brazil-cuiaba/
LOCATION:Hotel Fazenda MT\, Cuiabá\, MT
CATEGORIES:Hobby e Esportes,Lazer
END:VEVENT
BEGIN:VEVENT
DTSTART;TZID=UTC:20260704T000000
DTEND;TZID=UTC:20260704T000000
DTSTAMP:20260423T052312
CREATED:20260417T222653Z
LAST-MODIFIED:20260422T005019Z
UID:998895-1783123200-1783123200@www.lcaviagens.com.br
SUMMARY:NPC Worldwide Musclecontest Brazil Last Warrior (São Paulo)
DESCRIPTION:Lazer\, Hobby e Esportes
URL:https://www.lcaviagens.com.br/eventos/npc-worldwide-musclecontest-brazil-last-warrior-sao-paulo/
LOCATION:Clube Círculo Militar\, São Paulo\, SP
CATEGORIES:Hobby e Esportes,Lazer
END:VEVENT
BEGIN:VEVENT
DTSTART;TZID=UTC:20260704T000000
DTEND;TZID=UTC:20260704T000000
DTSTAMP:20260423T052312
CREATED:20260417T222653Z
LAST-MODIFIED:20260422T005019Z
UID:998896-1783123200-1783123200@www.lcaviagens.com.br
SUMMARY:NPC Worldwide Musclecontest Macapá Classic (Macapá)
DESCRIPTION:Lazer\, Hobby e Esportes
URL:https://www.lcaviagens.com.br/eventos/npc-worldwide-musclecontest-macapa-classic-macapa/
LOCATION:Macapá\, Macapá\, AP
CATEGORIES:Hobby e Esportes,Lazer
END:VEVENT
BEGIN:VEVENT
DTSTART;TZID=UTC:20260705T000000
DTEND;TZID=UTC:20260705T000000
DTSTAMP:20260423T052312
CREATED:20260417T222703Z
LAST-MODIFIED:20260422T005034Z
UID:998898-1783209600-1783209600@www.lcaviagens.com.br
SUMMARY:Live! Run XP (Cuiabá)
DESCRIPTION:Lazer\, Hobby e Esportes
URL:https://www.lcaviagens.com.br/eventos/live-run-xp-cuiaba/
LOCATION:Cuiabá\, Cuiabá\, MT
CATEGORIES:Hobby e Esportes,Lazer
END:VEVENT
BEGIN:VEVENT
DTSTART;TZID=UTC:20260705T000000
DTEND;TZID=UTC:20260705T000000
DTSTAMP:20260423T052312
CREATED:20260417T222703Z
LAST-MODIFIED:20260422T005034Z
UID:998899-1783209600-1783209600@www.lcaviagens.com.br
SUMMARY:Live! Run XP (Rio de Janeiro) (Julho)
DESCRIPTION:Lazer\, Hobby e Esportes
URL:https://www.lcaviagens.com.br/eventos/live-run-xp-rio-de-janeiro-julho/
LOCATION:Rio de Janeiro\, Rio de Janeiro\, RJ
CATEGORIES:Hobby e Esportes,Lazer
END:VEVENT
BEGIN:VEVENT
DTSTART;TZID=UTC:20260705T000000
DTEND;TZID=UTC:20260705T000000
DTSTAMP:20260423T052312
CREATED:20260417T222703Z
LAST-MODIFIED:20260422T005034Z
UID:998900-1783209600-1783209600@www.lcaviagens.com.br
SUMMARY:Live! Run XP (Maringá)
DESCRIPTION:Lazer\, Hobby e Esportes
URL:https://www.lcaviagens.com.br/eventos/live-run-xp-maringa/
LOCATION:Maringá\, Maringá\, PR
CATEGORIES:Hobby e Esportes,Lazer
END:VEVENT
BEGIN:VEVENT
DTSTART;TZID=UTC:20260705T000000
DTEND;TZID=UTC:20260705T000000
DTSTAMP:20260423T052312
CREATED:20260417T222703Z
LAST-MODIFIED:20260422T005034Z
UID:998901-1783209600-1783209600@www.lcaviagens.com.br
SUMMARY:Live! Run XP (São José dos Pinhais)
DESCRIPTION:Lazer\, Hobby e Esportes
URL:https://www.lcaviagens.com.br/eventos/live-run-xp-sao-jose-dos-pinhais/
LOCATION:São José dos Pinhais\, São José dos Pinhais\, PR
CATEGORIES:Hobby e Esportes,Lazer
END:VEVENT
BEGIN:VEVENT
DTSTART;TZID=UTC:20260711T000000
DTEND;TZID=UTC:20260711T000000
DTSTAMP:20260423T052312
CREATED:20260417T222728Z
LAST-MODIFIED:20260422T005134Z
UID:998919-1783728000-1783728000@www.lcaviagens.com.br
SUMMARY:NPC Worldwide Musclecontest (Marabá)
DESCRIPTION:Lazer\, Hobby e Esportes
URL:https://www.lcaviagens.com.br/eventos/npc-worldwide-musclecontest-maraba/
LOCATION:Marabá\, Marabá\, PA
CATEGORIES:Hobby e Esportes,Lazer
END:VEVENT
BEGIN:VEVENT
DTSTART;TZID=UTC:20260711T000000
DTEND;TZID=UTC:20260711T000000
DTSTAMP:20260423T052312
CREATED:20260417T222728Z
LAST-MODIFIED:20260422T005134Z
UID:998918-1783728000-1783728000@www.lcaviagens.com.br
SUMMARY:NPC Worldwide Musclecontest (Acre)
DESCRIPTION:Lazer\, Hobby e Esportes
URL:https://www.lcaviagens.com.br/eventos/npc-worldwide-musclecontest-acre/
LOCATION:Rio Branco\, Rio Branco\, AC
CATEGORIES:Hobby e Esportes,Lazer
END:VEVENT
BEGIN:VEVENT
DTSTART;TZID=UTC:20260712T000000
DTEND;TZID=UTC:20260712T000000
DTSTAMP:20260423T052312
CREATED:20260417T222736Z
LAST-MODIFIED:20260422T005149Z
UID:998923-1783814400-1783814400@www.lcaviagens.com.br
SUMMARY:Live! Run XP (Maceió)
DESCRIPTION:Lazer\, Hobby e Esportes
URL:https://www.lcaviagens.com.br/eventos/live-run-xp-maceio/
LOCATION:Maceió\, Maceió\, AL
CATEGORIES:Hobby e Esportes,Lazer
END:VEVENT
BEGIN:VEVENT
DTSTART;TZID=UTC:20260712T000000
DTEND;TZID=UTC:20260712T000000
DTSTAMP:20260423T052312
CREATED:20260417T222736Z
LAST-MODIFIED:20260422T005149Z
UID:998924-1783814400-1783814400@www.lcaviagens.com.br
SUMMARY:Live! Run XP (Joinville)
DESCRIPTION:Lazer\, Hobby e Esportes
URL:https://www.lcaviagens.com.br/eventos/live-run-xp-joinville/
LOCATION:Joinville\, Joinville\, SC
CATEGORIES:Hobby e Esportes,Lazer
END:VEVENT
BEGIN:VEVENT
DTSTART;TZID=UTC:20260712T000000
DTEND;TZID=UTC:20260712T000000
DTSTAMP:20260423T052312
CREATED:20260417T222736Z
LAST-MODIFIED:20260422T005149Z
UID:998925-1783814400-1783814400@www.lcaviagens.com.br
SUMMARY:Live! Run XP (São Paulo) (Julho)
DESCRIPTION:Lazer\, Hobby e Esportes
URL:https://www.lcaviagens.com.br/eventos/live-run-xp-sao-paulo-julho/
LOCATION:São Paulo\, São Paulo\, SP
CATEGORIES:Hobby e Esportes,Lazer
END:VEVENT
BEGIN:VEVENT
DTSTART;TZID=UTC:20260717T000000
DTEND;TZID=UTC:20260719T000000
DTSTAMP:20260423T052312
CREATED:20260417T222803Z
LAST-MODIFIED:20260422T005249Z
UID:998950-1784246400-1784419200@www.lcaviagens.com.br
SUMMARY:NPC Musclecontest Brasil (Curitiba) (Julho)
DESCRIPTION:Lazer\, Hobby e Esportes
URL:https://www.lcaviagens.com.br/eventos/npc-musclecontest-brasil-curitiba-julho/
LOCATION:Centro de Eventos Positivo\, Curitiba\, PR
CATEGORIES:Hobby e Esportes,Lazer
END:VEVENT
BEGIN:VEVENT
DTSTART;TZID=UTC:20260719T000000
DTEND;TZID=UTC:20260719T000000
DTSTAMP:20260423T052312
CREATED:20260417T222812Z
LAST-MODIFIED:20260422T005320Z
UID:998960-1784419200-1784419200@www.lcaviagens.com.br
SUMMARY:Live! Run XP (Ribeirão Preto) (Julho)
DESCRIPTION:Lazer\, Hobby e Esportes
URL:https://www.lcaviagens.com.br/eventos/live-run-xp-ribeirao-preto-julho/
LOCATION:Ribeirão Preto\, Ribeirão Preto\, SP
CATEGORIES:Hobby e Esportes,Lazer
END:VEVENT
BEGIN:VEVENT
DTSTART;TZID=UTC:20260719T000000
DTEND;TZID=UTC:20260719T000000
DTSTAMP:20260423T052312
CREATED:20260417T222812Z
LAST-MODIFIED:20260422T005319Z
UID:998959-1784419200-1784419200@www.lcaviagens.com.br
SUMMARY:Live! Run XP (Vitória)
DESCRIPTION:Lazer\, Hobby e Esportes
URL:https://www.lcaviagens.com.br/eventos/live-run-xp-vitoria/
LOCATION:Vitória\, Vitória\, ES
CATEGORIES:Hobby e Esportes,Lazer
END:VEVENT
BEGIN:VEVENT
DTSTART;TZID=UTC:20260723T000000
DTEND;TZID=UTC:20260801T000000
DTSTAMP:20260423T052312
CREATED:20260417T222838Z
LAST-MODIFIED:20260422T005433Z
UID:998988-1784764800-1785542400@www.lcaviagens.com.br
SUMMARY:CMW - Capital Moto Week
DESCRIPTION:Lazer\, Hobby e Esportes
URL:https://www.lcaviagens.com.br/eventos/cmw-capital-moto-week/
LOCATION:Parque de Exposições da Granja do Torto\, Brasília\, DF
CATEGORIES:Hobby e Esportes,Lazer
END:VEVENT
BEGIN:VEVENT
DTSTART;TZID=UTC:20260724T000000
DTEND;TZID=UTC:20260726T000000
DTSTAMP:20260423T052312
CREATED:20260417T222838Z
LAST-MODIFIED:20260422T005434Z
UID:998989-1784851200-1785024000@www.lcaviagens.com.br
SUMMARY:Retrocon 2026
DESCRIPTION:Lazer\, Hobby e Esportes
URL:https://www.lcaviagens.com.br/eventos/retrocon-2026/
LOCATION:Transamérica Expo Center\, São Paulo\, SP
CATEGORIES:Hobby e Esportes,Lazer
END:VEVENT
BEGIN:VEVENT
DTSTART;TZID=UTC:20260724T000000
DTEND;TZID=UTC:20260801T000000
DTSTAMP:20260423T052312
CREATED:20260417T222838Z
LAST-MODIFIED:20260422T005434Z
UID:998991-1784851200-1785542400@www.lcaviagens.com.br
SUMMARY:SIVI - Semana Internacional de Vela de Ilhabela (Ilhabela Sailing Week)
DESCRIPTION:Lazer\, Hobby e Esportes
URL:https://www.lcaviagens.com.br/eventos/sivi-semana-internacional-de-vela-de-ilhabela-ilhabela-sailing-week/
LOCATION:Yacht Club de Ilhabela\, Ilhabela\, SP
CATEGORIES:Hobby e Esportes,Lazer
END:VEVENT
BEGIN:VEVENT
DTSTART;TZID=UTC:20260725T000000
DTEND;TZID=UTC:20260725T000000
DTSTAMP:20260423T052312
CREATED:20260417T222843Z
LAST-MODIFIED:20260422T005449Z
UID:998996-1784937600-1784937600@www.lcaviagens.com.br
SUMMARY:NPC Worldwide Musclecontest (Petrópolis)
DESCRIPTION:Lazer\, Hobby e Esportes
URL:https://www.lcaviagens.com.br/eventos/npc-worldwide-musclecontest-petropolis/
LOCATION:Petropolitano\, Petrópolis\, RJ
CATEGORIES:Hobby e Esportes,Lazer
END:VEVENT
BEGIN:VEVENT
DTSTART;TZID=UTC:20260725T000000
DTEND;TZID=UTC:20260726T000000
DTSTAMP:20260423T052312
CREATED:20260417T222851Z
LAST-MODIFIED:20260422T005504Z
UID:999003-1784937600-1785024000@www.lcaviagens.com.br
SUMMARY:Maratona do Litoral 2026 x
DESCRIPTION:Lazer\, Hobby e Esportes
URL:https://www.lcaviagens.com.br/eventos/maratona-do-litoral-2026-x/
LOCATION:Matinhos\, Matinhos\, PR
CATEGORIES:Hobby e Esportes,Lazer
END:VEVENT
BEGIN:VEVENT
DTSTART;TZID=UTC:20260726T000000
DTEND;TZID=UTC:20260726T000000
DTSTAMP:20260423T052312
CREATED:20260417T222851Z
LAST-MODIFIED:20260422T005504Z
UID:999006-1785024000-1785024000@www.lcaviagens.com.br
SUMMARY:Live! Run XP (Sorocaba)
DESCRIPTION:Lazer\, Hobby e Esportes
URL:https://www.lcaviagens.com.br/eventos/live-run-xp-sorocaba/
LOCATION:Sorocaba\, Sorocaba\, SP
CATEGORIES:Hobby e Esportes,Lazer
END:VEVENT
BEGIN:VEVENT
DTSTART;TZID=UTC:20260726T000000
DTEND;TZID=UTC:20260726T000000
DTSTAMP:20260423T052312
CREATED:20260417T222851Z
LAST-MODIFIED:20260422T005504Z
UID:999007-1785024000-1785024000@www.lcaviagens.com.br
SUMMARY:SP City Marathon 2026
DESCRIPTION:Lazer\, Hobby e Esportes
URL:https://www.lcaviagens.com.br/eventos/sp-city-marathon-2026/
LOCATION:São Paulo\, São Paulo\, SP
CATEGORIES:Hobby e Esportes,Lazer
END:VEVENT
BEGIN:VEVENT
DTSTART;TZID=UTC:20260729T000000
DTEND;TZID=UTC:20260731T000000
DTSTAMP:20260423T052312
CREATED:20260417T222859Z
LAST-MODIFIED:20260422T005520Z
UID:999012-1785283200-1785456000@www.lcaviagens.com.br
SUMMARY:Dr. Move Experience (Julho) x
DESCRIPTION:Lazer\, Hobby e Esportes
URL:https://www.lcaviagens.com.br/eventos/dr-move-experience-julho-x/
LOCATION:Royal Palm Plaza Resort\, Campinas\, SP
CATEGORIES:Hobby e Esportes,Lazer
END:VEVENT
BEGIN:VEVENT
DTSTART;TZID=UTC:20260730T000000
DTEND;TZID=UTC:20260802T000000
DTSTAMP:20260423T052312
CREATED:20260417T222918Z
LAST-MODIFIED:20260422T005605Z
UID:999031-1785369600-1785628800@www.lcaviagens.com.br
SUMMARY:Poços Classic Car 2026
DESCRIPTION:Lazer\, Hobby e Esportes
URL:https://www.lcaviagens.com.br/eventos/pocos-classic-car-2026/
LOCATION:Parque José Affonso Junqueira\, Poços de Caldas\, MG
CATEGORIES:Hobby e Esportes,Lazer
END:VEVENT
END:VCALENDAR